BEGIN:VCALENDAR
VERSION:2.0
PRODID:-//Murzarella - ECPv6.15.20//NONSGML v1.0//EN
CALSCALE:GREGORIAN
METHOD:PUBLISH
X-ORIGINAL-URL:https://murzarella.de
X-WR-CALDESC:Veranstaltungen für Murzarella
REFRESH-INTERVAL;VALUE=DURATION:PT1H
X-Robots-Tag:noindex
X-PUBLISHED-TTL:PT1H
BEGIN:VTIMEZONE
TZID:Europe/Berlin
BEGIN:DAYLIGHT
TZOFFSETFROM:+0100
TZOFFSETTO:+0200
TZNAME:CEST
DTSTART:20190331T010000
END:DAYLIGHT
BEGIN:STANDARD
TZOFFSETFROM:+0200
TZOFFSETTO:+0100
TZNAME:CET
DTSTART:20191027T010000
END:STANDARD
BEGIN:DAYLIGHT
TZOFFSETFROM:+0100
TZOFFSETTO:+0200
TZNAME:CEST
DTSTART:20200329T010000
END:DAYLIGHT
BEGIN:STANDARD
TZOFFSETFROM:+0200
TZOFFSETTO:+0100
TZNAME:CET
DTSTART:20201025T010000
END:STANDARD
BEGIN:DAYLIGHT
TZOFFSETFROM:+0100
TZOFFSETTO:+0200
TZNAME:CEST
DTSTART:20210328T010000
END:DAYLIGHT
BEGIN:STANDARD
TZOFFSETFROM:+0200
TZOFFSETTO:+0100
TZNAME:CET
DTSTART:20211031T010000
END:STANDARD
END:VTIMEZONE
BEGIN:VEVENT
DTSTART;VALUE=DATE:20200829
DTEND;VALUE=DATE:20200830
DTSTAMP:20260423T110638
CREATED:20200720T224344Z
LAST-MODIFIED:20200720T224344Z
UID:2066-1598659200-1598745599@murzarella.de
SUMMARY:Ausschnitte
DESCRIPTION:
URL: https://tickettune.com/waldstadtsommer 
LOCATION:Park auf der Alexanderhöhe\, 58644 Iserlohn
ATTACH;FMTTYPE=image/jpeg:https://murzarella.de/wp-content/uploads/2017/08/Murzarella-Dudu-II.jpg
END:VEVENT
END:VCALENDAR