BEGIN:VCALENDAR
VERSION:2.0
PRODID:-//Murzarella - ECPv6.15.17.1//NONSGML v1.0//EN
CALSCALE:GREGORIAN
METHOD:PUBLISH
X-WR-CALNAME:Murzarella
X-ORIGINAL-URL:https://murzarella.de
X-WR-CALDESC:Veranstaltungen für Murzarella
REFRESH-INTERVAL;VALUE=DURATION:PT1H
X-Robots-Tag:noindex
X-PUBLISHED-TTL:PT1H
BEGIN:VTIMEZONE
TZID:Europe/Berlin
BEGIN:DAYLIGHT
TZOFFSETFROM:+0100
TZOFFSETTO:+0200
TZNAME:CEST
DTSTART:20250330T010000
END:DAYLIGHT
BEGIN:STANDARD
TZOFFSETFROM:+0200
TZOFFSETTO:+0100
TZNAME:CET
DTSTART:20251026T010000
END:STANDARD
BEGIN:DAYLIGHT
TZOFFSETFROM:+0100
TZOFFSETTO:+0200
TZNAME:CEST
DTSTART:20260329T010000
END:DAYLIGHT
BEGIN:STANDARD
TZOFFSETFROM:+0200
TZOFFSETTO:+0100
TZNAME:CET
DTSTART:20261025T010000
END:STANDARD
BEGIN:DAYLIGHT
TZOFFSETFROM:+0100
TZOFFSETTO:+0200
TZNAME:CEST
DTSTART:20270328T010000
END:DAYLIGHT
BEGIN:STANDARD
TZOFFSETFROM:+0200
TZOFFSETTO:+0100
TZNAME:CET
DTSTART:20271031T010000
END:STANDARD
END:VTIMEZONE
BEGIN:VEVENT
DTSTART;VALUE=DATE:20260614
DTEND;VALUE=DATE:20260615
DTSTAMP:20260420T123957
CREATED:20251112T132415Z
LAST-MODIFIED:20251112T132415Z
UID:4888-1781395200-1781481599@murzarella.de
SUMMARY:Show „Bauchgesänge und andere Ungereimtheiten“
DESCRIPTION:
URL:https://www.ubstadt-weiher.de/freizeit-tourismus/veranstaltungskalender/545/bauchredershow-bauchgesaenge-ua-ungereimtheiten-murzarella
LOCATION:Kelterhaus\, 76698 Ubstadt-Weiher
ATTACH;FMTTYPE=image/jpeg:https://murzarella.de/wp-content/uploads/2017/08/Murzarella-Dudu-II.jpg
END:VEVENT
BEGIN:VEVENT
DTSTART;VALUE=DATE:20260616
DTEND;VALUE=DATE:20260617
DTSTAMP:20260420T123957
CREATED:20260114T220910Z
LAST-MODIFIED:20260114T220910Z
UID:4993-1781568000-1781654399@murzarella.de
SUMMARY:Show Bauchgesänge „Ausschnitte“
DESCRIPTION:
URL:https://tertianum-premiumresidences.de/konstanz/kultur/
LOCATION:Tertianum Konstanz\, 78462 Konstanz
ATTACH;FMTTYPE=image/jpeg:https://murzarella.de/wp-content/uploads/2022/11/Pressebild-Murzarella-Bauchgesaenge-…-ab-in-die-zweite-Runde-rechteckig-webaufloesung.jpg
END:VEVENT
BEGIN:VEVENT
DTSTART;VALUE=DATE:20260625
DTEND;VALUE=DATE:20260626
DTSTAMP:20260420T123957
CREATED:20251112T132618Z
LAST-MODIFIED:20251112T132618Z
UID:4892-1782345600-1782431999@murzarella.de
SUMMARY:Show „Bauchgesänge … ab in die zweite Runde“
DESCRIPTION:
URL:https://www.tamtamkleinkunst.de/?seite=programm
LOCATION:TaM TaM Kleinkunstbühne am Mühlenberg\, 30457 Hannover
ATTACH;FMTTYPE=image/jpeg:https://murzarella.de/wp-content/uploads/2022/11/Pressebild-Murzarella-Bauchgesaenge-…-ab-in-die-zweite-Runde-rechteckig-webaufloesung.jpg
END:VEVENT
BEGIN:VEVENT
DTSTART;VALUE=DATE:20260626
DTEND;VALUE=DATE:20260627
DTSTAMP:20260420T123957
CREATED:20251120T194441Z
LAST-MODIFIED:20251120T194441Z
UID:4904-1782432000-1782518399@murzarella.de
SUMMARY:Show „Bauchgesänge und andere Ungereimtheiten“
DESCRIPTION:
URL:https://www.buk-uchte.de/service/kontakt/
LOCATION:Bürgerhaus\, 31600 Uchte
ATTACH;FMTTYPE=image/jpeg:https://murzarella.de/wp-content/uploads/2017/08/Murzarella-Dudu-II.jpg
END:VEVENT
BEGIN:VEVENT
DTSTART;VALUE=DATE:20260627
DTEND;VALUE=DATE:20260628
DTSTAMP:20260420T123957
CREATED:20250910T150116Z
LAST-MODIFIED:20260104T181638Z
UID:4837-1782518400-1782604799@murzarella.de
SUMMARY:Show „Bauchgesänge – Best of“
DESCRIPTION:
URL:https://www.rosier-event.de/
LOCATION:Dingsteder Krug\, 26209 Hatten
ATTACH;FMTTYPE=image/jpeg:https://murzarella.de/wp-content/uploads/2025/09/Pressebild-Murzarella-Bauchgesaenge-…-Best-of-Quadrat-webaufloesung.jpg
END:VEVENT
BEGIN:VEVENT
DTSTART;VALUE=DATE:20260706
DTEND;VALUE=DATE:20260707
DTSTAMP:20260420T123957
CREATED:20251128T143515Z
LAST-MODIFIED:20251128T143515Z
UID:4914-1783296000-1783382399@murzarella.de
SUMMARY:Show „Bauchgesänge und andere Ungereimtheiten“
DESCRIPTION:
URL:https://ruhrhochdeutsch.reservix.de/p/reservix/event/2467563
LOCATION:RuhrHOCHdeutsch Spiegelzelt\, 44263 Dortmund
ATTACH;FMTTYPE=image/jpeg:https://murzarella.de/wp-content/uploads/2017/08/Murzarella-Dudu-II.jpg
END:VEVENT
BEGIN:VEVENT
DTSTART;VALUE=DATE:20260710
DTEND;VALUE=DATE:20260711
DTSTAMP:20260420T123957
CREATED:20250917T125506Z
LAST-MODIFIED:20260413T170041Z
UID:4843-1783641600-1783727999@murzarella.de
SUMMARY:Show „Bauchgesänge – Best of“ – ausverkauft
DESCRIPTION:
URL:https://www.kulturfabrik-furtwangen.de/programm
LOCATION:Kulturfabrik Furtwangen\, 78120 Furtwangen
ATTACH;FMTTYPE=image/jpeg:https://murzarella.de/wp-content/uploads/2025/09/Pressebild-Murzarella-Bauchgesaenge-…-Best-of-Quadrat-webaufloesung.jpg
END:VEVENT
BEGIN:VEVENT
DTSTART;VALUE=DATE:20260718
DTEND;VALUE=DATE:20260719
DTSTAMP:20260420T123957
CREATED:20260114T215629Z
LAST-MODIFIED:20260114T215629Z
UID:4977-1784332800-1784419199@murzarella.de
SUMMARY:Show „Bauchgesänge … ab in die zweite Runde“
DESCRIPTION:
URL:https://www.diekultourmacher.de/
LOCATION:Alte TÜV-Halle\, 71032 Böblingen
ATTACH;FMTTYPE=image/jpeg:https://murzarella.de/wp-content/uploads/2022/11/Pressebild-Murzarella-Bauchgesaenge-…-ab-in-die-zweite-Runde-rechteckig-webaufloesung.jpg
END:VEVENT
BEGIN:VEVENT
DTSTART;VALUE=DATE:20260722
DTEND;VALUE=DATE:20260723
DTSTAMP:20260420T123957
CREATED:20260114T220016Z
LAST-MODIFIED:20260114T220051Z
UID:4983-1784678400-1784764799@murzarella.de
SUMMARY:Show „Bauchgesänge … ab in die zweite Runde“
DESCRIPTION:
URL:https://www.schnick-schnack.com/
LOCATION:SCHNICK-SCHNACK\, 76437 Niederbühl
ATTACH;FMTTYPE=image/jpeg:https://murzarella.de/wp-content/uploads/2022/11/Pressebild-Murzarella-Bauchgesaenge-…-ab-in-die-zweite-Runde-rechteckig-webaufloesung.jpg
END:VEVENT
BEGIN:VEVENT
DTSTART;VALUE=DATE:20260901
DTEND;VALUE=DATE:20260902
DTSTAMP:20260420T123957
CREATED:20251128T143816Z
LAST-MODIFIED:20251128T143816Z
UID:4916-1788220800-1788307199@murzarella.de
SUMMARY:Show „Bauchgesänge … ab in die zweite Runde“
DESCRIPTION:
URL:https://pretix.eu/kulturringwaldbronn/murzarella-teil2/
LOCATION:Kurhaus Waldbronn\, 76337 Waldbronn
ATTACH;FMTTYPE=image/jpeg:https://murzarella.de/wp-content/uploads/2022/11/Pressebild-Murzarella-Bauchgesaenge-…-ab-in-die-zweite-Runde-rechteckig-webaufloesung.jpg
END:VEVENT
BEGIN:VEVENT
DTSTART;VALUE=DATE:20260911
DTEND;VALUE=DATE:20260912
DTSTAMP:20260420T123957
CREATED:20260114T213935Z
LAST-MODIFIED:20260114T213935Z
UID:4961-1789084800-1789171199@murzarella.de
SUMMARY:Show „Bauchgesänge – Best of“
DESCRIPTION:
URL:https://www.kultur-im-kirchl.de/
LOCATION:Kultur im Kirchl\, 76593 Gernsbach
ATTACH;FMTTYPE=image/jpeg:https://murzarella.de/wp-content/uploads/2025/09/Pressebild-Murzarella-Bauchgesaenge-…-Best-of-Quadrat-webaufloesung.jpg
END:VEVENT
BEGIN:VEVENT
DTSTART;VALUE=DATE:20260917
DTEND;VALUE=DATE:20260918
DTSTAMP:20260420T123957
CREATED:20260114T220427Z
LAST-MODIFIED:20260114T220427Z
UID:4987-1789603200-1789689599@murzarella.de
SUMMARY:Show „Bauchgesänge – Best of“
DESCRIPTION:
URL:https://www.buergertreff.ruhr/veranstaltungen
LOCATION:Bürgertreff Ruhrhalbinsel\, 45277 Essen
ATTACH;FMTTYPE=image/jpeg:https://murzarella.de/wp-content/uploads/2025/09/Pressebild-Murzarella-Bauchgesaenge-…-Best-of-Quadrat-webaufloesung.jpg
END:VEVENT
BEGIN:VEVENT
DTSTART;VALUE=DATE:20260918
DTEND;VALUE=DATE:20260919
DTSTAMP:20260420T123957
CREATED:20250330T003323Z
LAST-MODIFIED:20250330T003323Z
UID:4705-1789689600-1789775999@murzarella.de
SUMMARY:Show „Bauchgesänge … ab in die zweite Runde“
DESCRIPTION:
URL:https://www.neue-schmiede.de/
LOCATION:Neue Schmiede\, 33617 Bielefeld
ATTACH;FMTTYPE=image/jpeg:https://murzarella.de/wp-content/uploads/2022/11/Pressebild-Murzarella-Bauchgesaenge-…-ab-in-die-zweite-Runde-rechteckig-webaufloesung.jpg
END:VEVENT
BEGIN:VEVENT
DTSTART;VALUE=DATE:20260919
DTEND;VALUE=DATE:20260920
DTSTAMP:20260420T123957
CREATED:20251108T005054Z
LAST-MODIFIED:20251108T005054Z
UID:4866-1789776000-1789862399@murzarella.de
SUMMARY:Show „Bauchgesänge – Best of“
DESCRIPTION:
URL:https://bredenbecker-scheune.de/events/event/murzarella/
LOCATION:Bredenbecker Scheune\, 30974 Wennigsen
ATTACH;FMTTYPE=image/jpeg:https://murzarella.de/wp-content/uploads/2025/09/Pressebild-Murzarella-Bauchgesaenge-…-Best-of-Quadrat-webaufloesung.jpg
END:VEVENT
BEGIN:VEVENT
DTSTART;VALUE=DATE:20260921
DTEND;VALUE=DATE:20260922
DTSTAMP:20260420T123957
CREATED:20251108T004745Z
LAST-MODIFIED:20251108T004745Z
UID:4864-1789948800-1790035199@murzarella.de
SUMMARY:Show „Bauchgesänge … ab in die zweite Runde“
DESCRIPTION:
URL:https://www.borkum.de/veranstaltungen/
LOCATION:Großer Saal\, 26757 Borkum
ATTACH;FMTTYPE=image/jpeg:https://murzarella.de/wp-content/uploads/2022/11/Pressebild-Murzarella-Bauchgesaenge-…-ab-in-die-zweite-Runde-rechteckig-webaufloesung.jpg
END:VEVENT
BEGIN:VEVENT
DTSTART;VALUE=DATE:20260925
DTEND;VALUE=DATE:20260926
DTSTAMP:20260420T123957
CREATED:20260104T180117Z
LAST-MODIFIED:20260104T180258Z
UID:4940-1790294400-1790380799@murzarella.de
SUMMARY:Show „Bauchgesänge und andere Ungereimtheiten“
DESCRIPTION:
URL:https://www.unterhaus-mainz.de/programm/murzarellas-music-puppet-comedy-2/
LOCATION:Unterhaus\, 55116 Mainz
ATTACH;FMTTYPE=image/jpeg:https://murzarella.de/wp-content/uploads/2017/08/Murzarella-Dudu-II.jpg
END:VEVENT
BEGIN:VEVENT
DTSTART;VALUE=DATE:20260926
DTEND;VALUE=DATE:20260927
DTSTAMP:20260420T123957
CREATED:20260114T214139Z
LAST-MODIFIED:20260114T214139Z
UID:4963-1790380800-1790467199@murzarella.de
SUMMARY:Show „Bauchgesänge und andere Ungereimtheiten“
DESCRIPTION:
URL:https://www.zauberkasten.de/karten-mehr/
LOCATION:Theater Zauberkasten\, 44805 Bochum-Gerthe
ATTACH;FMTTYPE=image/jpeg:https://murzarella.de/wp-content/uploads/2017/08/Murzarella-Dudu-II.jpg
END:VEVENT
BEGIN:VEVENT
DTSTART;VALUE=DATE:20260927
DTEND;VALUE=DATE:20260928
DTSTAMP:20260420T123957
CREATED:20260324T175229Z
LAST-MODIFIED:20260325T144129Z
UID:5113-1790467200-1790553599@murzarella.de
SUMMARY:Show „Bauchgesänge … ab in die zweite Runde“
DESCRIPTION:
URL:https://www.grossesmeer.de/veranstaltungskalender/veranstaltungstipp
LOCATION:Haus am Meer\, 26624 Südbrookmerland
ATTACH;FMTTYPE=image/jpeg:https://murzarella.de/wp-content/uploads/2022/11/Pressebild-Murzarella-Bauchgesaenge-…-ab-in-die-zweite-Runde-rechteckig-webaufloesung.jpg
END:VEVENT
BEGIN:VEVENT
DTSTART;VALUE=DATE:20261001
DTEND;VALUE=DATE:20261002
DTSTAMP:20260420T123957
CREATED:20260105T183545Z
LAST-MODIFIED:20260105T183545Z
UID:4944-1790812800-1790899199@murzarella.de
SUMMARY:Show „Bauchgesänge und andere Ungereimtheiten“
DESCRIPTION:
URL:https://www.krögers-heimat.de/tickets/2026/
LOCATION:Krögers Heimat\, 24837 Schleswig
ATTACH;FMTTYPE=image/jpeg:https://murzarella.de/wp-content/uploads/2017/08/Murzarella-Dudu-II.jpg
END:VEVENT
BEGIN:VEVENT
DTSTART;VALUE=DATE:20261002
DTEND;VALUE=DATE:20261003
DTSTAMP:20260420T123957
CREATED:20250607T000134Z
LAST-MODIFIED:20260104T181829Z
UID:4784-1790899200-1790985599@murzarella.de
SUMMARY:Show „Bauchgesänge – Best of“
DESCRIPTION:
URL:https://www.kuschu.online/
LOCATION:Kulturschusterei\, 25355 Barmstedt
ATTACH;FMTTYPE=image/jpeg:https://murzarella.de/wp-content/uploads/2025/09/Pressebild-Murzarella-Bauchgesaenge-…-Best-of-Quadrat-webaufloesung.jpg
END:VEVENT
BEGIN:VEVENT
DTSTART;VALUE=DATE:20261003
DTEND;VALUE=DATE:20261004
DTSTAMP:20260420T123957
CREATED:20251108T010910Z
LAST-MODIFIED:20251108T010910Z
UID:4872-1790985600-1791071999@murzarella.de
SUMMARY:Show „Bauchgesänge – Best of“
DESCRIPTION:
URL:https://www.eventim.de/event/murzarella-kleinkunstbuehne-springe-20544085/?srsltid=AfmBOooM-rOi36TI2vquU5JWTPXfk4hWxy9Cv6R-I4bk4oq88_JttNcx
LOCATION:Die KleinkunstBühne\, 31832 Springe
ATTACH;FMTTYPE=image/jpeg:https://murzarella.de/wp-content/uploads/2025/09/Pressebild-Murzarella-Bauchgesaenge-…-Best-of-Quadrat-webaufloesung.jpg
END:VEVENT
BEGIN:VEVENT
DTSTART;VALUE=DATE:20261004
DTEND;VALUE=DATE:20261005
DTSTAMP:20260420T123957
CREATED:20251108T010714Z
LAST-MODIFIED:20251108T010714Z
UID:4870-1791072000-1791158399@murzarella.de
SUMMARY:Show „Bauchgesänge und andere Ungereimtheiten“
DESCRIPTION:
URL:https://www.eventim.de/event/murzarella-kleinkunstbuehne-hannover-20083582/?srsltid=AfmBOopy5x6kOu73R-D8K2cPPvwlQFVPHb0m95pPdtg8dIbff4HFAk_6
LOCATION:Die Kleinkunstbühne\, 30655 Hannover
ATTACH;FMTTYPE=image/jpeg:https://murzarella.de/wp-content/uploads/2017/08/Murzarella-Dudu-II.jpg
END:VEVENT
BEGIN:VEVENT
DTSTART;VALUE=DATE:20261013
DTEND;VALUE=DATE:20261014
DTSTAMP:20260420T123957
CREATED:20260114T221803Z
LAST-MODIFIED:20260114T221803Z
UID:4999-1791849600-1791935999@murzarella.de
SUMMARY:Show „Bauchgesänge und andere Ungereimtheiten“
DESCRIPTION:
URL:https://neuburg-ist-kultur.de/
LOCATION:Stadttheater\, 86633 Neuburg an der Donau
ATTACH;FMTTYPE=image/jpeg:https://murzarella.de/wp-content/uploads/2017/08/Murzarella-Dudu-II.jpg
END:VEVENT
BEGIN:VEVENT
DTSTART;VALUE=DATE:20261014
DTEND;VALUE=DATE:20261015
DTSTAMP:20260420T123957
CREATED:20260114T221938Z
LAST-MODIFIED:20260114T222005Z
UID:5007-1791936000-1792022399@murzarella.de
SUMMARY:Show „Bauchgesänge und andere Ungereimtheiten“
DESCRIPTION:
URL:https://neuburg-ist-kultur.de/
LOCATION:Stadttheater\, 86633 Neuburg an der Donau
ATTACH;FMTTYPE=image/jpeg:https://murzarella.de/wp-content/uploads/2017/08/Murzarella-Dudu-II.jpg
END:VEVENT
BEGIN:VEVENT
DTSTART;VALUE=DATE:20261016
DTEND;VALUE=DATE:20261017
DTSTAMP:20260420T123957
CREATED:20260114T223209Z
LAST-MODIFIED:20260301T235536Z
UID:5017-1792108800-1792195199@murzarella.de
SUMMARY:Show „Bauchgesänge und andere Ungereimtheiten“ Telefonische Vorbestellung unter 08025 7000-0
DESCRIPTION:
URL:https://www.waitzinger-keller.de/startseite-wk
LOCATION:Kulturzentrum Waitzinger\, 83714 Miesbach
ATTACH;FMTTYPE=image/jpeg:https://murzarella.de/wp-content/uploads/2017/08/Murzarella-Dudu-II.jpg
END:VEVENT
BEGIN:VEVENT
DTSTART;VALUE=DATE:20261017
DTEND;VALUE=DATE:20261018
DTSTAMP:20260420T123957
CREATED:20250607T000539Z
LAST-MODIFIED:20250607T000539Z
UID:4786-1792195200-1792281599@murzarella.de
SUMMARY:Show „Bauchgesänge … ab in die zweite Runde“
DESCRIPTION:
URL:https://kleinestheaterhaar.de/
LOCATION:Kleines Theater\, 85540 Haar
ATTACH;FMTTYPE=image/jpeg:https://murzarella.de/wp-content/uploads/2022/11/Pressebild-Murzarella-Bauchgesaenge-…-ab-in-die-zweite-Runde-rechteckig-webaufloesung.jpg
END:VEVENT
BEGIN:VEVENT
DTSTART;VALUE=DATE:20261018
DTEND;VALUE=DATE:20261019
DTSTAMP:20260420T123957
CREATED:20260114T223530Z
LAST-MODIFIED:20260114T223530Z
UID:5021-1792281600-1792367999@murzarella.de
SUMMARY:Show „Bauchgesänge und andere Ungereimtheiten“
DESCRIPTION:
URL:https://www.reservix.de/tickets-murzarella-in-oehringen-kino-scala-am-18-10-2026/e2497488
LOCATION:Kino Scala Öhringen\, 74613 Öhringen
ATTACH;FMTTYPE=image/jpeg:https://murzarella.de/wp-content/uploads/2017/08/Murzarella-Dudu-II.jpg
END:VEVENT
BEGIN:VEVENT
DTSTART;VALUE=DATE:20261022
DTEND;VALUE=DATE:20261023
DTSTAMP:20260420T123957
CREATED:20250508T162207Z
LAST-MODIFIED:20260114T222112Z
UID:4751-1792627200-1792713599@murzarella.de
SUMMARY:Show „Bauchgesänge – Best of“
DESCRIPTION:
URL:https://www.reservix.de/tickets-murzarella-music-puppet-comedy-bauchgesaenge-best-of-in-lorsch-theater-sapperlot-am-22-10-2026/e2403620
LOCATION:64653 Lorsch\, Theater Sapperlot
ATTACH;FMTTYPE=image/jpeg:https://murzarella.de/wp-content/uploads/2025/09/Pressebild-Murzarella-Bauchgesaenge-…-Best-of-Quadrat-webaufloesung.jpg
END:VEVENT
BEGIN:VEVENT
DTSTART;VALUE=DATE:20261023
DTEND;VALUE=DATE:20261024
DTSTAMP:20260420T123957
CREATED:20251108T004118Z
LAST-MODIFIED:20251108T004118Z
UID:4862-1792713600-1792799999@murzarella.de
SUMMARY:Show „Bauchgesänge – Best of“
DESCRIPTION:
URL:https://www.adticket.de/Murzarellas-Music-Puppet-Comedy-Bauchgesaenge-Best-of/Wiesbaden-Theater-im-Pariser-Hof/23-10-2026_19-30.html
LOCATION:Theater im Pariser Hof\, 65183 Wiesbaden
ATTACH;FMTTYPE=image/jpeg:https://murzarella.de/wp-content/uploads/2025/09/Pressebild-Murzarella-Bauchgesaenge-…-Best-of-Quadrat-webaufloesung.jpg
END:VEVENT
BEGIN:VEVENT
DTSTART;VALUE=DATE:20261024
DTEND;VALUE=DATE:20261025
DTSTAMP:20260420T123957
CREATED:20260114T223855Z
LAST-MODIFIED:20260114T223855Z
UID:5025-1792800000-1792886399@murzarella.de
SUMMARY:Show „Bauchgesänge und andere Ungereimtheiten“
DESCRIPTION:
URL:https://www.kulturhaus-oberwesel.de/programm-tickets/kulturveranstaltung
LOCATION:Kulturhaus Oberwesel\, 55430 Oberwesel
ATTACH;FMTTYPE=image/jpeg:https://murzarella.de/wp-content/uploads/2017/08/Murzarella-Dudu-II.jpg
END:VEVENT
END:VCALENDAR