BEGIN:VCALENDAR
VERSION:2.0
PRODID:-//Murzarella - ECPv6.15.17.1//NONSGML v1.0//EN
CALSCALE:GREGORIAN
METHOD:PUBLISH
X-WR-CALNAME:Murzarella
X-ORIGINAL-URL:https://murzarella.de
X-WR-CALDESC:Veranstaltungen für Murzarella
REFRESH-INTERVAL;VALUE=DURATION:PT1H
X-Robots-Tag:noindex
X-PUBLISHED-TTL:PT1H
BEGIN:VTIMEZONE
TZID:Europe/Berlin
BEGIN:DAYLIGHT
TZOFFSETFROM:+0100
TZOFFSETTO:+0200
TZNAME:CEST
DTSTART:20260329T010000
END:DAYLIGHT
BEGIN:STANDARD
TZOFFSETFROM:+0200
TZOFFSETTO:+0100
TZNAME:CET
DTSTART:20261025T010000
END:STANDARD
BEGIN:DAYLIGHT
TZOFFSETFROM:+0100
TZOFFSETTO:+0200
TZNAME:CEST
DTSTART:20270328T010000
END:DAYLIGHT
BEGIN:STANDARD
TZOFFSETFROM:+0200
TZOFFSETTO:+0100
TZNAME:CET
DTSTART:20271031T010000
END:STANDARD
BEGIN:DAYLIGHT
TZOFFSETFROM:+0100
TZOFFSETTO:+0200
TZNAME:CEST
DTSTART:20280326T010000
END:DAYLIGHT
BEGIN:STANDARD
TZOFFSETFROM:+0200
TZOFFSETTO:+0100
TZNAME:CET
DTSTART:20281029T010000
END:STANDARD
END:VTIMEZONE
BEGIN:VEVENT
DTSTART;VALUE=DATE:20270410
DTEND;VALUE=DATE:20270411
DTSTAMP:20260420T231932
CREATED:20260314T142941Z
LAST-MODIFIED:20260314T142941Z
UID:5091-1807315200-1807401599@murzarella.de
SUMMARY:Show „Bauchgesänge … ab in die zweite Runde“
DESCRIPTION:
URL:https://www.kulturkraftwerk-harzenergie.de/spielplan/
LOCATION:Kulturkraftwerk\, 38640 Goslar
ATTACH;FMTTYPE=image/jpeg:https://murzarella.de/wp-content/uploads/2022/11/Pressebild-Murzarella-Bauchgesaenge-…-ab-in-die-zweite-Runde-rechteckig-webaufloesung.jpg
END:VEVENT
BEGIN:VEVENT
DTSTART;VALUE=DATE:20270423
DTEND;VALUE=DATE:20270424
DTSTAMP:20260420T231932
CREATED:20260228T003222Z
LAST-MODIFIED:20260228T003222Z
UID:5078-1808438400-1808524799@murzarella.de
SUMMARY:Show „Bauchgesänge – Best of“ Ticketverkauf startet in wenigen Tagen
DESCRIPTION:
URL:https://www.theaterhaus.com/de
LOCATION:Theaterhaus\, 70469 Stuttgart
ATTACH;FMTTYPE=image/jpeg:https://murzarella.de/wp-content/uploads/2025/09/Pressebild-Murzarella-Bauchgesaenge-…-Best-of-Quadrat-webaufloesung.jpg
END:VEVENT
BEGIN:VEVENT
DTSTART;VALUE=DATE:20270425
DTEND;VALUE=DATE:20270426
DTSTAMP:20260420T231932
CREATED:20260218T132248Z
LAST-MODIFIED:20260218T132248Z
UID:5073-1808611200-1808697599@murzarella.de
SUMMARY:Show „Bauchgesänge – Best of“
DESCRIPTION:
URL:https://www.schatzkistl.de/tickets-kaufen/1882
LOCATION:Schatzkistl\, 68165 Mannheim
ATTACH;FMTTYPE=image/jpeg:https://murzarella.de/wp-content/uploads/2025/09/Pressebild-Murzarella-Bauchgesaenge-…-Best-of-Quadrat-webaufloesung.jpg
END:VEVENT
BEGIN:VEVENT
DTSTART;VALUE=DATE:20270509
DTEND;VALUE=DATE:20270510
DTSTAMP:20260420T231932
CREATED:20260218T132515Z
LAST-MODIFIED:20260218T132515Z
UID:5076-1809820800-1809907199@murzarella.de
SUMMARY:Show „Bauchgesänge – Best of“ (Zusatzvorstellung)
DESCRIPTION:
URL:https://www.schatzkistl.de/tickets-kaufen/1883
LOCATION:Schatzkistl\, 68165 Mannheim
ATTACH;FMTTYPE=image/jpeg:https://murzarella.de/wp-content/uploads/2025/09/Pressebild-Murzarella-Bauchgesaenge-…-Best-of-Quadrat-webaufloesung.jpg
END:VEVENT
BEGIN:VEVENT
DTSTART;VALUE=DATE:20270522
DTEND;VALUE=DATE:20270523
DTSTAMP:20260420T231932
CREATED:20260111T210301Z
LAST-MODIFIED:20260113T133323Z
UID:4950-1810944000-1811030399@murzarella.de
SUMMARY:Show „Bauchgesänge – Best of“
DESCRIPTION:
URL:https://d2mberlin.de/veranstaltung/murzarella-best-of/ticket/77914/
LOCATION:Anna Spree\, 10587 Berlin
ATTACH;FMTTYPE=image/jpeg:https://murzarella.de/wp-content/uploads/2025/09/Pressebild-Murzarella-Bauchgesaenge-…-Best-of-Quadrat-webaufloesung.jpg
END:VEVENT
BEGIN:VEVENT
DTSTART;VALUE=DATE:20271204
DTEND;VALUE=DATE:20271205
DTSTAMP:20260420T231932
CREATED:20260203T150436Z
LAST-MODIFIED:20260203T150436Z
UID:5053-1827878400-1827964799@murzarella.de
SUMMARY:Show „Bauchgesänge … ab in die zweite Runde“
DESCRIPTION:
URL:https://www.reservix.de/tickets-murzarella-bauchgesaenge-ab-in-die-zweite-runde-music-puppet-comedy-in-kressbronn-nonnenbachschule-am-4-12-2027/e2498517
LOCATION:Nonnenbachschule\, 88079 Kressbronn
ATTACH;FMTTYPE=image/jpeg:https://murzarella.de/wp-content/uploads/2022/11/Pressebild-Murzarella-Bauchgesaenge-…-ab-in-die-zweite-Runde-rechteckig-webaufloesung.jpg
END:VEVENT
END:VCALENDAR