BEGIN:VCALENDAR
VERSION:2.0
PRODID:-//Murzarella - ECPv6.15.20//NONSGML v1.0//EN
CALSCALE:GREGORIAN
METHOD:PUBLISH
X-ORIGINAL-URL:https://murzarella.de
X-WR-CALDESC:Veranstaltungen für Murzarella
REFRESH-INTERVAL;VALUE=DURATION:PT1H
X-Robots-Tag:noindex
X-PUBLISHED-TTL:PT1H
BEGIN:VTIMEZONE
TZID:Europe/Berlin
BEGIN:DAYLIGHT
TZOFFSETFROM:+0100
TZOFFSETTO:+0200
TZNAME:CEST
DTSTART:20190331T010000
END:DAYLIGHT
BEGIN:STANDARD
TZOFFSETFROM:+0200
TZOFFSETTO:+0100
TZNAME:CET
DTSTART:20191027T010000
END:STANDARD
BEGIN:DAYLIGHT
TZOFFSETFROM:+0100
TZOFFSETTO:+0200
TZNAME:CEST
DTSTART:20200329T010000
END:DAYLIGHT
BEGIN:STANDARD
TZOFFSETFROM:+0200
TZOFFSETTO:+0100
TZNAME:CET
DTSTART:20201025T010000
END:STANDARD
BEGIN:DAYLIGHT
TZOFFSETFROM:+0100
TZOFFSETTO:+0200
TZNAME:CEST
DTSTART:20210328T010000
END:DAYLIGHT
BEGIN:STANDARD
TZOFFSETFROM:+0200
TZOFFSETTO:+0100
TZNAME:CET
DTSTART:20211031T010000
END:STANDARD
END:VTIMEZONE
BEGIN:VEVENT
DTSTART;VALUE=DATE:20200902
DTEND;VALUE=DATE:20200903
DTSTAMP:20260423T110850
CREATED:20200319T210516Z
LAST-MODIFIED:20200819T104913Z
UID:1898-1599004800-1599091199@murzarella.de
SUMMARY:Show „Bauchgesänge und andere Ungereimtheiten“
DESCRIPTION:
URL:https://www.spezialclub.de/hannover/events/20-09/murzarella-comedy-music-puppet-show-live-in-hannover-200902.html
LOCATION:Spezialclub im Apollo\, 30451 Hannover
ATTACH;FMTTYPE=image/jpeg:https://murzarella.de/wp-content/uploads/2016/02/Dudu-und-Sabine.jpg
END:VEVENT
BEGIN:VEVENT
DTSTART;VALUE=DATE:20200904
DTEND;VALUE=DATE:20200905
DTSTAMP:20260423T110850
CREATED:20200819T103210Z
LAST-MODIFIED:20200819T103210Z
UID:2084-1599177600-1599263999@murzarella.de
SUMMARY:Show „Bauchgesänge und andere Ungereimtheiten“
DESCRIPTION:
URL:http://postpark-open-air.de/#open-air
LOCATION:Postpark Minigolf (Open Air)\, 59174 Kamen
ATTACH;FMTTYPE=image/jpeg:https://murzarella.de/wp-content/uploads/2017/08/Murzarella-Dudu-II.jpg
END:VEVENT
BEGIN:VEVENT
DTSTART;VALUE=DATE:20200907
DTEND;VALUE=DATE:20200908
DTSTAMP:20260423T110850
CREATED:20200819T112310Z
LAST-MODIFIED:20200819T112310Z
UID:2096-1599436800-1599523199@murzarella.de
SUMMARY:Show „Bauchgesänge und andere Ungereimtheiten“
DESCRIPTION:
URL:https://www.amrum.de/veranstaltungen/
LOCATION:25946 Norddorf/Amrum
ATTACH;FMTTYPE=image/jpeg:https://murzarella.de/wp-content/uploads/2017/08/Murzarella-Dudu-II.jpg
ORGANIZER;CN="Murzarella":MAILTO:events@sabine-murza.de
END:VEVENT
BEGIN:VEVENT
DTSTART;VALUE=DATE:20200912
DTEND;VALUE=DATE:20200913
DTSTAMP:20260423T110850
CREATED:20200315T131825Z
LAST-MODIFIED:20200315T131845Z
UID:1829-1599868800-1599955199@murzarella.de
SUMMARY:Show „Bauchgesänge und andere Ungereimtheiten“
DESCRIPTION:
URL:http://www.kulturkreis-lahr.de
LOCATION:Stiftsschaffneikeller\, 77933 Lahr
ATTACH;FMTTYPE=image/jpeg:https://murzarella.de/wp-content/uploads/2017/08/Murzarella-Dudu-II.jpg
END:VEVENT
BEGIN:VEVENT
DTSTART;VALUE=DATE:20200916
DTEND;VALUE=DATE:20200917
DTSTAMP:20260423T110850
CREATED:20191221T210723Z
LAST-MODIFIED:20191221T210723Z
UID:1650-1600214400-1600300799@murzarella.de
SUMMARY:Show „Bauchgesänge und andere Ungereimtheiten“
DESCRIPTION:
URL:https://www.zauberkasten.de/karten-mehr/vorverkauf/
LOCATION:Theater Zauberkasten\, 44805 Bochum-Gerthe
ATTACH;FMTTYPE=image/jpeg:https://murzarella.de/wp-content/uploads/2016/02/Dudu-und-Sabine.jpg
END:VEVENT
BEGIN:VEVENT
DTSTART;VALUE=DATE:20200918
DTEND;VALUE=DATE:20200919
DTSTAMP:20260423T110850
CREATED:20200708T233017Z
LAST-MODIFIED:20200708T233028Z
UID:2026-1600387200-1600473599@murzarella.de
SUMMARY:Show „Bauchgesänge und andere Ungereimtheiten“ (Open Air)
DESCRIPTION:
URL:https://rantastic.com
LOCATION:Rantastic\, 76532 Baden-Baden
ATTACH;FMTTYPE=image/jpeg:https://murzarella.de/wp-content/uploads/2017/08/Murzarella-Dudu-II.jpg
END:VEVENT
BEGIN:VEVENT
DTSTART;VALUE=DATE:20200920
DTEND;VALUE=DATE:20200921
DTSTAMP:20260423T110850
CREATED:20190510T215618Z
LAST-MODIFIED:20200909T145128Z
UID:1285-1600560000-1600646399@murzarella.de
SUMMARY:Show „Bauchgesänge und andere Ungereimtheiten“
DESCRIPTION:
URL:https://www.niefern-oeschelbronn.de/buerger/veranstaltungen/murlzarellas-music-puppet-show-id_4520/
LOCATION:Kulturbahnhof\, 75223 Niefern-Öschelbronn
ATTACH;FMTTYPE=image/jpeg:https://murzarella.de/wp-content/uploads/2017/08/Murzarella-Dudu-II.jpg
ORGANIZER;CN="Murzarella":MAILTO:events@sabine-murza.de
END:VEVENT
BEGIN:VEVENT
DTSTART;VALUE=DATE:20200925
DTEND;VALUE=DATE:20200926
DTSTAMP:20260423T110850
CREATED:20200315T132041Z
LAST-MODIFIED:20200315T132148Z
UID:1832-1600992000-1601078399@murzarella.de
SUMMARY:Show „Bauchgesänge und andere Ungereimtheiten“
DESCRIPTION:
URL:https://kochsmuehle.de
LOCATION:Kochsmühle\, 63777 Obernburg
ATTACH;FMTTYPE=image/jpeg:https://murzarella.de/wp-content/uploads/2017/08/Murzarella-Dudu-II.jpg
END:VEVENT
BEGIN:VEVENT
DTSTART;TZID=Europe/Berlin:20200926T180000
DTEND;TZID=Europe/Berlin:20200926T190000
DTSTAMP:20260423T110850
CREATED:20200910T104646Z
LAST-MODIFIED:20200910T104721Z
UID:2132-1601143200-1601146800@murzarella.de
SUMMARY:Show „Bauchgesänge und andere Ungereimtheiten“
DESCRIPTION:
URL:https://www.reservix.de/tickets-gastspiel-murzarellas-music-puppet-show-mit-sabine-murza-in-karlsruhe-das-sandkorn-fabrik-am-26-9-2020/e1608273
LOCATION:Sandkorn Theater\, 76133 Karlsruhe\, Deutschland
ATTACH;FMTTYPE=image/jpeg:https://murzarella.de/wp-content/uploads/2016/02/Dudu-und-Sabine.jpg
ORGANIZER;CN="Murzarella":MAILTO:events@sabine-murza.de
END:VEVENT
BEGIN:VEVENT
DTSTART;TZID=Europe/Berlin:20200926T200000
DTEND;TZID=Europe/Berlin:20200926T210000
DTSTAMP:20260423T110850
CREATED:20191221T211302Z
LAST-MODIFIED:20200910T104302Z
UID:1653-1601150400-1601154000@murzarella.de
SUMMARY:Show „Bauchgesänge und andere Ungereimtheiten“
DESCRIPTION:
URL:https://das-sandkorn.reservix.de/tickets-murzarellas-music-puppet-show-mit-sabine-murza-in-karlsruhe-das-sandkorn-fabrik-am-26-9-2020/e1475635
LOCATION:Sandkorn Theater\, 76133 Karlsruhe\, Deutschland
ATTACH;FMTTYPE=image/jpeg:https://murzarella.de/wp-content/uploads/2017/08/Murzarella-Dudu-II.jpg
END:VEVENT
END:VCALENDAR