BEGIN:VCALENDAR
VERSION:2.0
PRODID:-//Murzarella - ECPv6.15.20//NONSGML v1.0//EN
CALSCALE:GREGORIAN
METHOD:PUBLISH
X-WR-CALNAME:Murzarella
X-ORIGINAL-URL:https://murzarella.de
X-WR-CALDESC:Veranstaltungen für Murzarella
REFRESH-INTERVAL;VALUE=DURATION:PT1H
X-Robots-Tag:noindex
X-PUBLISHED-TTL:PT1H
BEGIN:VTIMEZONE
TZID:Europe/Berlin
BEGIN:DAYLIGHT
TZOFFSETFROM:+0100
TZOFFSETTO:+0200
TZNAME:CEST
DTSTART:20190331T010000
END:DAYLIGHT
BEGIN:STANDARD
TZOFFSETFROM:+0200
TZOFFSETTO:+0100
TZNAME:CET
DTSTART:20191027T010000
END:STANDARD
BEGIN:DAYLIGHT
TZOFFSETFROM:+0100
TZOFFSETTO:+0200
TZNAME:CEST
DTSTART:20200329T010000
END:DAYLIGHT
BEGIN:STANDARD
TZOFFSETFROM:+0200
TZOFFSETTO:+0100
TZNAME:CET
DTSTART:20201025T010000
END:STANDARD
BEGIN:DAYLIGHT
TZOFFSETFROM:+0100
TZOFFSETTO:+0200
TZNAME:CEST
DTSTART:20210328T010000
END:DAYLIGHT
BEGIN:STANDARD
TZOFFSETFROM:+0200
TZOFFSETTO:+0100
TZNAME:CET
DTSTART:20211031T010000
END:STANDARD
END:VTIMEZONE
BEGIN:VEVENT
DTSTART;TZID=Europe/Berlin:20201003T160000
DTEND;TZID=Europe/Berlin:20201003T170000
DTSTAMP:20260423T124525
CREATED:20200317T185050Z
LAST-MODIFIED:20200830T091009Z
UID:1853-1601740800-1601744400@murzarella.de
SUMMARY:Show „Bauchgesänge und andere Ungereimtheiten“
DESCRIPTION:
URL:https://www.schatzkistl.de/programm/murzarellas-music-puppet-show-bauchgesaenge-und-andere-ungereimtheiten-corona-spielplan
LOCATION:Schatzkistl\, 68165 Mannheim
ATTACH;FMTTYPE=image/jpeg:https://murzarella.de/wp-content/uploads/2017/08/Murzarella-Dudu-II.jpg
END:VEVENT
BEGIN:VEVENT
DTSTART;TZID=Europe/Berlin:20201003T200000
DTEND;TZID=Europe/Berlin:20201003T210000
DTSTAMP:20260423T124525
CREATED:20200212T191516Z
LAST-MODIFIED:20200830T092007Z
UID:1749-1601755200-1601758800@murzarella.de
SUMMARY:Show „Bauchgesänge und andere Ungereimtheiten“
DESCRIPTION:
URL:https://www.schatzkistl.de/programm/murzarellas-music-puppet-show-bauchgesaenge-und-andere-ungereimtheiten-corona-spielplan
LOCATION:Schatzkistl\, 68165 Mannheim
ATTACH;FMTTYPE=image/jpeg:https://murzarella.de/wp-content/uploads/2017/08/Murzarella-Dudu-II.jpg
END:VEVENT
BEGIN:VEVENT
DTSTART;VALUE=DATE:20201009
DTEND;VALUE=DATE:20201010
DTSTAMP:20260423T124525
CREATED:20191208T175639Z
LAST-MODIFIED:20200909T155145Z
UID:1633-1602201600-1602287999@murzarella.de
SUMMARY:Show „Bauchgesänge und andere Ungereimtheiten“
DESCRIPTION:
URL:https://takelgarn.de/programm/murzarellas-music-puppet-show-bauchgesaenge-und-andere-ungereimtheiten/
LOCATION:Takelgarn Theater\, 40215 Düsseldorf
ATTACH;FMTTYPE=image/jpeg:https://murzarella.de/wp-content/uploads/2016/02/Dudu-und-Sabine.jpg
END:VEVENT
BEGIN:VEVENT
DTSTART;VALUE=DATE:20201010
DTEND;VALUE=DATE:20201011
DTSTAMP:20260423T124525
CREATED:20191018T225457Z
LAST-MODIFIED:20191018T225457Z
UID:1555-1602288000-1602374399@murzarella.de
SUMMARY:Show „Bauchgesänge und andere Ungereimtheiten“
DESCRIPTION:
URL:http://www.scala-kulturspielhaus.de
LOCATION:Scala Kulturspielhaus\, 46483 Wesel
ATTACH;FMTTYPE=image/jpeg:https://murzarella.de/wp-content/uploads/2017/08/Murzarella-Dudu-II.jpg
END:VEVENT
BEGIN:VEVENT
DTSTART;VALUE=DATE:20201011
DTEND;VALUE=DATE:20201012
DTSTAMP:20260423T124525
CREATED:20191115T205131Z
LAST-MODIFIED:20200909T155631Z
UID:1605-1602374400-1602460799@murzarella.de
SUMMARY:Show „Bauchgesänge und andere Ungereimtheiten“
DESCRIPTION:
URL:http://www.buergerhaus-stollwerck.de/3.html
LOCATION:Theater 509 im Bürgerhaus Stollwerck\, 50678 Köln
ATTACH;FMTTYPE=image/jpeg:https://murzarella.de/wp-content/uploads/2017/08/Murzarella-Dudu-II.jpg
END:VEVENT
BEGIN:VEVENT
DTSTART;VALUE=DATE:20201014
DTEND;VALUE=DATE:20201015
DTSTAMP:20260423T124525
CREATED:20200819T111204Z
LAST-MODIFIED:20200909T155820Z
UID:2092-1602633600-1602719999@murzarella.de
SUMMARY:Mixed-Show (Ausschnitte)
DESCRIPTION:
URL:https://www.londonpub-lampertheim.de/veranstaltungskalender
LOCATION:68623 Lampertheim
ATTACH;FMTTYPE=image/jpeg:https://murzarella.de/wp-content/uploads/2017/08/Murzarella-Dudu-II.jpg
ORGANIZER;CN="Murzarella":MAILTO:events@sabine-murza.de
END:VEVENT
BEGIN:VEVENT
DTSTART;VALUE=DATE:20201016
DTEND;VALUE=DATE:20201017
DTSTAMP:20260423T124525
CREATED:20191122T110034Z
LAST-MODIFIED:20191122T110034Z
UID:1615-1602806400-1602892799@murzarella.de
SUMMARY:Show „Bauchgesänge und andere Ungereimtheiten“ (Zusatzvorstellung)
DESCRIPTION:
URL:https://www.variete-freigeist.de/tickets/
LOCATION:Varieté Freigeist\, 41747 Viersen
ATTACH;FMTTYPE=image/jpeg:https://murzarella.de/wp-content/uploads/2016/02/Dudu-und-Sabine.jpg
END:VEVENT
BEGIN:VEVENT
DTSTART;VALUE=DATE:20201017
DTEND;VALUE=DATE:20201018
DTSTAMP:20260423T124525
CREATED:20191221T212205Z
LAST-MODIFIED:20191221T212205Z
UID:1660-1602892800-1602979199@murzarella.de
SUMMARY:Show „Bauchgesänge und andere Ungereimtheiten“
DESCRIPTION:
URL:https://hofgarten-kabarett.de
LOCATION:Hofgarten Kabarett\, 63739 Aschaffenburg
ATTACH;FMTTYPE=image/jpeg:https://murzarella.de/wp-content/uploads/2017/08/Murzarella-Dudu-II.jpg
END:VEVENT
BEGIN:VEVENT
DTSTART;VALUE=DATE:20201021
DTEND;VALUE=DATE:20201022
DTSTAMP:20260423T124525
CREATED:20200508T214250Z
LAST-MODIFIED:20200909T160400Z
UID:1934-1603238400-1603324799@murzarella.de
SUMMARY:Show „Bauchgesänge und andere Ungereimtheiten“
DESCRIPTION:
URL:https://www.spezialclub.de/hannover/events/20-10/murzarella-comedy-music-puppet-show-live-in-hannover-2020-10-21.html
LOCATION:Spezialclub im Apollo\, 30451 Hannover
ATTACH;FMTTYPE=image/jpeg:https://murzarella.de/wp-content/uploads/2017/08/Murzarella-Dudu-II.jpg
END:VEVENT
BEGIN:VEVENT
DTSTART;VALUE=DATE:20201022
DTEND;VALUE=DATE:20201023
DTSTAMP:20260423T124525
CREATED:20200227T223243Z
LAST-MODIFIED:20200227T223243Z
UID:1813-1603324800-1603411199@murzarella.de
SUMMARY:Show „Bauchgesänge und andere Ungereimtheiten“
DESCRIPTION:
URL:https://www.daskult-theater.de/tickets.html
LOCATION:DAS KULT\, 38114 Braunschweig
ATTACH;FMTTYPE=image/jpeg:https://murzarella.de/wp-content/uploads/2016/02/Dudu-und-Sabine.jpg
END:VEVENT
BEGIN:VEVENT
DTSTART;VALUE=DATE:20201023
DTEND;VALUE=DATE:20201024
DTSTAMP:20260423T124525
CREATED:20191221T213337Z
LAST-MODIFIED:20201008T174243Z
UID:1668-1603411200-1603497599@murzarella.de
SUMMARY:Show „Bauchgesänge und andere Ungereimtheiten“
DESCRIPTION:
URL:https://www.luettjeverscheune.de/veranstaltungen/
LOCATION:Lütt Jever Scheune\, 30952 Ronnenberg
ATTACH;FMTTYPE=image/jpeg:https://murzarella.de/wp-content/uploads/2017/08/Murzarella-Dudu-II.jpg
END:VEVENT
BEGIN:VEVENT
DTSTART;VALUE=DATE:20201024
DTEND;VALUE=DATE:20201025
DTSTAMP:20260423T124525
CREATED:20190529T213435Z
LAST-MODIFIED:20200909T161213Z
UID:1346-1603497600-1603583999@murzarella.de
SUMMARY:Show „Bauchgesänge und andere Ungereimtheiten“
DESCRIPTION:
URL:https://culturgut.eu/veranstaltungskalender/murzarellas-music-puppet-show/
LOCATION:C.ulturgut\, 24941 Flensburg
ATTACH;FMTTYPE=image/jpeg:https://murzarella.de/wp-content/uploads/2017/08/Murzarella-Dudu-II.jpg
ORGANIZER;CN="Murzarella":MAILTO:events@sabine-murza.de
END:VEVENT
BEGIN:VEVENT
DTSTART;VALUE=DATE:20201028
DTEND;VALUE=DATE:20201029
DTSTAMP:20260423T124525
CREATED:20200910T095700Z
LAST-MODIFIED:20200910T095747Z
UID:2124-1603843200-1603929599@murzarella.de
SUMMARY:Show „Bauchgesänge und andere Ungereimtheiten“
DESCRIPTION:
URL:https://stadthalle-balingen.de/site/Balingen-Stadthalle/node/15653077/zmdetail_523220955700/Murzarellas_Music_Puppet_Show.html?zm.sid=zmg85qwtmbd1&nodeID=523220955700
LOCATION:Stadthalle\, 72336 Balingen
ATTACH;FMTTYPE=image/jpeg:https://murzarella.de/wp-content/uploads/2017/08/Murzarella-Dudu-II.jpg
END:VEVENT
END:VCALENDAR