BEGIN:VCALENDAR
VERSION:2.0
PRODID:-//Murzarella - ECPv6.15.20//NONSGML v1.0//EN
CALSCALE:GREGORIAN
METHOD:PUBLISH
X-WR-CALNAME:Murzarella
X-ORIGINAL-URL:https://murzarella.de
X-WR-CALDESC:Veranstaltungen für Murzarella
REFRESH-INTERVAL;VALUE=DURATION:PT1H
X-Robots-Tag:noindex
X-PUBLISHED-TTL:PT1H
BEGIN:VTIMEZONE
TZID:Europe/Berlin
BEGIN:DAYLIGHT
TZOFFSETFROM:+0100
TZOFFSETTO:+0200
TZNAME:CEST
DTSTART:20190331T010000
END:DAYLIGHT
BEGIN:STANDARD
TZOFFSETFROM:+0200
TZOFFSETTO:+0100
TZNAME:CET
DTSTART:20191027T010000
END:STANDARD
BEGIN:DAYLIGHT
TZOFFSETFROM:+0100
TZOFFSETTO:+0200
TZNAME:CEST
DTSTART:20200329T010000
END:DAYLIGHT
BEGIN:STANDARD
TZOFFSETFROM:+0200
TZOFFSETTO:+0100
TZNAME:CET
DTSTART:20201025T010000
END:STANDARD
BEGIN:DAYLIGHT
TZOFFSETFROM:+0100
TZOFFSETTO:+0200
TZNAME:CEST
DTSTART:20210328T010000
END:DAYLIGHT
BEGIN:STANDARD
TZOFFSETFROM:+0200
TZOFFSETTO:+0100
TZNAME:CET
DTSTART:20211031T010000
END:STANDARD
END:VTIMEZONE
BEGIN:VEVENT
DTSTART;VALUE=DATE:20201107
DTEND;VALUE=DATE:20201108
DTSTAMP:20260423T143728
CREATED:20190530T131347Z
LAST-MODIFIED:20200909T161626Z
UID:1360-1604707200-1604793599@murzarella.de
SUMMARY:Show „Bauchgesänge und andere Ungereimtheiten“
DESCRIPTION:
URL:https://www.stadthalle-landstuhl.de/veranstaltungen/2169210/2020/11/07/murzarellas-music-puppet-show-bauchges%C3%A4nge-und-andere-ungereimtheiten.html
LOCATION:Stadthalle\, 66849 Landstuhl
ATTACH;FMTTYPE=image/jpeg:https://murzarella.de/wp-content/uploads/2017/08/Murzarella-Dudu-II.jpg
ORGANIZER;CN="Murzarella":MAILTO:events@sabine-murza.de
END:VEVENT
BEGIN:VEVENT
DTSTART;VALUE=DATE:20201115
DTEND;VALUE=DATE:20201116
DTSTAMP:20260423T143728
CREATED:20190827T233408Z
LAST-MODIFIED:20201103T184904Z
UID:1513-1605398400-1605484799@murzarella.de
SUMMARY:Show „Bauchgesänge und andere Ungereimtheiten“\, verlegt auf 28.02.21
DESCRIPTION:
URL:https://www.hansa-theater-hoerde.de/event/murzarellas-music-puppet-show/
LOCATION:Hansa Theater Hörde\, 44263 Dortmund
ATTACH;FMTTYPE=image/jpeg:https://murzarella.de/wp-content/uploads/2017/08/Murzarella-Dudu-II.jpg
END:VEVENT
BEGIN:VEVENT
DTSTART;VALUE=DATE:20201120
DTEND;VALUE=DATE:20201121
DTSTAMP:20260423T143728
CREATED:20191231T154739Z
LAST-MODIFIED:20201114T235225Z
UID:1680-1605830400-1605916799@murzarella.de
SUMMARY:Show „Bauchgesänge und andere Ungereimtheiten“ -entfällt- wird verlegt
DESCRIPTION:
URL:https://bingerbuehne.de/veranstaltungen/murzarellas-music-puppet-show/
LOCATION:Binger Bühne\, 55411 Bingen am Rhein
ATTACH;FMTTYPE=image/jpeg:https://murzarella.de/wp-content/uploads/2016/02/Dudu-und-Sabine.jpg
END:VEVENT
BEGIN:VEVENT
DTSTART;VALUE=DATE:20201127
DTEND;VALUE=DATE:20201128
DTSTAMP:20260423T143728
CREATED:20200713T104335Z
LAST-MODIFIED:20201102T014627Z
UID:2060-1606435200-1606521599@murzarella.de
SUMMARY:Show „Bauchgesänge und andere Ungereimtheiten“ verschoben auf den 30.01.21
DESCRIPTION:
URL:https://www.gloria-kulturpalast.de/veranstaltungen/398-murzarellas-music-puppet-show
LOCATION:Gloria Kulturpalast\, 76829 Landau
ATTACH;FMTTYPE=image/jpeg:https://murzarella.de/wp-content/uploads/2017/08/Murzarella-Dudu-II.jpg
END:VEVENT
END:VCALENDAR