BEGIN:VCALENDAR
VERSION:2.0
PRODID:-//Murzarella - ECPv6.15.20//NONSGML v1.0//EN
CALSCALE:GREGORIAN
METHOD:PUBLISH
X-WR-CALNAME:Murzarella
X-ORIGINAL-URL:https://murzarella.de
X-WR-CALDESC:Veranstaltungen für Murzarella
REFRESH-INTERVAL;VALUE=DURATION:PT1H
X-Robots-Tag:noindex
X-PUBLISHED-TTL:PT1H
BEGIN:VTIMEZONE
TZID:Europe/Berlin
BEGIN:DAYLIGHT
TZOFFSETFROM:+0100
TZOFFSETTO:+0200
TZNAME:CEST
DTSTART:20190331T010000
END:DAYLIGHT
BEGIN:STANDARD
TZOFFSETFROM:+0200
TZOFFSETTO:+0100
TZNAME:CET
DTSTART:20191027T010000
END:STANDARD
BEGIN:DAYLIGHT
TZOFFSETFROM:+0100
TZOFFSETTO:+0200
TZNAME:CEST
DTSTART:20200329T010000
END:DAYLIGHT
BEGIN:STANDARD
TZOFFSETFROM:+0200
TZOFFSETTO:+0100
TZNAME:CET
DTSTART:20201025T010000
END:STANDARD
BEGIN:DAYLIGHT
TZOFFSETFROM:+0100
TZOFFSETTO:+0200
TZNAME:CEST
DTSTART:20210328T010000
END:DAYLIGHT
BEGIN:STANDARD
TZOFFSETFROM:+0200
TZOFFSETTO:+0100
TZNAME:CET
DTSTART:20211031T010000
END:STANDARD
END:VTIMEZONE
BEGIN:VEVENT
DTSTART;VALUE=DATE:20201205
DTEND;VALUE=DATE:20201206
DTSTAMP:20260423T164644
CREATED:20200220T003655Z
LAST-MODIFIED:20201126T200116Z
UID:1806-1607126400-1607212799@murzarella.de
SUMMARY:Show „Bauchgesänge und andere Ungereimtheiten“ WIRD VERLEGT AUF DEN 11.06.21
DESCRIPTION:
URL:https://www.reservix.de/tickets-murzarellas-music-puppet-show-bauchgesaenge-und-andere-ungereimtheiten-in-gaggenau-klag-buehne-am-5-12-2020/e1544713
LOCATION:Klag-Bühne\, 76571 Gaggenau
ATTACH;FMTTYPE=image/jpeg:https://murzarella.de/wp-content/uploads/2017/08/Murzarella-Dudu-II.jpg
END:VEVENT
BEGIN:VEVENT
DTSTART;VALUE=DATE:20201212
DTEND;VALUE=DATE:20201213
DTSTAMP:20260423T164644
CREATED:20200602T164317Z
LAST-MODIFIED:20201126T202654Z
UID:2002-1607731200-1607817599@murzarella.de
SUMMARY:Show „Bauchgesänge und andere Ungereimtheiten“\, WIRD VERLEGT AUF DEN 20.03.22
DESCRIPTION:
URL:https://www.das-kleine-theater-hohenhameln.de
LOCATION:Das kleine Theater\, 31249 Hohenhameln
ATTACH;FMTTYPE=image/jpeg:https://murzarella.de/wp-content/uploads/2017/08/Murzarella-Dudu-II.jpg
END:VEVENT
BEGIN:VEVENT
DTSTART;VALUE=DATE:20201213
DTEND;VALUE=DATE:20201214
DTSTAMP:20260423T164644
CREATED:20201102T014051Z
LAST-MODIFIED:20201126T204140Z
UID:2232-1607817600-1607903999@murzarella.de
SUMMARY:Show „Bauchgesänge und andere Ungereimtheiten“\, VERLEGETERMIN WIRD NOCH BEKANNT GEGEBEN
DESCRIPTION:
URL:https://www.bauhofkultur.de/veranstaltungen/liste/
LOCATION:Kulturzentrum Bauhof\, 30966 Hemmingen
ATTACH;FMTTYPE=image/jpeg:https://murzarella.de/wp-content/uploads/2017/08/Murzarella-Dudu-II.jpg
END:VEVENT
BEGIN:VEVENT
DTSTART;VALUE=DATE:20201214
DTEND;VALUE=DATE:20201215
DTSTAMP:20260423T164644
CREATED:20200917T141558Z
LAST-MODIFIED:20201126T200937Z
UID:2162-1607904000-1607990399@murzarella.de
SUMMARY:Der Blaue Montag (Mixed Show) Ausschnitte\, WIRD VERLEGT AUF DEN 07.06.21
DESCRIPTION:
URL:https://www.wuehlmaeuse.de//spielplan/details/8214/DER-BLAUE-MONTAG
LOCATION:Theater „Die Wühlmäuse“\, 14052 Berlin
ATTACH;FMTTYPE=image/jpeg:https://murzarella.de/wp-content/uploads/2017/08/Murzarella-Dudu-II.jpg
END:VEVENT
BEGIN:VEVENT
DTSTART;VALUE=DATE:20201220
DTEND;VALUE=DATE:20201221
DTSTAMP:20260423T164644
CREATED:20190705T122008Z
LAST-MODIFIED:20201126T203524Z
UID:1446-1608422400-1608508799@murzarella.de
SUMMARY:Uffgebasst\, die Hesse komme (Mixed Show)\, WIRD VERLEGT AUF DEN 06.03.22
DESCRIPTION:
URL:https://www.theater-am-park.de/inhalt/Jahresprogramm-2020-Dezember/
LOCATION:Theater am Park\, 61231 Bad Nauheim
ATTACH;FMTTYPE=image/jpeg:https://murzarella.de/wp-content/uploads/2017/08/Murzarella-Dudu-II.jpg
END:VEVENT
END:VCALENDAR