BEGIN:VCALENDAR
VERSION:2.0
PRODID:-//Murzarella - ECPv6.15.20//NONSGML v1.0//EN
CALSCALE:GREGORIAN
METHOD:PUBLISH
X-ORIGINAL-URL:https://murzarella.de
X-WR-CALDESC:Veranstaltungen für Murzarella
REFRESH-INTERVAL;VALUE=DURATION:PT1H
X-Robots-Tag:noindex
X-PUBLISHED-TTL:PT1H
BEGIN:VTIMEZONE
TZID:Europe/Berlin
BEGIN:DAYLIGHT
TZOFFSETFROM:+0100
TZOFFSETTO:+0200
TZNAME:CEST
DTSTART:20200329T010000
END:DAYLIGHT
BEGIN:STANDARD
TZOFFSETFROM:+0200
TZOFFSETTO:+0100
TZNAME:CET
DTSTART:20201025T010000
END:STANDARD
BEGIN:DAYLIGHT
TZOFFSETFROM:+0100
TZOFFSETTO:+0200
TZNAME:CEST
DTSTART:20210328T010000
END:DAYLIGHT
BEGIN:STANDARD
TZOFFSETFROM:+0200
TZOFFSETTO:+0100
TZNAME:CET
DTSTART:20211031T010000
END:STANDARD
BEGIN:DAYLIGHT
TZOFFSETFROM:+0100
TZOFFSETTO:+0200
TZNAME:CEST
DTSTART:20220327T010000
END:DAYLIGHT
BEGIN:STANDARD
TZOFFSETFROM:+0200
TZOFFSETTO:+0100
TZNAME:CET
DTSTART:20221030T010000
END:STANDARD
END:VTIMEZONE
BEGIN:VEVENT
DTSTART;VALUE=DATE:20210306
DTEND;VALUE=DATE:20210307
DTSTAMP:20260425T123835
CREATED:20200218T194526Z
LAST-MODIFIED:20210304T191747Z
UID:1782-1614988800-1615075199@murzarella.de
SUMMARY:Show „Bauchgesänge und andere Ungereimtheiten“\, wird verschoben
DESCRIPTION:
URL:https://theater-waltrop.de
LOCATION:Majestic Theater\, 45731 Waltrop
ATTACH;FMTTYPE=image/jpeg:https://murzarella.de/wp-content/uploads/2016/02/Dudu-und-Sabine.jpg
END:VEVENT
BEGIN:VEVENT
DTSTART;VALUE=DATE:20210307
DTEND;VALUE=DATE:20210308
DTSTAMP:20260425T123835
CREATED:20201004T092918Z
LAST-MODIFIED:20210304T191918Z
UID:2178-1615075200-1615161599@murzarella.de
SUMMARY:Show „Bauchgesänge und andere Ungereimtheiten“\, verschoben auf den 29.10.21
DESCRIPTION:
URL:https://www.zauberkasten.de
LOCATION:Theater Zauberkasten\, 44805 Bochum-Gerthe
ATTACH;FMTTYPE=image/jpeg:https://murzarella.de/wp-content/uploads/2017/08/Murzarella-Dudu-II.jpg
END:VEVENT
BEGIN:VEVENT
DTSTART;VALUE=DATE:20210309
DTEND;VALUE=DATE:20210310
DTSTAMP:20260425T123835
CREATED:20200212T194034Z
LAST-MODIFIED:20210225T110340Z
UID:1774-1615248000-1615334399@murzarella.de
SUMMARY:Show „Bauchgesänge und andere Ungereimtheiten“\, verschoben auf den 21.04.22
DESCRIPTION:
URL:https://www.senftoepfchen-theater.de/tickets/
LOCATION:Senftöpfchen\, 50667 Köln
ATTACH;FMTTYPE=image/jpeg:https://murzarella.de/wp-content/uploads/2017/08/Murzarella-Dudu-II.jpg
END:VEVENT
BEGIN:VEVENT
DTSTART;VALUE=DATE:20210310
DTEND;VALUE=DATE:20210311
DTSTAMP:20260425T123835
CREATED:20200218T194305Z
LAST-MODIFIED:20210225T110509Z
UID:1779-1615334400-1615420799@murzarella.de
SUMMARY:Show „Bauchgesänge und andere Ungereimtheiten“\, verschoben auf den 09.12.21
DESCRIPTION:
URL:https://www.pantheon.de
LOCATION:Pantheon Theater\, 53229 Bonn
ATTACH;FMTTYPE=image/jpeg:https://murzarella.de/wp-content/uploads/2016/02/Dudu-und-Sabine.jpg
END:VEVENT
BEGIN:VEVENT
DTSTART;VALUE=DATE:20210310
DTEND;VALUE=DATE:20210311
DTSTAMP:20260425T123835
CREATED:20210910T204127Z
LAST-MODIFIED:20210910T205257Z
UID:2699-1615334400-1615420799@murzarella.de
SUMMARY:Show „Bauchgesänge und andere Ungereimtheiten“
DESCRIPTION:
URL:https://www.bruehl-baden.de/buerger/freizeiteinrichtungen/242/
LOCATION:Villa Meixner\, 68782 Brühl
ATTACH;FMTTYPE=image/jpeg:https://murzarella.de/wp-content/uploads/2017/08/Murzarella-Dudu-II.jpg
END:VEVENT
BEGIN:VEVENT
DTSTART;VALUE=DATE:20210312
DTEND;VALUE=DATE:20210313
DTSTAMP:20260425T123835
CREATED:20201123T220418Z
LAST-MODIFIED:20210304T191239Z
UID:2281-1615507200-1615593599@murzarella.de
SUMMARY:Show „Bauchgesänge und andere Ungereimtheiten"\, verschoben auf den 01.05.21
DESCRIPTION:
URL:https://www.theater-hammerschmiede.de
LOCATION:Theater Hammerschmiede\, 72108 Rottenburg am Neckar
ATTACH;FMTTYPE=image/jpeg:https://murzarella.de/wp-content/uploads/2017/08/Murzarella-Dudu-II.jpg
END:VEVENT
BEGIN:VEVENT
DTSTART;VALUE=DATE:20210319
DTEND;VALUE=DATE:20210320
DTSTAMP:20260425T123835
CREATED:20200212T193541Z
LAST-MODIFIED:20210304T191633Z
UID:1766-1616112000-1616198399@murzarella.de
SUMMARY:Show „Bauchgesänge und andere Ungereimtheiten“\, verschoben auf den 26.06.21
DESCRIPTION:
URL:https://spiegelfechter.de
LOCATION:Kabarett in der Orgelfabrik\, 76227 Karlsruhe
ATTACH;FMTTYPE=image/jpeg:https://murzarella.de/wp-content/uploads/2017/08/Murzarella-Dudu-II.jpg
END:VEVENT
BEGIN:VEVENT
DTSTART;VALUE=DATE:20210324
DTEND;VALUE=DATE:20210325
DTSTAMP:20260425T123835
CREATED:20200317T191621Z
LAST-MODIFIED:20210129T185756Z
UID:1867-1616544000-1616630399@murzarella.de
SUMMARY:Show „Bauchgesänge und andere Ungereimtheiten“ verschoben auf den 02.12.2021
DESCRIPTION:
URL:https://www.showspielhaus.de
LOCATION:Showspielhaus 65719 Hofheim
ATTACH;FMTTYPE=image/jpeg:https://murzarella.de/wp-content/uploads/2017/08/Murzarella-Dudu-II.jpg
END:VEVENT
BEGIN:VEVENT
DTSTART;VALUE=DATE:20210326
DTEND;VALUE=DATE:20210327
DTSTAMP:20260425T123835
CREATED:20201004T093425Z
LAST-MODIFIED:20210225T110755Z
UID:2181-1616716800-1616803199@murzarella.de
SUMMARY:Show „Bauchgesänge und andere Ungereimtheiten“\, verschoben auf den 19.08.21
DESCRIPTION:
URL:javascript:return null;
LOCATION:Forum am Hans-Furler-Gymnasium\, 77704 Oberkirch
ATTACH;FMTTYPE=image/jpeg:https://murzarella.de/wp-content/uploads/2017/08/Murzarella-Dudu-II.jpg
END:VEVENT
END:VCALENDAR