BEGIN:VCALENDAR
VERSION:2.0
PRODID:-//Murzarella - ECPv6.15.20//NONSGML v1.0//EN
CALSCALE:GREGORIAN
METHOD:PUBLISH
X-WR-CALNAME:Murzarella
X-ORIGINAL-URL:https://murzarella.de
X-WR-CALDESC:Veranstaltungen für Murzarella
REFRESH-INTERVAL;VALUE=DURATION:PT1H
X-Robots-Tag:noindex
X-PUBLISHED-TTL:PT1H
BEGIN:VTIMEZONE
TZID:Europe/Berlin
BEGIN:DAYLIGHT
TZOFFSETFROM:+0100
TZOFFSETTO:+0200
TZNAME:CEST
DTSTART:20200329T010000
END:DAYLIGHT
BEGIN:STANDARD
TZOFFSETFROM:+0200
TZOFFSETTO:+0100
TZNAME:CET
DTSTART:20201025T010000
END:STANDARD
BEGIN:DAYLIGHT
TZOFFSETFROM:+0100
TZOFFSETTO:+0200
TZNAME:CEST
DTSTART:20210328T010000
END:DAYLIGHT
BEGIN:STANDARD
TZOFFSETFROM:+0200
TZOFFSETTO:+0100
TZNAME:CET
DTSTART:20211031T010000
END:STANDARD
BEGIN:DAYLIGHT
TZOFFSETFROM:+0100
TZOFFSETTO:+0200
TZNAME:CEST
DTSTART:20220327T010000
END:DAYLIGHT
BEGIN:STANDARD
TZOFFSETFROM:+0200
TZOFFSETTO:+0100
TZNAME:CET
DTSTART:20221030T010000
END:STANDARD
END:VTIMEZONE
BEGIN:VEVENT
DTSTART;VALUE=DATE:20210502
DTEND;VALUE=DATE:20210503
DTSTAMP:20260425T161826
CREATED:20200508T214009Z
LAST-MODIFIED:20200508T214009Z
UID:1931-1619913600-1619999999@murzarella.de
SUMMARY:Show „Bauchgesänge und andere Ungereimtheiten“
DESCRIPTION:
URL:https://bahnhof-langendreer.de
LOCATION:Bahnhof Langendreer\, 44894 Bochum
ATTACH;FMTTYPE=image/jpeg:https://murzarella.de/wp-content/uploads/2017/08/Murzarella-Dudu-II.jpg
END:VEVENT
BEGIN:VEVENT
DTSTART;VALUE=DATE:20210521
DTEND;VALUE=DATE:20210522
DTSTAMP:20260425T161826
CREATED:20210225T113939Z
LAST-MODIFIED:20210225T114002Z
UID:2424-1621555200-1621641599@murzarella.de
SUMMARY:Dreierpasch\, Mixed Show\, Ausschnitte
DESCRIPTION:
URL:http://stadt.buecherei-gladbeck.de
LOCATION:Stadtbücherei\, 45964 Gladbeck
ATTACH;FMTTYPE=image/jpeg:https://murzarella.de/wp-content/uploads/2017/08/Murzarella-Dudu-II.jpg
END:VEVENT
END:VCALENDAR