BEGIN:VCALENDAR
VERSION:2.0
PRODID:-//Murzarella - ECPv6.15.20//NONSGML v1.0//EN
CALSCALE:GREGORIAN
METHOD:PUBLISH
X-WR-CALNAME:Murzarella
X-ORIGINAL-URL:https://murzarella.de
X-WR-CALDESC:Veranstaltungen für Murzarella
REFRESH-INTERVAL;VALUE=DURATION:PT1H
X-Robots-Tag:noindex
X-PUBLISHED-TTL:PT1H
BEGIN:VTIMEZONE
TZID:Europe/Berlin
BEGIN:DAYLIGHT
TZOFFSETFROM:+0100
TZOFFSETTO:+0200
TZNAME:CEST
DTSTART:20200329T010000
END:DAYLIGHT
BEGIN:STANDARD
TZOFFSETFROM:+0200
TZOFFSETTO:+0100
TZNAME:CET
DTSTART:20201025T010000
END:STANDARD
BEGIN:DAYLIGHT
TZOFFSETFROM:+0100
TZOFFSETTO:+0200
TZNAME:CEST
DTSTART:20210328T010000
END:DAYLIGHT
BEGIN:STANDARD
TZOFFSETFROM:+0200
TZOFFSETTO:+0100
TZNAME:CET
DTSTART:20211031T010000
END:STANDARD
BEGIN:DAYLIGHT
TZOFFSETFROM:+0100
TZOFFSETTO:+0200
TZNAME:CEST
DTSTART:20220327T010000
END:DAYLIGHT
BEGIN:STANDARD
TZOFFSETFROM:+0200
TZOFFSETTO:+0100
TZNAME:CET
DTSTART:20221030T010000
END:STANDARD
END:VTIMEZONE
BEGIN:VEVENT
DTSTART;VALUE=DATE:20210803
DTEND;VALUE=DATE:20210804
DTSTAMP:20260425T214855
CREATED:20210525T212610Z
LAST-MODIFIED:20210723T135508Z
UID:2469-1627948800-1628035199@murzarella.de
SUMMARY:Show „Bauchgesänge und andere Ungereimtheiten“
DESCRIPTION:
URL:https://www.juist.de/suchen-buchen/veranstaltungen/details/murzarellas-musicpuppetshow/
LOCATION:Haus des Kurgastes\, 26571 Juist
ATTACH;FMTTYPE=image/jpeg:https://murzarella.de/wp-content/uploads/2017/08/Murzarella-Dudu-II.jpg
END:VEVENT
BEGIN:VEVENT
DTSTART;VALUE=DATE:20210804
DTEND;VALUE=DATE:20210805
DTSTAMP:20260425T214855
CREATED:20210707T232419Z
LAST-MODIFIED:20210707T232419Z
UID:2552-1628035200-1628121599@murzarella.de
SUMMARY:Show „Bauchgesänge und andere Ungereimtheiten“
DESCRIPTION:
URL:https://www.norderney.de/events.html
LOCATION:Kurplatz\, 26548 Norderney
ATTACH;FMTTYPE=image/jpeg:https://murzarella.de/wp-content/uploads/2017/08/Murzarella-Dudu-II.jpg
END:VEVENT
BEGIN:VEVENT
DTSTART;VALUE=DATE:20210806
DTEND;VALUE=DATE:20210807
DTSTAMP:20260425T214855
CREATED:20210707T230833Z
LAST-MODIFIED:20210707T230939Z
UID:2534-1628208000-1628294399@murzarella.de
SUMMARY:Ausschnitte
DESCRIPTION:
URL:https://festspiele-mv.de/intern/aktuelles/aktuelle/das-kleine-fest-im-grossen-park-kann-stattfinden/
LOCATION:Schlosspark\, Schloßfreiheit\, 19288 Ludwigslust
ATTACH;FMTTYPE=image/jpeg:https://murzarella.de/wp-content/uploads/2017/08/Murzarella-Dudu-II.jpg
END:VEVENT
BEGIN:VEVENT
DTSTART;VALUE=DATE:20210807
DTEND;VALUE=DATE:20210808
DTSTAMP:20260425T214855
CREATED:20210707T231119Z
LAST-MODIFIED:20210707T231119Z
UID:2539-1628294400-1628380799@murzarella.de
SUMMARY:Ausschnitte
DESCRIPTION:
URL:https://festspiele-mv.de/intern/aktuelles/aktuelle/das-kleine-fest-im-grossen-park-kann-stattfinden/
LOCATION:Schlosspark\, Schloßfreiheit\, 19288 Ludwigslust
ATTACH;FMTTYPE=image/jpeg:https://murzarella.de/wp-content/uploads/2017/08/Murzarella-Dudu-II.jpg
END:VEVENT
BEGIN:VEVENT
DTSTART;VALUE=DATE:20210808
DTEND;VALUE=DATE:20210809
DTSTAMP:20260425T214855
CREATED:20210707T231222Z
LAST-MODIFIED:20210707T231222Z
UID:2542-1628380800-1628467199@murzarella.de
SUMMARY:Ausschnitte
DESCRIPTION:
URL:https://festspiele-mv.de/intern/aktuelles/aktuelle/das-kleine-fest-im-grossen-park-kann-stattfinden/
LOCATION:Schlosspark\, Schloßfreiheit\, 19288 Ludwigslust
ATTACH;FMTTYPE=image/jpeg:https://murzarella.de/wp-content/uploads/2017/08/Murzarella-Dudu-II.jpg
END:VEVENT
BEGIN:VEVENT
DTSTART;VALUE=DATE:20210813
DTEND;VALUE=DATE:20210814
DTSTAMP:20260425T214855
CREATED:20210707T230327Z
LAST-MODIFIED:20210707T231337Z
UID:2530-1628812800-1628899199@murzarella.de
SUMMARY:Show „Bauchgesänge und andere Ungereimtheiten“
DESCRIPTION:
URL:https://book.takelgarn.de/elektra/jsp/step1.jsp
LOCATION:Engländerwiese im Düsseldorfer Nordpark (Takelgarn Theater)
ATTACH;FMTTYPE=image/jpeg:https://murzarella.de/wp-content/uploads/2017/08/Murzarella-Dudu-II.jpg
END:VEVENT
BEGIN:VEVENT
DTSTART;VALUE=DATE:20210814
DTEND;VALUE=DATE:20210815
DTSTAMP:20260425T214855
CREATED:20200508T213821Z
LAST-MODIFIED:20210425T140033Z
UID:1928-1628899200-1628985599@murzarella.de
SUMMARY:Show „Bauchgesänge und andere Ungereimtheiten“
DESCRIPTION:
URL:https://villa-uessbach.de/buehne-unterm-sternenzelt.html
LOCATION:Wald Villa Üssbach\, 56859 Alf Mosel
ATTACH;FMTTYPE=image/jpeg:https://murzarella.de/wp-content/uploads/2017/08/Murzarella-Dudu-II.jpg
END:VEVENT
BEGIN:VEVENT
DTSTART;VALUE=DATE:20210818
DTEND;VALUE=DATE:20210819
DTSTAMP:20260425T214855
CREATED:20210606T082246Z
LAST-MODIFIED:20210811T145551Z
UID:2500-1629244800-1629331199@murzarella.de
SUMMARY:Show „Bauchgesänge und andere Ungereimtheiten“ - ausverkauft-
DESCRIPTION:
URL:https://www.schnick-schnack.com/
LOCATION:Schnick Schnack\, 76437 Rastatt-Niederbühl
ATTACH;FMTTYPE=image/jpeg:https://murzarella.de/wp-content/uploads/2017/08/Murzarella-Dudu-II.jpg
END:VEVENT
BEGIN:VEVENT
DTSTART;VALUE=DATE:20210819
DTEND;VALUE=DATE:20210820
DTSTAMP:20260425T214855
CREATED:20210225T112439Z
LAST-MODIFIED:20210723T132445Z
UID:2416-1629331200-1629417599@murzarella.de
SUMMARY:Show „Bauchgesänge und andere Ungereimtheiten“
DESCRIPTION:
URL:https://www.reservix.de/tickets-murzarellas-music-puppet-show-in-oberkirch-im-garten-des-freche-hus-am-19-8-2021/e1658409
LOCATION:Im Garten des „freche hus“\, 77704 Oberkirch
ATTACH;FMTTYPE=image/jpeg:https://murzarella.de/wp-content/uploads/2017/08/Murzarella-Dudu-II.jpg
ORGANIZER;CN="Murzarella":MAILTO:events@sabine-murza.de
END:VEVENT
BEGIN:VEVENT
DTSTART;VALUE=DATE:20210823
DTEND;VALUE=DATE:20210824
DTSTAMP:20260425T214855
CREATED:20210808T115546Z
LAST-MODIFIED:20210808T115546Z
UID:2575-1629676800-1629763199@murzarella.de
SUMMARY:Mixed Show (Ausschnitte)
DESCRIPTION:
URL:https://www.zauberkasten.de/pgm-2021/august/
LOCATION:Theater Zauberkasten\, 44805 Bochum-Gerthe
ATTACH;FMTTYPE=image/jpeg:https://murzarella.de/wp-content/uploads/2017/08/Murzarella-Dudu-II.jpg
END:VEVENT
END:VCALENDAR