BEGIN:VCALENDAR
VERSION:2.0
PRODID:-//Murzarella - ECPv6.15.20//NONSGML v1.0//EN
CALSCALE:GREGORIAN
METHOD:PUBLISH
X-WR-CALNAME:Murzarella
X-ORIGINAL-URL:https://murzarella.de
X-WR-CALDESC:Veranstaltungen für Murzarella
REFRESH-INTERVAL;VALUE=DURATION:PT1H
X-Robots-Tag:noindex
X-PUBLISHED-TTL:PT1H
BEGIN:VTIMEZONE
TZID:Europe/Berlin
BEGIN:DAYLIGHT
TZOFFSETFROM:+0100
TZOFFSETTO:+0200
TZNAME:CEST
DTSTART:20200329T010000
END:DAYLIGHT
BEGIN:STANDARD
TZOFFSETFROM:+0200
TZOFFSETTO:+0100
TZNAME:CET
DTSTART:20201025T010000
END:STANDARD
BEGIN:DAYLIGHT
TZOFFSETFROM:+0100
TZOFFSETTO:+0200
TZNAME:CEST
DTSTART:20210328T010000
END:DAYLIGHT
BEGIN:STANDARD
TZOFFSETFROM:+0200
TZOFFSETTO:+0100
TZNAME:CET
DTSTART:20211031T010000
END:STANDARD
BEGIN:DAYLIGHT
TZOFFSETFROM:+0100
TZOFFSETTO:+0200
TZNAME:CEST
DTSTART:20220327T010000
END:DAYLIGHT
BEGIN:STANDARD
TZOFFSETFROM:+0200
TZOFFSETTO:+0100
TZNAME:CET
DTSTART:20221030T010000
END:STANDARD
END:VTIMEZONE
BEGIN:VEVENT
DTSTART;VALUE=DATE:20211202
DTEND;VALUE=DATE:20211203
DTSTAMP:20260426T053602
CREATED:20210129T190005Z
LAST-MODIFIED:20210129T190005Z
UID:2346-1638403200-1638489599@murzarella.de
SUMMARY:Show „Bauchgesänge und andere Ungereimtheiten“
DESCRIPTION:
URL:https://www.showspielhaus.de/shows/ueberraschungsgast-wir-lassen-die-puppen-tanzen/
LOCATION:Showspielhaus 65719 Hofheim
ATTACH;FMTTYPE=image/jpeg:https://murzarella.de/wp-content/uploads/2017/08/Murzarella-Dudu-II.jpg
END:VEVENT
BEGIN:VEVENT
DTSTART;VALUE=DATE:20211204
DTEND;VALUE=DATE:20211205
DTSTAMP:20260426T053602
CREATED:20210706T164538Z
LAST-MODIFIED:20210706T164538Z
UID:2519-1638576000-1638662399@murzarella.de
SUMMARY:Show „Bauchgesänge und andere Ungereimtheiten“
DESCRIPTION:
URL:https://www.theater-hammerschmiede.de/
LOCATION:Theater Hammerschmiede\, 72108 Rottenburg am Neckar
ATTACH;FMTTYPE=image/jpeg:https://murzarella.de/wp-content/uploads/2017/08/Murzarella-Dudu-II.jpg
END:VEVENT
BEGIN:VEVENT
DTSTART;VALUE=DATE:20211209
DTEND;VALUE=DATE:20211210
DTSTAMP:20260426T053602
CREATED:20210225T111836Z
LAST-MODIFIED:20210225T112605Z
UID:2410-1639008000-1639094399@murzarella.de
SUMMARY:Show „Bauchgesänge und andere Ungereimtheiten“
DESCRIPTION:
URL:https://www.pantheon.de/
LOCATION:Pantheon Theater\, 53229 Bonn
ATTACH;FMTTYPE=image/jpeg:https://murzarella.de/wp-content/uploads/2017/08/Murzarella-Dudu-II.jpg
END:VEVENT
BEGIN:VEVENT
DTSTART;VALUE=DATE:20211224
DTEND;VALUE=DATE:20211225
DTSTAMP:20260426T053602
CREATED:20211218T011205Z
LAST-MODIFIED:20211218T011205Z
UID:2770-1640304000-1640390399@murzarella.de
SUMMARY:SWR - Kaffee oder Tee - Fernsehsendung-Ausschnitte
DESCRIPTION:
URL:https://www.ardmediathek.de/sendung/kaffee-oder-tee/Y3JpZDovL3N3ci5kZS8yMjQ0NDQ4/
ATTACH;FMTTYPE=image/jpeg:https://murzarella.de/wp-content/uploads/2017/08/Murzarella-Dudu-II.jpg
END:VEVENT
BEGIN:VEVENT
DTSTART;VALUE=DATE:20211227
DTEND;VALUE=DATE:20211228
DTSTAMP:20260426T053602
CREATED:20210808T120505Z
LAST-MODIFIED:20210808T120505Z
UID:2579-1640563200-1640649599@murzarella.de
SUMMARY:Show „Bauchgesänge und andere Ungereimtheiten“
DESCRIPTION:
URL:https://tickets.vibus.de/00100014000001/shop/vstkalender.aspx?T00=
LOCATION:Tuttlinger Hallen\, 78532 Tuttlingen
ATTACH;FMTTYPE=image/jpeg:https://murzarella.de/wp-content/uploads/2017/08/Murzarella-Dudu-II.jpg
END:VEVENT
BEGIN:VEVENT
DTSTART;VALUE=DATE:20211228
DTEND;VALUE=DATE:20211229
DTSTAMP:20260426T053602
CREATED:20190524T190427Z
LAST-MODIFIED:20211114T145004Z
UID:1327-1640649600-1640735999@murzarella.de
SUMMARY:Show „Bauchgesänge und andere Ungereimtheiten“ verschoben auf 24.09.22
DESCRIPTION:
URL:http://www.forum-bodelshausen.de/startseite/veranstaltungen
LOCATION:Forum Bodelshausen\, 72411 Bodelshausen
ATTACH;FMTTYPE=image/jpeg:https://murzarella.de/wp-content/uploads/2017/08/Murzarella-Dudu-II.jpg
ORGANIZER;CN="Murzarella":MAILTO:events@sabine-murza.de
END:VEVENT
END:VCALENDAR