BEGIN:VCALENDAR
VERSION:2.0
PRODID:-//Murzarella - ECPv6.15.20//NONSGML v1.0//EN
CALSCALE:GREGORIAN
METHOD:PUBLISH
X-WR-CALNAME:Murzarella
X-ORIGINAL-URL:https://murzarella.de
X-WR-CALDESC:Veranstaltungen für Murzarella
REFRESH-INTERVAL;VALUE=DURATION:PT1H
X-Robots-Tag:noindex
X-PUBLISHED-TTL:PT1H
BEGIN:VTIMEZONE
TZID:Europe/Berlin
BEGIN:DAYLIGHT
TZOFFSETFROM:+0100
TZOFFSETTO:+0200
TZNAME:CEST
DTSTART:20230326T010000
END:DAYLIGHT
BEGIN:STANDARD
TZOFFSETFROM:+0200
TZOFFSETTO:+0100
TZNAME:CET
DTSTART:20231029T010000
END:STANDARD
BEGIN:DAYLIGHT
TZOFFSETFROM:+0100
TZOFFSETTO:+0200
TZNAME:CEST
DTSTART:20240331T010000
END:DAYLIGHT
BEGIN:STANDARD
TZOFFSETFROM:+0200
TZOFFSETTO:+0100
TZNAME:CET
DTSTART:20241027T010000
END:STANDARD
BEGIN:DAYLIGHT
TZOFFSETFROM:+0100
TZOFFSETTO:+0200
TZNAME:CEST
DTSTART:20250330T010000
END:DAYLIGHT
BEGIN:STANDARD
TZOFFSETFROM:+0200
TZOFFSETTO:+0100
TZNAME:CET
DTSTART:20251026T010000
END:STANDARD
END:VTIMEZONE
BEGIN:VEVENT
DTSTART;VALUE=DATE:20240405
DTEND;VALUE=DATE:20240406
DTSTAMP:20260425T214855
CREATED:20230313T232518Z
LAST-MODIFIED:20230313T232518Z
UID:3685-1712275200-1712361599@murzarella.de
SUMMARY:Show „Bauchgesänge … ab in die zweite Runde“
DESCRIPTION:
URL:https://www.kulturklub-bad-harzburg.de/programm/
LOCATION:Bündheimer Schloss\, 38667 Bad Harzburg
ATTACH;FMTTYPE=image/jpeg:https://murzarella.de/wp-content/uploads/2022/11/Pressebild-Murzarella-Bauchgesaenge-…-ab-in-die-zweite-Runde-rechteckig-webaufloesung.jpg
END:VEVENT
BEGIN:VEVENT
DTSTART;VALUE=DATE:20240406
DTEND;VALUE=DATE:20240407
DTSTAMP:20260425T214855
CREATED:20230630T231135Z
LAST-MODIFIED:20230630T231135Z
UID:3968-1712361600-1712447999@murzarella.de
SUMMARY:Show „Bauchgesänge und andere Ungereimtheiten“
DESCRIPTION:
URL:https://www.kuschu.online
LOCATION:Kulturschusterei\, 25355 Barmstedt
ATTACH;FMTTYPE=image/jpeg:https://murzarella.de/wp-content/uploads/2017/08/Murzarella-Dudu-II.jpg
END:VEVENT
BEGIN:VEVENT
DTSTART;VALUE=DATE:20240407
DTEND;VALUE=DATE:20240408
DTSTAMP:20260425T214855
CREATED:20230904T175651Z
LAST-MODIFIED:20230904T175651Z
UID:3994-1712448000-1712534399@murzarella.de
SUMMARY:Show „Bauchgesänge … ab in die zweite Runde“
DESCRIPTION:
URL:https://bz-ticket.de/murzarellas-music-puppet-show-tickets-luett-jever-scheune-ronnenberg
LOCATION:Lütt Jever Scheune\, 30952 Ronnenberg
ATTACH;FMTTYPE=image/jpeg:https://murzarella.de/wp-content/uploads/2022/11/Pressebild-Murzarella-Bauchgesaenge-…-ab-in-die-zweite-Runde-rechteckig-webaufloesung.jpg
ORGANIZER;CN="Murzarella":MAILTO:events@sabine-murza.de
END:VEVENT
BEGIN:VEVENT
DTSTART;VALUE=DATE:20240412
DTEND;VALUE=DATE:20240413
DTSTAMP:20260425T214855
CREATED:20230507T152745Z
LAST-MODIFIED:20230507T152745Z
UID:3822-1712880000-1712966399@murzarella.de
SUMMARY:Show „Bauchgesänge und andere Ungereimtheiten“
DESCRIPTION:
URL:https://www.reservix.de/tickets-bauchgesaenge-und-andere-ungereimtheiten-in-riegel-am-kaiserstuhl-theater-kumedi-am-12-4-2024/e2099197
LOCATION:Theater Kumedi\, 79359 Riegel am Kaiserstuhl
ATTACH;FMTTYPE=image/jpeg:https://murzarella.de/wp-content/uploads/2017/08/Murzarella-Dudu-II.jpg
END:VEVENT
BEGIN:VEVENT
DTSTART;VALUE=DATE:20240413
DTEND;VALUE=DATE:20240414
DTSTAMP:20260425T214855
CREATED:20230908T120132Z
LAST-MODIFIED:20230908T120132Z
UID:4013-1712966400-1713052799@murzarella.de
SUMMARY:Daphne de Luxe & Friends - Ausschnitte
DESCRIPTION:
URL:https://www.eventim.de/event/daphne-de-luxe-friends-theater-am-aegi-16870401/
LOCATION:Theater am Aegi\, 30159 Hannover
ATTACH;FMTTYPE=image/jpeg:https://murzarella.de/wp-content/uploads/2022/11/Pressebild-Murzarella-Bauchgesaenge-…-ab-in-die-zweite-Runde-rechteckig-webaufloesung.jpg
END:VEVENT
BEGIN:VEVENT
DTSTART;VALUE=DATE:20240414
DTEND;VALUE=DATE:20240415
DTSTAMP:20260425T214855
CREATED:20230515T195141Z
LAST-MODIFIED:20230515T195141Z
UID:3828-1713052800-1713139199@murzarella.de
SUMMARY:Show „Bauchgesänge … ab in die zweite Runde“
DESCRIPTION:
URL:https://www.zauberkasten.de/karten-mehr/vorverkauf/
LOCATION:Theater Zauberkasten\, 44805 Bochum-Gerthe
ATTACH;FMTTYPE=image/jpeg:https://murzarella.de/wp-content/uploads/2022/11/Pressebild-Murzarella-Bauchgesaenge-…-ab-in-die-zweite-Runde-rechteckig-webaufloesung.jpg
END:VEVENT
BEGIN:VEVENT
DTSTART;VALUE=DATE:20240419
DTEND;VALUE=DATE:20240420
DTSTAMP:20260425T214855
CREATED:20230505T191151Z
LAST-MODIFIED:20230505T191151Z
UID:3783-1713484800-1713571199@murzarella.de
SUMMARY:Show „Bauchgesänge … ab in die zweite Runde“
DESCRIPTION:
URL:https://www.kleinwallstadt.de/bildung-und-kultur/zehntscheune/kartenverkauf/
LOCATION:Zehntscheune\, 63839 Kleinwallstadt\, Adresse\, Ortschaft\, 54321
ATTACH;FMTTYPE=image/jpeg:https://murzarella.de/wp-content/uploads/2022/11/Pressebild-Murzarella-Bauchgesaenge-…-ab-in-die-zweite-Runde-rechteckig-webaufloesung.jpg
END:VEVENT
BEGIN:VEVENT
DTSTART;VALUE=DATE:20240420
DTEND;VALUE=DATE:20240421
DTSTAMP:20260425T214855
CREATED:20230515T212412Z
LAST-MODIFIED:20230515T212412Z
UID:3858-1713571200-1713657599@murzarella.de
SUMMARY:Show „Bauchgesänge … ab in die zweite Runde“
DESCRIPTION:
URL:https://www.hotel-hausamkurpark.de/de/sehebuehne-news-termine.html
LOCATION:Seh(e)-Bühne – Hotel Haus am Kurpark\, 75328 Schömberg\, Deutschland
ATTACH;FMTTYPE=image/jpeg:https://murzarella.de/wp-content/uploads/2022/11/Pressebild-Murzarella-Bauchgesaenge-…-ab-in-die-zweite-Runde-rechteckig-webaufloesung.jpg
END:VEVENT
BEGIN:VEVENT
DTSTART;VALUE=DATE:20240421
DTEND;VALUE=DATE:20240422
DTSTAMP:20260425T214855
CREATED:20230515T204110Z
LAST-MODIFIED:20230515T204110Z
UID:3843-1713657600-1713743999@murzarella.de
SUMMARY:Show „Bauchgesänge … ab in die zweite Runde“
DESCRIPTION:
URL:https://www.glasperlenspiel.de/kartenbestellung
LOCATION:Das Glasperlenspiel\, 71679 Asperg
ATTACH;FMTTYPE=image/jpeg:https://murzarella.de/wp-content/uploads/2022/11/Pressebild-Murzarella-Bauchgesaenge-…-ab-in-die-zweite-Runde-rechteckig-webaufloesung.jpg
END:VEVENT
BEGIN:VEVENT
DTSTART;VALUE=DATE:20240426
DTEND;VALUE=DATE:20240427
DTSTAMP:20260425T214855
CREATED:20231128T231236Z
LAST-MODIFIED:20231128T231236Z
UID:4165-1714089600-1714175999@murzarella.de
SUMMARY:Show „Bauchgesänge … ab in die zweite Runde“
DESCRIPTION:
URL:https://www.reservix.de/tickets-murzarellas-music-puppet-comedy-bauchgesaenge-ab-in-die-zweite-runde-in-gaggenau-klag-buehne-am-26-4-2024/e2164612
LOCATION:Klag-Bühne\, 76571 Gaggenau
ATTACH;FMTTYPE=image/jpeg:https://murzarella.de/wp-content/uploads/2022/11/Pressebild-Murzarella-Bauchgesaenge-…-ab-in-die-zweite-Runde-Quadrat-webaufloesung.jpg
ORGANIZER;CN="Murzarella":MAILTO:events@sabine-murza.de
END:VEVENT
BEGIN:VEVENT
DTSTART;VALUE=DATE:20240427
DTEND;VALUE=DATE:20240428
DTSTAMP:20260425T214855
CREATED:20230313T231555Z
LAST-MODIFIED:20230313T232817Z
UID:3682-1714176000-1714262399@murzarella.de
SUMMARY:Show „Bauchgesänge … ab in die zweite Runde“
DESCRIPTION:
URL:https://www.showspielhaus.de/gesamtprogramm/
LOCATION:Showspielhaus 65719 Hofheim
ATTACH;FMTTYPE=image/jpeg:https://murzarella.de/wp-content/uploads/2022/11/Pressebild-Murzarella-Bauchgesaenge-…-ab-in-die-zweite-Runde-rechteckig-webaufloesung.jpg
END:VEVENT
BEGIN:VEVENT
DTSTART;VALUE=DATE:20240428
DTEND;VALUE=DATE:20240429
DTSTAMP:20260425T214855
CREATED:20231128T232004Z
LAST-MODIFIED:20231128T232120Z
UID:4167-1714262400-1714348799@murzarella.de
SUMMARY:Show „Bauchgesänge ... ab in die zweite Runde“
DESCRIPTION:
URL:https://www.kabarettflin.de/spielplan-und-tickets
LOCATION:Kabarett Flin\, 40629 Düsseldorf
ATTACH;FMTTYPE=image/jpeg:https://murzarella.de/wp-content/uploads/2022/11/Pressebild-Murzarella-Bauchgesaenge-…-ab-in-die-zweite-Runde-Quadrat-webaufloesung.jpg
END:VEVENT
END:VCALENDAR