BEGIN:VCALENDAR
VERSION:2.0
PRODID:-//Murzarella - ECPv6.15.20//NONSGML v1.0//EN
CALSCALE:GREGORIAN
METHOD:PUBLISH
X-ORIGINAL-URL:https://murzarella.de
X-WR-CALDESC:Veranstaltungen für Murzarella
REFRESH-INTERVAL;VALUE=DURATION:PT1H
X-Robots-Tag:noindex
X-PUBLISHED-TTL:PT1H
BEGIN:VTIMEZONE
TZID:Europe/Berlin
BEGIN:DAYLIGHT
TZOFFSETFROM:+0100
TZOFFSETTO:+0200
TZNAME:CEST
DTSTART:20230326T010000
END:DAYLIGHT
BEGIN:STANDARD
TZOFFSETFROM:+0200
TZOFFSETTO:+0100
TZNAME:CET
DTSTART:20231029T010000
END:STANDARD
BEGIN:DAYLIGHT
TZOFFSETFROM:+0100
TZOFFSETTO:+0200
TZNAME:CEST
DTSTART:20240331T010000
END:DAYLIGHT
BEGIN:STANDARD
TZOFFSETFROM:+0200
TZOFFSETTO:+0100
TZNAME:CET
DTSTART:20241027T010000
END:STANDARD
BEGIN:DAYLIGHT
TZOFFSETFROM:+0100
TZOFFSETTO:+0200
TZNAME:CEST
DTSTART:20250330T010000
END:DAYLIGHT
BEGIN:STANDARD
TZOFFSETFROM:+0200
TZOFFSETTO:+0100
TZNAME:CET
DTSTART:20251026T010000
END:STANDARD
END:VTIMEZONE
BEGIN:VEVENT
DTSTART;VALUE=DATE:20240711
DTEND;VALUE=DATE:20240712
DTSTAMP:20260425T162028
CREATED:20240307T181359Z
LAST-MODIFIED:20240307T181519Z
UID:4321-1720656000-1720742399@murzarella.de
SUMMARY:Sommernachtstraum der Kleinkunst -Kurzshow 45 Min-
DESCRIPTION:
URL:https://www.vier-jahreszeiten-park.de/de/veranstaltungen/
LOCATION:Fernöstlicher Garten im Vier-Jahreszeiten-Park\, 59302 Oelde
ATTACH;FMTTYPE=image/jpeg:https://murzarella.de/wp-content/uploads/2017/08/Murzarella-Dudu-II.jpg
END:VEVENT
BEGIN:VEVENT
DTSTART;VALUE=DATE:20240712
DTEND;VALUE=DATE:20240713
DTSTAMP:20260425T162028
CREATED:20231217T204716Z
LAST-MODIFIED:20240328T174552Z
UID:4177-1720742400-1720828799@murzarella.de
SUMMARY:Show „Bauchgesänge und andere Ungereimtheiten“
DESCRIPTION:
URL:https://schiffshebewerk-henrichenburg.lwl.org/de/veranstaltungen/?id=1086367
LOCATION:LWL-Museum\, Schiffshebewerk Henrichenburg\, 45731 Waltrop
ATTACH;FMTTYPE=image/jpeg:https://murzarella.de/wp-content/uploads/2017/08/Murzarella-Dudu-II.jpg
END:VEVENT
BEGIN:VEVENT
DTSTART;VALUE=DATE:20240713
DTEND;VALUE=DATE:20240714
DTSTAMP:20260425T162028
CREATED:20231107T123815Z
LAST-MODIFIED:20231107T123815Z
UID:4147-1720828800-1720915199@murzarella.de
SUMMARY:Show „Bauchgesänge und andere Ungereimtheiten“
DESCRIPTION:
URL:https://wallufer-sommer.de
LOCATION:Alte Johanniskirche\, 65396 Walluf
ATTACH;FMTTYPE=image/jpeg:https://murzarella.de/wp-content/uploads/2017/08/Murzarella-Dudu-II.jpg
END:VEVENT
BEGIN:VEVENT
DTSTART;VALUE=DATE:20240721
DTEND;VALUE=DATE:20240722
DTSTAMP:20260425T162028
CREATED:20231217T205237Z
LAST-MODIFIED:20231217T205237Z
UID:4181-1721520000-1721606399@murzarella.de
SUMMARY:Das Burgfest - Hohentwiel Festival - Ausschnitte
DESCRIPTION:
URL:https://hohentwielfestival.de/das-burgfest/
LOCATION:Festungsruine Hohentwiel\, Hohentwiel 2a\, 78224 Singen (Hohentwiel)
ATTACH;FMTTYPE=image/jpeg:https://murzarella.de/wp-content/uploads/2017/08/Murzarella-Dudu-II.jpg
END:VEVENT
BEGIN:VEVENT
DTSTART;VALUE=DATE:20240724
DTEND;VALUE=DATE:20240725
DTSTAMP:20260425T162028
CREATED:20231217T205701Z
LAST-MODIFIED:20231217T205701Z
UID:4184-1721779200-1721865599@murzarella.de
SUMMARY:Daphne de Luxe & Friends - Ausschnitte
DESCRIPTION:
URL:https://www.buergerhaeuser-dreieich.de/burgfestspiele/spielplan/daphne-de-luxe-die-mixed-show-xxelle-2024
LOCATION:Burg Hayn\, 63303 Dreieich
ATTACH;FMTTYPE=image/jpeg:https://murzarella.de/wp-content/uploads/2022/11/Pressebild-Murzarella-Bauchgesaenge-…-ab-in-die-zweite-Runde-rechteckig-webaufloesung.jpg
END:VEVENT
END:VCALENDAR