BEGIN:VCALENDAR
VERSION:2.0
PRODID:-//Murzarella - ECPv6.15.20//NONSGML v1.0//EN
CALSCALE:GREGORIAN
METHOD:PUBLISH
X-ORIGINAL-URL:https://murzarella.de
X-WR-CALDESC:Veranstaltungen für Murzarella
REFRESH-INTERVAL;VALUE=DURATION:PT1H
X-Robots-Tag:noindex
X-PUBLISHED-TTL:PT1H
BEGIN:VTIMEZONE
TZID:Europe/Berlin
BEGIN:DAYLIGHT
TZOFFSETFROM:+0100
TZOFFSETTO:+0200
TZNAME:CEST
DTSTART:20230326T010000
END:DAYLIGHT
BEGIN:STANDARD
TZOFFSETFROM:+0200
TZOFFSETTO:+0100
TZNAME:CET
DTSTART:20231029T010000
END:STANDARD
BEGIN:DAYLIGHT
TZOFFSETFROM:+0100
TZOFFSETTO:+0200
TZNAME:CEST
DTSTART:20240331T010000
END:DAYLIGHT
BEGIN:STANDARD
TZOFFSETFROM:+0200
TZOFFSETTO:+0100
TZNAME:CET
DTSTART:20241027T010000
END:STANDARD
BEGIN:DAYLIGHT
TZOFFSETFROM:+0100
TZOFFSETTO:+0200
TZNAME:CEST
DTSTART:20250330T010000
END:DAYLIGHT
BEGIN:STANDARD
TZOFFSETFROM:+0200
TZOFFSETTO:+0100
TZNAME:CET
DTSTART:20251026T010000
END:STANDARD
END:VTIMEZONE
BEGIN:VEVENT
DTSTART;VALUE=DATE:20240803
DTEND;VALUE=DATE:20240804
DTSTAMP:20260425T142605
CREATED:20240307T183655Z
LAST-MODIFIED:20240307T183655Z
UID:4325-1722643200-1722729599@murzarella.de
SUMMARY:Kleines Fest im Großen Park -Ausschnitte-
DESCRIPTION:
URL:https://www.ludwigslust.de/Kultur-Tourismus/Veranstaltungen/Veranstaltungs-Highlights/Kleines-Fest-im-großen-Park-Programm-und-weitere-Hinweise.php?object=tx,3634.857.1&NavID=3634.238&La=1
LOCATION:Schlosspark\, Schloßfreiheit\, 19288 Ludwigslust
ATTACH;FMTTYPE=image/jpeg:https://murzarella.de/wp-content/uploads/2022/11/Pressebild-Murzarella-Bauchgesaenge-…-ab-in-die-zweite-Runde-rechteckig-webaufloesung.jpg
END:VEVENT
BEGIN:VEVENT
DTSTART;VALUE=DATE:20240804
DTEND;VALUE=DATE:20240805
DTSTAMP:20260425T142605
CREATED:20240307T183807Z
LAST-MODIFIED:20240307T183807Z
UID:4327-1722729600-1722815999@murzarella.de
SUMMARY:Kleines Fest im Großen Park -Ausschnitte-
DESCRIPTION:
URL:https://www.ludwigslust.de/Kultur-Tourismus/Veranstaltungen/Veranstaltungs-Highlights/Kleines-Fest-im-großen-Park-Programm-und-weitere-Hinweise.php?object=tx,3634.857.1&NavID=3634.238&La=1
LOCATION:Schlosspark\, Schloßfreiheit\, 19288 Ludwigslust
ATTACH;FMTTYPE=image/jpeg:https://murzarella.de/wp-content/uploads/2022/11/Pressebild-Murzarella-Bauchgesaenge-…-ab-in-die-zweite-Runde-rechteckig-webaufloesung.jpg
END:VEVENT
BEGIN:VEVENT
DTSTART;VALUE=DATE:20240807
DTEND;VALUE=DATE:20240808
DTSTAMP:20260425T142605
CREATED:20240508T000216Z
LAST-MODIFIED:20240508T000216Z
UID:4378-1722988800-1723075199@murzarella.de
SUMMARY:Show „Bauchgesänge … ab in die zweite Runde“
DESCRIPTION:
URL:https://www.schnick-schnack.com/
LOCATION:Schnick-Schnack\, 76437 Rastatt-Niederbühl
ATTACH;FMTTYPE=image/jpeg:https://murzarella.de/wp-content/uploads/2022/11/Pressebild-Murzarella-Bauchgesaenge-…-ab-in-die-zweite-Runde-rechteckig-webaufloesung.jpg
END:VEVENT
BEGIN:VEVENT
DTSTART;VALUE=DATE:20240817
DTEND;VALUE=DATE:20240818
DTSTAMP:20260425T142605
CREATED:20231025T105454Z
LAST-MODIFIED:20231025T105454Z
UID:4139-1723852800-1723939199@murzarella.de
SUMMARY:Show „Bauchgesänge und andere Ungereimtheiten“
DESCRIPTION:
URL:https://www.staatsbad-pyrmont.de/kultur-programm/veranstaltungskalender
LOCATION:Schlosshof Open Air\, 32812 Bad Pyrmont
ATTACH;FMTTYPE=image/jpeg:https://murzarella.de/wp-content/uploads/2017/08/Murzarella-Dudu-II.jpg
END:VEVENT
END:VCALENDAR