BEGIN:VCALENDAR
VERSION:2.0
PRODID:-//Murzarella - ECPv6.15.20//NONSGML v1.0//EN
CALSCALE:GREGORIAN
METHOD:PUBLISH
X-ORIGINAL-URL:https://murzarella.de
X-WR-CALDESC:Veranstaltungen für Murzarella
REFRESH-INTERVAL;VALUE=DURATION:PT1H
X-Robots-Tag:noindex
X-PUBLISHED-TTL:PT1H
BEGIN:VTIMEZONE
TZID:Europe/Berlin
BEGIN:DAYLIGHT
TZOFFSETFROM:+0100
TZOFFSETTO:+0200
TZNAME:CEST
DTSTART:20230326T010000
END:DAYLIGHT
BEGIN:STANDARD
TZOFFSETFROM:+0200
TZOFFSETTO:+0100
TZNAME:CET
DTSTART:20231029T010000
END:STANDARD
BEGIN:DAYLIGHT
TZOFFSETFROM:+0100
TZOFFSETTO:+0200
TZNAME:CEST
DTSTART:20240331T010000
END:DAYLIGHT
BEGIN:STANDARD
TZOFFSETFROM:+0200
TZOFFSETTO:+0100
TZNAME:CET
DTSTART:20241027T010000
END:STANDARD
BEGIN:DAYLIGHT
TZOFFSETFROM:+0100
TZOFFSETTO:+0200
TZNAME:CEST
DTSTART:20250330T010000
END:DAYLIGHT
BEGIN:STANDARD
TZOFFSETFROM:+0200
TZOFFSETTO:+0100
TZNAME:CET
DTSTART:20251026T010000
END:STANDARD
END:VTIMEZONE
BEGIN:VEVENT
DTSTART;VALUE=DATE:20240907
DTEND;VALUE=DATE:20240908
DTSTAMP:20260425T124228
CREATED:20240509T134708Z
LAST-MODIFIED:20240731T140252Z
UID:4386-1725667200-1725753599@murzarella.de
SUMMARY:4. Diedesfelder Comedy Night – Ausschnitte –
DESCRIPTION:
URL:https://flendes.de/event/comedy-night/
LOCATION:Weingut Glas\, 67434 Diedesfeld
ATTACH;FMTTYPE=image/jpeg:https://murzarella.de/wp-content/uploads/2017/08/Murzarella-Dudu-II.jpg
END:VEVENT
BEGIN:VEVENT
DTSTART;VALUE=DATE:20240912
DTEND;VALUE=DATE:20240913
DTSTAMP:20260425T124228
CREATED:20230914T214921Z
LAST-MODIFIED:20230914T214921Z
UID:4032-1726099200-1726185599@murzarella.de
SUMMARY:Show „Bauchgesänge … ab in die zweite Runde“
DESCRIPTION:
URL:https://www.wenningstedt.de/veranstaltungen
LOCATION:Kursaal³\, Wenningstedt-Braderup\, Insel Sylt
ATTACH;FMTTYPE=image/jpeg:https://murzarella.de/wp-content/uploads/2022/11/Pressebild-Murzarella-Bauchgesaenge-…-ab-in-die-zweite-Runde-rechteckig-webaufloesung.jpg
END:VEVENT
BEGIN:VEVENT
DTSTART;VALUE=DATE:20240914
DTEND;VALUE=DATE:20240915
DTSTAMP:20260425T124228
CREATED:20230914T214600Z
LAST-MODIFIED:20230914T214600Z
UID:4026-1726272000-1726358399@murzarella.de
SUMMARY:Show „Bauchgesänge und andere Ungereimtheiten“
DESCRIPTION:
URL:https://www.regioactive.de/location/buende/universum-qYnzRzHCn.html
LOCATION:Universum\, 32257 Bünde
ATTACH;FMTTYPE=image/jpeg:https://murzarella.de/wp-content/uploads/2017/08/Murzarella-Dudu-II.jpg
END:VEVENT
BEGIN:VEVENT
DTSTART;VALUE=DATE:20240915
DTEND;VALUE=DATE:20240916
DTSTAMP:20260425T124228
CREATED:20240309T131044Z
LAST-MODIFIED:20240309T131044Z
UID:4347-1726358400-1726444799@murzarella.de
SUMMARY:Frau Jahnke hat eingeladen -Ausschnitte-
DESCRIPTION:
URL:https://wuehlmaeuse.de/veranstaltung/gerburg-jahnke-hat-eingeladen/ticket/31691/
LOCATION:Theater „Die Wühlmäuse“\, 14052 Berlin
ATTACH;FMTTYPE=image/jpeg:https://murzarella.de/wp-content/uploads/2022/11/Pressebild-Murzarella-Bauchgesaenge-…-ab-in-die-zweite-Runde-rechteckig-webaufloesung.jpg
END:VEVENT
BEGIN:VEVENT
DTSTART;VALUE=DATE:20240916
DTEND;VALUE=DATE:20240917
DTSTAMP:20260425T124228
CREATED:20240309T131155Z
LAST-MODIFIED:20240309T131155Z
UID:4349-1726444800-1726531199@murzarella.de
SUMMARY:Frau Jahnke hat eingeladen -Ausschnitte-
DESCRIPTION:
URL:https://wuehlmaeuse.de/veranstaltung/gerburg-jahnke-hat-eingeladen/ticket/31696/
LOCATION:Theater „Die Wühlmäuse“\, 14052 Berlin
ATTACH;FMTTYPE=image/jpeg:https://murzarella.de/wp-content/uploads/2022/11/Pressebild-Murzarella-Bauchgesaenge-…-ab-in-die-zweite-Runde-rechteckig-webaufloesung.jpg
END:VEVENT
BEGIN:VEVENT
DTSTART;VALUE=DATE:20240917
DTEND;VALUE=DATE:20240918
DTSTAMP:20260425T124228
CREATED:20240309T131306Z
LAST-MODIFIED:20240309T131306Z
UID:4351-1726531200-1726617599@murzarella.de
SUMMARY:Frau Jahnke hat eingeladen -Ausschnitte-
DESCRIPTION:
URL:https://wuehlmaeuse.de/veranstaltung/gerburg-jahnke-hat-eingeladen/ticket/31702/
LOCATION:Theater „Die Wühlmäuse“\, 14052 Berlin
ATTACH;FMTTYPE=image/jpeg:https://murzarella.de/wp-content/uploads/2022/11/Pressebild-Murzarella-Bauchgesaenge-…-ab-in-die-zweite-Runde-rechteckig-webaufloesung.jpg
END:VEVENT
BEGIN:VEVENT
DTSTART;VALUE=DATE:20240919
DTEND;VALUE=DATE:20240920
DTSTAMP:20260425T124228
CREATED:20240309T131629Z
LAST-MODIFIED:20240309T131629Z
UID:4353-1726704000-1726790399@murzarella.de
SUMMARY:Frau Jahnke hat eingeladen -Ausschnitte-
DESCRIPTION:
URL:https://www.eventim.de/event/gerburg-jahnke-frau-jahnke-hat-eingeladen-steintor-variete-halle-18054293/?affiliate=GMD&gad_source=1&gclid=EAIaIQobChMIgd2KlaHnhAMVU5qDBx2bRA3SEAAYASAAEgK8mfD_BwE
LOCATION:Steintor-Variete\, 06112 Halle
ATTACH;FMTTYPE=image/jpeg:https://murzarella.de/wp-content/uploads/2022/11/Pressebild-Murzarella-Bauchgesaenge-…-ab-in-die-zweite-Runde-rechteckig-webaufloesung.jpg
END:VEVENT
BEGIN:VEVENT
DTSTART;VALUE=DATE:20240920
DTEND;VALUE=DATE:20240921
DTSTAMP:20260425T124228
CREATED:20231111T154940Z
LAST-MODIFIED:20231111T154940Z
UID:4150-1726790400-1726876799@murzarella.de
SUMMARY:Show „Bauchgesänge … ab in die zweite Runde“
DESCRIPTION:
URL:https://www.neue-schmiede.de
LOCATION:Neue Schmiede\, 33617 Bielefeld
ATTACH;FMTTYPE=image/jpeg:https://murzarella.de/wp-content/uploads/2022/11/Pressebild-Murzarella-Bauchgesaenge-…-ab-in-die-zweite-Runde-rechteckig-webaufloesung.jpg
END:VEVENT
BEGIN:VEVENT
DTSTART;VALUE=DATE:20240921
DTEND;VALUE=DATE:20240922
DTSTAMP:20260425T124228
CREATED:20240115T183906Z
LAST-MODIFIED:20240115T183906Z
UID:4252-1726876800-1726963199@murzarella.de
SUMMARY:Show „Bauchgesänge … ab in die zweite Runde“
DESCRIPTION:
URL:https://www.kabarettflin.de/spielplan-und-tickets
LOCATION:Kabarett Flin\, 40629 Düsseldorf
ATTACH;FMTTYPE=image/jpeg:https://murzarella.de/wp-content/uploads/2022/11/Pressebild-Murzarella-Bauchgesaenge-…-ab-in-die-zweite-Runde-rechteckig-webaufloesung.jpg
END:VEVENT
BEGIN:VEVENT
DTSTART;VALUE=DATE:20240922
DTEND;VALUE=DATE:20240923
DTSTAMP:20260425T124228
CREATED:20240115T190829Z
LAST-MODIFIED:20240115T190829Z
UID:4254-1726963200-1727049599@murzarella.de
SUMMARY:Show „Bauchgesänge und andere Ungereimtheiten“
DESCRIPTION:
URL:https://www.schmiede-weeze.de/
LOCATION:Kulturhaus Alte Schmiede\, 47652 Weeze.
ATTACH;FMTTYPE=image/jpeg:https://murzarella.de/wp-content/uploads/2017/08/Murzarella-Dudu-II.jpg
END:VEVENT
BEGIN:VEVENT
DTSTART;VALUE=DATE:20240927
DTEND;VALUE=DATE:20240928
DTSTAMP:20260425T124228
CREATED:20231217T210210Z
LAST-MODIFIED:20240906T215135Z
UID:4188-1727395200-1727481599@murzarella.de
SUMMARY:Show „Bauchgesänge und andere Ungereimtheiten“
DESCRIPTION:
URL:https://klick-immenstadt.dein-ticket.shop/events/klick-programm/herbst-2024/murzarella
LOCATION:Museum Hofmühle\, 87509 Immenstadt
ATTACH;FMTTYPE=image/jpeg:https://murzarella.de/wp-content/uploads/2017/08/Murzarella-Dudu-II.jpg
END:VEVENT
BEGIN:VEVENT
DTSTART;VALUE=DATE:20240928
DTEND;VALUE=DATE:20240929
DTSTAMP:20260425T124228
CREATED:20231217T210756Z
LAST-MODIFIED:20231217T210756Z
UID:4191-1727481600-1727567999@murzarella.de
SUMMARY:Show „Bauchgesänge und andere Ungereimtheiten“
DESCRIPTION:
URL:https://www.pik-mm.de/kontakt/karten
LOCATION:„PiK“ – Parterretheater im Künerhaus\, 87700 Memmingen
ATTACH;FMTTYPE=image/jpeg:https://murzarella.de/wp-content/uploads/2017/08/Murzarella-Dudu-II.jpg
END:VEVENT
END:VCALENDAR