BEGIN:VCALENDAR
VERSION:2.0
PRODID:-//Murzarella - ECPv6.15.20//NONSGML v1.0//EN
CALSCALE:GREGORIAN
METHOD:PUBLISH
X-WR-CALNAME:Murzarella
X-ORIGINAL-URL:https://murzarella.de
X-WR-CALDESC:Veranstaltungen für Murzarella
REFRESH-INTERVAL;VALUE=DURATION:PT1H
X-Robots-Tag:noindex
X-PUBLISHED-TTL:PT1H
BEGIN:VTIMEZONE
TZID:Europe/Berlin
BEGIN:DAYLIGHT
TZOFFSETFROM:+0100
TZOFFSETTO:+0200
TZNAME:CEST
DTSTART:20230326T010000
END:DAYLIGHT
BEGIN:STANDARD
TZOFFSETFROM:+0200
TZOFFSETTO:+0100
TZNAME:CET
DTSTART:20231029T010000
END:STANDARD
BEGIN:DAYLIGHT
TZOFFSETFROM:+0100
TZOFFSETTO:+0200
TZNAME:CEST
DTSTART:20240331T010000
END:DAYLIGHT
BEGIN:STANDARD
TZOFFSETFROM:+0200
TZOFFSETTO:+0100
TZNAME:CET
DTSTART:20241027T010000
END:STANDARD
BEGIN:DAYLIGHT
TZOFFSETFROM:+0100
TZOFFSETTO:+0200
TZNAME:CEST
DTSTART:20250330T010000
END:DAYLIGHT
BEGIN:STANDARD
TZOFFSETFROM:+0200
TZOFFSETTO:+0100
TZNAME:CET
DTSTART:20251026T010000
END:STANDARD
END:VTIMEZONE
BEGIN:VEVENT
DTSTART;VALUE=DATE:20241208
DTEND;VALUE=DATE:20241209
DTSTAMP:20260423T165150
CREATED:20240119T233438Z
LAST-MODIFIED:20240119T233438Z
UID:4271-1733616000-1733702399@murzarella.de
SUMMARY:Show „Bauchgesänge … ab in die zweite Runde“
DESCRIPTION:
URL:https://www.hoftheater.org/buehne/programm.html
LOCATION:Hoftheater\, 88255 Baienfurt
ATTACH;FMTTYPE=image/jpeg:https://murzarella.de/wp-content/uploads/2022/11/Pressebild-Murzarella-Bauchgesaenge-…-ab-in-die-zweite-Runde-rechteckig-webaufloesung.jpg
END:VEVENT
BEGIN:VEVENT
DTSTART;VALUE=DATE:20241215
DTEND;VALUE=DATE:20241216
DTSTAMP:20260423T165150
CREATED:20240204T001916Z
LAST-MODIFIED:20240204T001916Z
UID:4285-1734220800-1734307199@murzarella.de
SUMMARY:Show „Bauchgesänge … ab in die zweite Runde“
DESCRIPTION:
URL:https://www.reservix.de/tickets-murzarella-bauchgesaenge-und-andere-ungereimtheiten-in-weinheim-alte-druckerei-am-15-12-2024/e2224661
LOCATION:Kulturbühne Alte Druckerei\, 69469 Weinheim
ATTACH;FMTTYPE=image/jpeg:https://murzarella.de/wp-content/uploads/2022/11/Pressebild-Murzarella-Bauchgesaenge-…-ab-in-die-zweite-Runde-rechteckig-webaufloesung.jpg
END:VEVENT
BEGIN:VEVENT
DTSTART;VALUE=DATE:20241220
DTEND;VALUE=DATE:20241221
DTSTAMP:20260423T165150
CREATED:20240815T150741Z
LAST-MODIFIED:20241107T234138Z
UID:4487-1734652800-1734739199@murzarella.de
SUMMARY:Show „Bauchgesänge und andere Ungereimtheiten“ (einmalige Gelegenheit\, die erste Show nochmal in Baden-Württemberg zu sehen)
DESCRIPTION:
URL:https://stadtbadherrenalb.reservix.de/p/reservix/event/2305170
LOCATION:Kurhaus Bad Herrenalb\, 76332 Bad Herrenalb
ATTACH;FMTTYPE=image/jpeg:https://murzarella.de/wp-content/uploads/2016/02/Dudu-und-Sabine.jpg
END:VEVENT
BEGIN:VEVENT
DTSTART;VALUE=DATE:20241221
DTEND;VALUE=DATE:20241222
DTSTAMP:20260423T165150
CREATED:20240119T234235Z
LAST-MODIFIED:20240119T234235Z
UID:4275-1734739200-1734825599@murzarella.de
SUMMARY:Show „Bauchgesänge … ab in die zweite Runde“
DESCRIPTION:
URL:http://www.kulturverein-oberndorf.de/body_index.html
LOCATION:Kulturgarage\, 72108 Rottenburg am Neckar (Oberndorf)
ATTACH;FMTTYPE=image/jpeg:https://murzarella.de/wp-content/uploads/2022/11/Pressebild-Murzarella-Bauchgesaenge-…-ab-in-die-zweite-Runde-rechteckig-webaufloesung.jpg
END:VEVENT
BEGIN:VEVENT
DTSTART;VALUE=DATE:20241231
DTEND;VALUE=DATE:20250101
DTSTAMP:20260423T165150
CREATED:20240703T102928Z
LAST-MODIFIED:20240703T102928Z
UID:4470-1735603200-1735689599@murzarella.de
SUMMARY:Show „Bauchgesänge … ab in die zweite Runde“
DESCRIPTION:
URL:https://www.langenau.de/Pfleghof
LOCATION:Pfleghofsaal\, 89129 Langenau
ATTACH;FMTTYPE=image/jpeg:https://murzarella.de/wp-content/uploads/2022/11/Pressebild-Murzarella-Bauchgesaenge-…-ab-in-die-zweite-Runde-rechteckig-webaufloesung.jpg
END:VEVENT
END:VCALENDAR