BEGIN:VCALENDAR
VERSION:2.0
PRODID:-//Murzarella - ECPv6.15.20//NONSGML v1.0//EN
CALSCALE:GREGORIAN
METHOD:PUBLISH
X-ORIGINAL-URL:https://murzarella.de
X-WR-CALDESC:Veranstaltungen für Murzarella
REFRESH-INTERVAL;VALUE=DURATION:PT1H
X-Robots-Tag:noindex
X-PUBLISHED-TTL:PT1H
BEGIN:VTIMEZONE
TZID:Europe/Berlin
BEGIN:DAYLIGHT
TZOFFSETFROM:+0100
TZOFFSETTO:+0200
TZNAME:CEST
DTSTART:20240331T010000
END:DAYLIGHT
BEGIN:STANDARD
TZOFFSETFROM:+0200
TZOFFSETTO:+0100
TZNAME:CET
DTSTART:20241027T010000
END:STANDARD
BEGIN:DAYLIGHT
TZOFFSETFROM:+0100
TZOFFSETTO:+0200
TZNAME:CEST
DTSTART:20250330T010000
END:DAYLIGHT
BEGIN:STANDARD
TZOFFSETFROM:+0200
TZOFFSETTO:+0100
TZNAME:CET
DTSTART:20251026T010000
END:STANDARD
BEGIN:DAYLIGHT
TZOFFSETFROM:+0100
TZOFFSETTO:+0200
TZNAME:CEST
DTSTART:20260329T010000
END:DAYLIGHT
BEGIN:STANDARD
TZOFFSETFROM:+0200
TZOFFSETTO:+0100
TZNAME:CET
DTSTART:20261025T010000
END:STANDARD
END:VTIMEZONE
BEGIN:VEVENT
DTSTART;VALUE=DATE:20250105
DTEND;VALUE=DATE:20250106
DTSTAMP:20260423T144249
CREATED:20240119T010353Z
LAST-MODIFIED:20240119T010353Z
UID:4261-1736035200-1736121599@murzarella.de
SUMMARY:Show „Bauchgesänge … ab in die zweite Runde“
DESCRIPTION:
URL:https://tickets.vibus.de/shop/00100014000000/vstkalender.aspx?T00=
LOCATION:Angerhalle\, 78532 Tuttlingen
ATTACH;FMTTYPE=image/jpeg:https://murzarella.de/wp-content/uploads/2022/11/Pressebild-Murzarella-Bauchgesaenge-…-ab-in-die-zweite-Runde-rechteckig-webaufloesung.jpg
END:VEVENT
BEGIN:VEVENT
DTSTART;VALUE=DATE:20250107
DTEND;VALUE=DATE:20250108
DTSTAMP:20260423T144249
CREATED:20240225T213243Z
LAST-MODIFIED:20240225T213243Z
UID:4304-1736208000-1736294399@murzarella.de
SUMMARY:Show „Bauchgesänge … ab in die zweite Runde“
DESCRIPTION:
URL:https://www.spezialclub.de/veranstaltungen/7-januar-2025/murzarella/bauchgesaenge
LOCATION:Spezialclub im Apollo\, 30451 Hannover
ATTACH;FMTTYPE=image/jpeg:https://murzarella.de/wp-content/uploads/2022/11/Pressebild-Murzarella-Bauchgesaenge-…-ab-in-die-zweite-Runde-rechteckig-webaufloesung.jpg
END:VEVENT
BEGIN:VEVENT
DTSTART;VALUE=DATE:20250109
DTEND;VALUE=DATE:20250110
DTSTAMP:20260423T144249
CREATED:20231201T001526Z
LAST-MODIFIED:20231201T001526Z
UID:4170-1736380800-1736467199@murzarella.de
SUMMARY:Show „Bauchgesänge … ab in die zweite Runde“
DESCRIPTION:
URL:https://www.berlin.de/tickets/show/murzarella-80f410f3-51a0-4d1a-8ea4-83705456a239/
LOCATION:Theater „Die Wühlmäuse“\, 14052 Berlin
ATTACH;FMTTYPE=image/jpeg:https://murzarella.de/wp-content/uploads/2022/11/Pressebild-Murzarella-Bauchgesaenge-…-ab-in-die-zweite-Runde-rechteckig-webaufloesung.jpg
END:VEVENT
BEGIN:VEVENT
DTSTART;VALUE=DATE:20250110
DTEND;VALUE=DATE:20250111
DTSTAMP:20260423T144249
CREATED:20240119T233048Z
LAST-MODIFIED:20240119T233048Z
UID:4268-1736467200-1736553599@murzarella.de
SUMMARY:Show „Bauchgesänge und andere Ungereimtheiten“
DESCRIPTION:
URL:https://www.gutmann-nuernberg.com/konzert-details/murzarellas-music-puppet-show.html
LOCATION:Gutmann am Dutzendteich „Volksbühne Wanner“\, 90478 Nürnberg
ATTACH;FMTTYPE=image/jpeg:https://murzarella.de/wp-content/uploads/2017/08/Murzarella-Dudu-II.jpg
END:VEVENT
BEGIN:VEVENT
DTSTART;VALUE=DATE:20250117
DTEND;VALUE=DATE:20250118
DTSTAMP:20260423T144249
CREATED:20240224T005355Z
LAST-MODIFIED:20240224T005355Z
UID:4298-1737072000-1737158399@murzarella.de
SUMMARY:Show „Bauchgesänge … ab in die zweite Runde“
DESCRIPTION:
URL:https://kusch-herborn.reservix.de/tickets-murzarella-bauchgesaenge-ab-in-die-zweite-runde-in-herborn-kulturscheune-herborn-am-17-1-2025/e2219810
LOCATION:Kusch – Kulturscheune\, 35745 Herborn
ATTACH;FMTTYPE=image/jpeg:https://murzarella.de/wp-content/uploads/2022/11/Pressebild-Murzarella-Bauchgesaenge-…-ab-in-die-zweite-Runde-rechteckig-webaufloesung.jpg
END:VEVENT
BEGIN:VEVENT
DTSTART;VALUE=DATE:20250119
DTEND;VALUE=DATE:20250120
DTSTAMP:20260423T144249
CREATED:20240509T140449Z
LAST-MODIFIED:20240509T221153Z
UID:4394-1737244800-1737331199@murzarella.de
SUMMARY:Show „Bauchgesänge und andere Ungereimtheiten“
DESCRIPTION:
URL:https://aachen-franz.de/2025/01/19/murzarella/
LOCATION:Franz\, 52064 Aachen
ATTACH;FMTTYPE=image/jpeg:https://murzarella.de/wp-content/uploads/2017/08/Murzarella-Dudu-II.jpg
END:VEVENT
BEGIN:VEVENT
DTSTART;VALUE=DATE:20250125
DTEND;VALUE=DATE:20250126
DTSTAMP:20260423T144249
CREATED:20240625T161102Z
LAST-MODIFIED:20240625T161102Z
UID:4465-1737763200-1737849599@murzarella.de
SUMMARY:Show „Bauchgesänge und andere Ungereimtheiten“
DESCRIPTION:
URL:https://www.schuettekeller.de/Programm/Programm.html
LOCATION:Schüttekeller\, 77815 Bühl
ATTACH;FMTTYPE=image/jpeg:https://murzarella.de/wp-content/uploads/2017/08/Murzarella-Dudu-II.jpg
END:VEVENT
BEGIN:VEVENT
DTSTART;VALUE=DATE:20250126
DTEND;VALUE=DATE:20250127
DTSTAMP:20260423T144249
CREATED:20240204T002501Z
LAST-MODIFIED:20250104T125600Z
UID:4287-1737849600-1737935999@murzarella.de
SUMMARY:Show „Bauchgesänge … ab in die zweite Runde“
DESCRIPTION:
URL:https://sapperlottheater.reservix.de/p/reservix/event/2254976
LOCATION:64653 Lorsch\, Theater Sapperlot
ATTACH;FMTTYPE=image/jpeg:https://murzarella.de/wp-content/uploads/2022/11/Pressebild-Murzarella-Bauchgesaenge-…-ab-in-die-zweite-Runde-rechteckig-webaufloesung.jpg
END:VEVENT
BEGIN:VEVENT
DTSTART;VALUE=DATE:20250129
DTEND;VALUE=DATE:20250130
DTSTAMP:20260423T144249
CREATED:20240421T230415Z
LAST-MODIFIED:20240829T131858Z
UID:4363-1738108800-1738195199@murzarella.de
SUMMARY:Show „Bauchgesänge … ab in die zweite Runde“
DESCRIPTION:
URL:https://www.mauerwerk.de/sfe_event/murzarella-music-puppet-comedy-bauchgesaenge-ab-in-die-zweite-runde-2/
LOCATION:Mauerwerk\, 71083 Herrenberg\, Deutschland
ATTACH;FMTTYPE=image/jpeg:https://murzarella.de/wp-content/uploads/2022/11/Pressebild-Murzarella-Bauchgesaenge-…-ab-in-die-zweite-Runde-rechteckig-webaufloesung.jpg
END:VEVENT
BEGIN:VEVENT
DTSTART;VALUE=DATE:20250131
DTEND;VALUE=DATE:20250201
DTSTAMP:20260423T144249
CREATED:20240307T191913Z
LAST-MODIFIED:20240307T191913Z
UID:4340-1738281600-1738367999@murzarella.de
SUMMARY:Show „Bauchgesänge … ab in die zweite Runde“
DESCRIPTION:
URL:https://spiegelfechter.de/programm.php?detail=970&title=Sabine%20Murza%20%E2%80%BA%20%20%E2%80%BA%20%22Bauchges%C3%A4nge%E2%80%A6%20ab%20in%20die%202.%20Runde.%20-%20Murzarella%20Music-Puppet-Comedy%20%E2%80%BA
LOCATION:Kabarett in der Orgelfabrik\, 76227 Karlsruhe
ATTACH;FMTTYPE=image/jpeg:https://murzarella.de/wp-content/uploads/2022/11/Pressebild-Murzarella-Bauchgesaenge-…-ab-in-die-zweite-Runde-rechteckig-webaufloesung.jpg
END:VEVENT
END:VCALENDAR