BEGIN:VCALENDAR
VERSION:2.0
PRODID:-//Murzarella - ECPv6.15.20//NONSGML v1.0//EN
CALSCALE:GREGORIAN
METHOD:PUBLISH
X-ORIGINAL-URL:https://murzarella.de
X-WR-CALDESC:Veranstaltungen für Murzarella
REFRESH-INTERVAL;VALUE=DURATION:PT1H
X-Robots-Tag:noindex
X-PUBLISHED-TTL:PT1H
BEGIN:VTIMEZONE
TZID:Europe/Berlin
BEGIN:DAYLIGHT
TZOFFSETFROM:+0100
TZOFFSETTO:+0200
TZNAME:CEST
DTSTART:20240331T010000
END:DAYLIGHT
BEGIN:STANDARD
TZOFFSETFROM:+0200
TZOFFSETTO:+0100
TZNAME:CET
DTSTART:20241027T010000
END:STANDARD
BEGIN:DAYLIGHT
TZOFFSETFROM:+0100
TZOFFSETTO:+0200
TZNAME:CEST
DTSTART:20250330T010000
END:DAYLIGHT
BEGIN:STANDARD
TZOFFSETFROM:+0200
TZOFFSETTO:+0100
TZNAME:CET
DTSTART:20251026T010000
END:STANDARD
BEGIN:DAYLIGHT
TZOFFSETFROM:+0100
TZOFFSETTO:+0200
TZNAME:CEST
DTSTART:20260329T010000
END:DAYLIGHT
BEGIN:STANDARD
TZOFFSETFROM:+0200
TZOFFSETTO:+0100
TZNAME:CET
DTSTART:20261025T010000
END:STANDARD
END:VTIMEZONE
BEGIN:VEVENT
DTSTART;VALUE=DATE:20250205
DTEND;VALUE=DATE:20250206
DTSTAMP:20260423T123859
CREATED:20240119T011032Z
LAST-MODIFIED:20241015T140337Z
UID:4264-1738713600-1738799999@murzarella.de
SUMMARY:Show „Bauchgesänge und andere Ungereimtheiten“
DESCRIPTION:
URL:https://www.diekultourmacher.de/
LOCATION:Künstlerhaus Altes Amtsgericht\, 71032 Böblingen
ATTACH;FMTTYPE=image/jpeg:https://murzarella.de/wp-content/uploads/2017/08/Murzarella-Dudu-II.jpg
END:VEVENT
BEGIN:VEVENT
DTSTART;VALUE=DATE:20250207
DTEND;VALUE=DATE:20250208
DTSTAMP:20260423T123859
CREATED:20240421T232232Z
LAST-MODIFIED:20250204T202908Z
UID:4368-1738886400-1738972799@murzarella.de
SUMMARY:Show „Bauchgesänge und andere Ungereimtheiten“
DESCRIPTION:
URL:https://www.reservix.de/tickets-murzarella-music-puppet-comedy-bauchgesaenge-und-andere-ungereimtheiten-in-kahl-am-main-festhalle-am-7-2-2025/e2288600
LOCATION:Festhalle\, 63796 Kahl
ATTACH;FMTTYPE=image/jpeg:https://murzarella.de/wp-content/uploads/2017/08/Murzarella-Dudu-II.jpg
END:VEVENT
BEGIN:VEVENT
DTSTART;VALUE=DATE:20250208
DTEND;VALUE=DATE:20250209
DTSTAMP:20260423T123859
CREATED:20240502T140344Z
LAST-MODIFIED:20240502T140344Z
UID:4375-1738972800-1739059199@murzarella.de
SUMMARY:Show „Bauchgesänge und andere Ungereimtheiten“
DESCRIPTION:
URL:http://px-de-dom.com/index-Dateien/PXdeDom.htm
LOCATION:PX de Dom (Jakobuskirche)\, 68307 Mannheim
ATTACH;FMTTYPE=image/jpeg:https://murzarella.de/wp-content/uploads/2017/08/Murzarella-Dudu-II.jpg
END:VEVENT
BEGIN:VEVENT
DTSTART;VALUE=DATE:20250209
DTEND;VALUE=DATE:20250210
DTSTAMP:20260423T123859
CREATED:20240625T124004Z
LAST-MODIFIED:20250113T153006Z
UID:4443-1739059200-1739145599@murzarella.de
SUMMARY:Show „Bauchgesänge … ab in die zweite Runde“ – Dinnershow
DESCRIPTION:
URL:https://www.seehotel-niedernberg.de/shop/
LOCATION:Seehotel\, 63843 Niedernberg
ATTACH;FMTTYPE=image/jpeg:https://murzarella.de/wp-content/uploads/2022/11/Pressebild-Murzarella-Bauchgesaenge-…-ab-in-die-zweite-Runde-rechteckig-webaufloesung.jpg
END:VEVENT
BEGIN:VEVENT
DTSTART;VALUE=DATE:20250211
DTEND;VALUE=DATE:20250212
DTSTAMP:20260423T123859
CREATED:20250204T203722Z
LAST-MODIFIED:20250204T203722Z
UID:4641-1739232000-1739318399@murzarella.de
SUMMARY:SWR Fernsehen\, Portrait über Murzarella "Unsere Fasnachtstars"\, 22.30 Uhr
DESCRIPTION:
URL:javascript:return null;
ATTACH;FMTTYPE=image/jpeg:https://murzarella.de/wp-content/uploads/2022/11/Pressebild-Murzarella-Bauchgesaenge-…-ab-in-die-zweite-Runde-rechteckig-webaufloesung.jpg
END:VEVENT
BEGIN:VEVENT
DTSTART;VALUE=DATE:20250214
DTEND;VALUE=DATE:20250215
DTSTAMP:20260423T123859
CREATED:20240509T161513Z
LAST-MODIFIED:20240509T161513Z
UID:4414-1739491200-1739577599@murzarella.de
SUMMARY:Show „Bauchgesänge... ab in die zweite Runde"
DESCRIPTION:
URL:https://www.kuschu.online
LOCATION:Kulturschusterei\, 25355 Barmstedt
ATTACH;FMTTYPE=image/jpeg:https://murzarella.de/wp-content/uploads/2022/11/Pressebild-Murzarella-Bauchgesaenge-…-ab-in-die-zweite-Runde-rechteckig-webaufloesung.jpg
END:VEVENT
BEGIN:VEVENT
DTSTART;VALUE=DATE:20250215
DTEND;VALUE=DATE:20250216
DTSTAMP:20260423T123859
CREATED:20240625T130141Z
LAST-MODIFIED:20240625T130141Z
UID:4452-1739577600-1739663999@murzarella.de
SUMMARY:Show „Bauchgesänge und andere Ungereimtheiten“
DESCRIPTION:
URL:https://kapelle-hassbergen.de/index.php/kontakt
LOCATION:Festsaal Gasthaus Mönch\, 31626 Haßbergen
ATTACH;FMTTYPE=image/jpeg:https://murzarella.de/wp-content/uploads/2017/08/Murzarella-Dudu-II.jpg
END:VEVENT
BEGIN:VEVENT
DTSTART;VALUE=DATE:20250216
DTEND;VALUE=DATE:20250217
DTSTAMP:20260423T123859
CREATED:20240625T125229Z
LAST-MODIFIED:20240625T125229Z
UID:4448-1739664000-1739750399@murzarella.de
SUMMARY:Show „Bauchgesänge und andere Ungereimtheiten“
DESCRIPTION:
URL:https://windmuehle-heimsen.de/anfahrt/
LOCATION:Windmühle Heimsen\, 32469 Petershagen
ATTACH;FMTTYPE=image/jpeg:https://murzarella.de/wp-content/uploads/2017/08/Murzarella-Dudu-II.jpg
END:VEVENT
BEGIN:VEVENT
DTSTART;VALUE=DATE:20250220
DTEND;VALUE=DATE:20250221
DTSTAMP:20260423T123859
CREATED:20241107T141136Z
LAST-MODIFIED:20241107T141136Z
UID:4552-1740009600-1740095999@murzarella.de
SUMMARY:Dinner Show - Ausschnitte
DESCRIPTION:
URL:https://www.zum-schwarzen-baeren.de/
LOCATION:Zum schwarzen Bären\, 26434 Hooksiel
ATTACH;FMTTYPE=image/jpeg:https://murzarella.de/wp-content/uploads/2022/11/Pressebild-Murzarella-Bauchgesaenge-…-ab-in-die-zweite-Runde-rechteckig-webaufloesung.jpg
END:VEVENT
BEGIN:VEVENT
DTSTART;VALUE=DATE:20250221
DTEND;VALUE=DATE:20250222
DTSTAMP:20260423T123859
CREATED:20240510T114444Z
LAST-MODIFIED:20240510T114444Z
UID:4426-1740096000-1740182399@murzarella.de
SUMMARY:Show „Bauchgesänge … ab in die zweite Runde“
DESCRIPTION:
URL:https://www.bauhofkultur.de/tickets/
LOCATION:Kulturzentrum Bauhof\, 30966 Hemmingen
ATTACH;FMTTYPE=image/jpeg:https://murzarella.de/wp-content/uploads/2022/11/Pressebild-Murzarella-Bauchgesaenge-…-ab-in-die-zweite-Runde-rechteckig-webaufloesung.jpg
END:VEVENT
BEGIN:VEVENT
DTSTART;VALUE=DATE:20250222
DTEND;VALUE=DATE:20250223
DTSTAMP:20260423T123859
CREATED:20250204T203837Z
LAST-MODIFIED:20250204T203837Z
UID:4643-1740182400-1740268799@murzarella.de
SUMMARY:SWR Fernsehen\, Portrait über Murzarella "Unsere Fasnachtstars"\, 18.15 Uhr
DESCRIPTION:
URL:javascript:return null;
ATTACH;FMTTYPE=image/jpeg:https://murzarella.de/wp-content/uploads/2022/11/Pressebild-Murzarella-Bauchgesaenge-…-ab-in-die-zweite-Runde-rechteckig-webaufloesung.jpg
END:VEVENT
BEGIN:VEVENT
DTSTART;VALUE=DATE:20250223
DTEND;VALUE=DATE:20250224
DTSTAMP:20260423T123859
CREATED:20240502T134251Z
LAST-MODIFIED:20240619T103025Z
UID:4373-1740268800-1740355199@murzarella.de
SUMMARY:Show „Bauchgesänge … ab in die zweite Runde“
DESCRIPTION:
URL:https://www.frankfurtticket.de/tickets/murzarella-16230.68531/
LOCATION:AJOKI Cafébar\, 63450 Hanau
ATTACH;FMTTYPE=image/jpeg:https://murzarella.de/wp-content/uploads/2022/11/Pressebild-Murzarella-Bauchgesaenge-…-ab-in-die-zweite-Runde-rechteckig-webaufloesung.jpg
END:VEVENT
BEGIN:VEVENT
DTSTART;VALUE=DATE:20250223
DTEND;VALUE=DATE:20250224
DTSTAMP:20260423T123859
CREATED:20250204T204105Z
LAST-MODIFIED:20250204T204105Z
UID:4645-1740268800-1740355199@murzarella.de
SUMMARY:SWR Fernsehen\, Portrait über Murzarella "Unsere Fasnachtstars"\, 2:50 Uhr (für die Nachteulen) ;-)
DESCRIPTION:
URL:javascript:return null;
ATTACH;FMTTYPE=image/jpeg:https://murzarella.de/wp-content/uploads/2022/11/Pressebild-Murzarella-Bauchgesaenge-…-ab-in-die-zweite-Runde-rechteckig-webaufloesung.jpg
END:VEVENT
BEGIN:VEVENT
DTSTART;VALUE=DATE:20250227
DTEND;VALUE=DATE:20250228
DTSTAMP:20260423T123859
CREATED:20240625T122233Z
LAST-MODIFIED:20240625T122233Z
UID:4439-1740614400-1740700799@murzarella.de
SUMMARY:Lachnacht -Ausschnitte-
DESCRIPTION:
URL:https://www.reservix.de/tickets-1-kornwestheimer-lachnacht-mit-frederic-hormuth-murzarella-jonas-greiner-boris-stijelja-und-olaf-bossi-in-kornwestheim-das-k-kultur-und-kongresszentrum-theatersaal-am-27-2-2025/e2264424
LOCATION:Das K -Kultur- und Kongresszentrum\, 70806 Kornwestheim
ATTACH;FMTTYPE=image/jpeg:https://murzarella.de/wp-content/uploads/2017/08/Murzarella-Dudu-II.jpg
END:VEVENT
END:VCALENDAR