BEGIN:VCALENDAR
VERSION:2.0
PRODID:-//Murzarella - ECPv6.15.20//NONSGML v1.0//EN
CALSCALE:GREGORIAN
METHOD:PUBLISH
X-WR-CALNAME:Murzarella
X-ORIGINAL-URL:https://murzarella.de
X-WR-CALDESC:Veranstaltungen für Murzarella
REFRESH-INTERVAL;VALUE=DURATION:PT1H
X-Robots-Tag:noindex
X-PUBLISHED-TTL:PT1H
BEGIN:VTIMEZONE
TZID:Europe/Berlin
BEGIN:DAYLIGHT
TZOFFSETFROM:+0100
TZOFFSETTO:+0200
TZNAME:CEST
DTSTART:20240331T010000
END:DAYLIGHT
BEGIN:STANDARD
TZOFFSETFROM:+0200
TZOFFSETTO:+0100
TZNAME:CET
DTSTART:20241027T010000
END:STANDARD
BEGIN:DAYLIGHT
TZOFFSETFROM:+0100
TZOFFSETTO:+0200
TZNAME:CEST
DTSTART:20250330T010000
END:DAYLIGHT
BEGIN:STANDARD
TZOFFSETFROM:+0200
TZOFFSETTO:+0100
TZNAME:CET
DTSTART:20251026T010000
END:STANDARD
BEGIN:DAYLIGHT
TZOFFSETFROM:+0100
TZOFFSETTO:+0200
TZNAME:CEST
DTSTART:20260329T010000
END:DAYLIGHT
BEGIN:STANDARD
TZOFFSETFROM:+0200
TZOFFSETTO:+0100
TZNAME:CET
DTSTART:20261025T010000
END:STANDARD
END:VTIMEZONE
BEGIN:VEVENT
DTSTART;VALUE=DATE:20250302
DTEND;VALUE=DATE:20250303
DTSTAMP:20260423T105030
CREATED:20250204T203503Z
LAST-MODIFIED:20250204T203503Z
UID:4639-1740873600-1740959999@murzarella.de
SUMMARY:SWR Fernsehen\, Badisch-Pfälzische Fasnacht\, 20.20 Uhr
DESCRIPTION:
URL:javascript:return null;
ATTACH;FMTTYPE=image/jpeg:https://murzarella.de/wp-content/uploads/2022/11/Pressebild-Murzarella-Bauchgesaenge-…-ab-in-die-zweite-Runde-rechteckig-webaufloesung.jpg
END:VEVENT
BEGIN:VEVENT
DTSTART;VALUE=DATE:20250303
DTEND;VALUE=DATE:20250304
DTSTAMP:20260423T105030
CREATED:20250204T204227Z
LAST-MODIFIED:20250204T204227Z
UID:4647-1740960000-1741046399@murzarella.de
SUMMARY:SWR Fernsehen\, Portrait über Murzarella "Unsere Fasnachtstars"\, 16:00 Uhr
DESCRIPTION:
URL:javascript:return null;
ATTACH;FMTTYPE=image/jpeg:https://murzarella.de/wp-content/uploads/2022/11/Pressebild-Murzarella-Bauchgesaenge-…-ab-in-die-zweite-Runde-rechteckig-webaufloesung.jpg
END:VEVENT
BEGIN:VEVENT
DTSTART;VALUE=DATE:20250308
DTEND;VALUE=DATE:20250309
DTSTAMP:20260423T105030
CREATED:20240309T130345Z
LAST-MODIFIED:20240610T131815Z
UID:4342-1741392000-1741478399@murzarella.de
SUMMARY:Show „Bauchgesänge und andere Ungereimtheiten“
DESCRIPTION:
URL:https://www.ingelheimer-winzerkeller.de/event/murzarellas-music-puppet-show/
LOCATION:Ingelheimer Winzerkeller\, 55218 Ingelheim am Rhein
ATTACH;FMTTYPE=image/jpeg:https://murzarella.de/wp-content/uploads/2017/08/Murzarella-Dudu-II.jpg
END:VEVENT
BEGIN:VEVENT
DTSTART;VALUE=DATE:20250309
DTEND;VALUE=DATE:20250310
DTSTAMP:20260423T105030
CREATED:20240225T212829Z
LAST-MODIFIED:20250202T171133Z
UID:4302-1741478400-1741564799@murzarella.de
SUMMARY:Show „Bauchgesänge … ab in die zweite Runde“
DESCRIPTION:
URL:https://www.reservix.de/tickets-murzarellas-music-puppet-show-in-stuttgart-theaterhaus-t3-am-9-3-2025/e2371366
LOCATION:Theaterhaus\, 70469 Stuttgart
ATTACH;FMTTYPE=image/jpeg:https://murzarella.de/wp-content/uploads/2022/11/Pressebild-Murzarella-Bauchgesaenge-…-ab-in-die-zweite-Runde-rechteckig-webaufloesung.jpg
END:VEVENT
BEGIN:VEVENT
DTSTART;VALUE=DATE:20250312
DTEND;VALUE=DATE:20250313
DTSTAMP:20260423T105030
CREATED:20241107T141656Z
LAST-MODIFIED:20241107T141656Z
UID:4554-1741737600-1741823999@murzarella.de
SUMMARY:Lachnacht - Ausschnitte
DESCRIPTION:
URL:https://tickets.vibus.de/Shop/-/Friedrichsdorf/Forum_Friedrichsdorf/Gro%C3%9Fer_Saal/2_Friedrichsdorfer_Lachnacht/-/00000000000000/VstDetails.aspx?VstKey=10013400910989000
LOCATION:Forum Friedrichsdorf\, Großer Saal\, 61381 Friedrichsdorf
ATTACH;FMTTYPE=image/jpeg:https://murzarella.de/wp-content/uploads/2022/11/Pressebild-Murzarella-Bauchgesaenge-…-ab-in-die-zweite-Runde-rechteckig-webaufloesung.jpg
END:VEVENT
BEGIN:VEVENT
DTSTART;VALUE=DATE:20250314
DTEND;VALUE=DATE:20250315
DTSTAMP:20260423T105030
CREATED:20241001T135304Z
LAST-MODIFIED:20241001T135304Z
UID:4510-1741910400-1741996799@murzarella.de
SUMMARY:Show „Bauchgesänge … ab in die zweite Runde“
DESCRIPTION:
URL:https://www.eventim.de/event/murzarellas-music-puppet-show-hansa-theater-hoerde-18417703/?srsltid=AfmBOoqtjpVB6rUKINQbbERAVIOiPgU_guYeY5pt2hde0Sl4qH2fET7h
LOCATION:Hansa Theater Hörde\, 44263 Dortmund
ATTACH;FMTTYPE=image/jpeg:https://murzarella.de/wp-content/uploads/2022/11/Pressebild-Murzarella-Bauchgesaenge-…-ab-in-die-zweite-Runde-rechteckig-webaufloesung.jpg
END:VEVENT
BEGIN:VEVENT
DTSTART;VALUE=DATE:20250315
DTEND;VALUE=DATE:20250316
DTSTAMP:20260423T105030
CREATED:20240625T133508Z
LAST-MODIFIED:20240625T133508Z
UID:4460-1741996800-1742083199@murzarella.de
SUMMARY:Show „Bauchgesänge … ab in die zweite Runde“
DESCRIPTION:
URL:https://www.kabarettflin.de/spielplan-und-tickets
LOCATION:Kabarett Flin\, 40629 Düsseldorf
ATTACH;FMTTYPE=image/jpeg:https://murzarella.de/wp-content/uploads/2022/11/Pressebild-Murzarella-Bauchgesaenge-…-ab-in-die-zweite-Runde-rechteckig-webaufloesung.jpg
END:VEVENT
BEGIN:VEVENT
DTSTART;VALUE=DATE:20250316
DTEND;VALUE=DATE:20250317
DTSTAMP:20260423T105030
CREATED:20240509T141018Z
LAST-MODIFIED:20240509T141018Z
UID:4399-1742083200-1742169599@murzarella.de
SUMMARY:Show „Bauchgesänge... ab in die zweite Runde"
DESCRIPTION:
URL:https://kulturverein-burscheid.de/termine/
LOCATION:Kultur-Badehaus\, 51399 Burscheid
ATTACH;FMTTYPE=image/jpeg:https://murzarella.de/wp-content/uploads/2022/11/Pressebild-Murzarella-Bauchgesaenge-…-ab-in-die-zweite-Runde-rechteckig-webaufloesung.jpg
END:VEVENT
BEGIN:VEVENT
DTSTART;VALUE=DATE:20250321
DTEND;VALUE=DATE:20250322
DTSTAMP:20260423T105030
CREATED:20240509T141439Z
LAST-MODIFIED:20250307T001817Z
UID:4401-1742515200-1742601599@murzarella.de
SUMMARY:Show „Bauchgesänge... ab in die zweite Runde"
DESCRIPTION:
URL:https://www.fabrik-muehlhofen.de/murzarella
LOCATION:Alte Fabrik Mühlhofen\, 88690 Uhldingen-Mühlhofen
ATTACH;FMTTYPE=image/jpeg:https://murzarella.de/wp-content/uploads/2022/11/Pressebild-Murzarella-Bauchgesaenge-…-ab-in-die-zweite-Runde-rechteckig-webaufloesung.jpg
END:VEVENT
BEGIN:VEVENT
DTSTART;VALUE=DATE:20250322
DTEND;VALUE=DATE:20250323
DTSTAMP:20260423T105030
CREATED:20240625T132945Z
LAST-MODIFIED:20250317T175609Z
UID:4455-1742601600-1742687999@murzarella.de
SUMMARY:Show „Bauchgesänge … Best of“
DESCRIPTION:
URL:https://www.reservix.de/tickets-murzarellas-music-puppet-comedy-murzarella-bauchgesaenge-best-of-in-bruehl-festhalle-bruehl-am-22-3-2025/e2272292
LOCATION:Festhalle Brühl\, 68782 Brühl
ATTACH;FMTTYPE=image/jpeg:https://murzarella.de/wp-content/uploads/2024/10/Montage-Kopfgrafik-10-2024-1.jpg
END:VEVENT
BEGIN:VEVENT
DTSTART;VALUE=DATE:20250323
DTEND;VALUE=DATE:20250324
DTSTAMP:20260423T105030
CREATED:20241107T142032Z
LAST-MODIFIED:20241107T142032Z
UID:4557-1742688000-1742774399@murzarella.de
SUMMARY:Show „Bauchgesänge … ab in die zweite Runde“
DESCRIPTION:
URL:https://www.schwaebisch-gmuend.de/veranstaltung/murzarellas-music-puppet-comedy.html
LOCATION:Theaterwerkstatt\, 73525 Schwäbisch Gmünd
ATTACH;FMTTYPE=image/jpeg:https://murzarella.de/wp-content/uploads/2022/11/Pressebild-Murzarella-Bauchgesaenge-…-ab-in-die-zweite-Runde-rechteckig-webaufloesung.jpg
END:VEVENT
BEGIN:VEVENT
DTSTART;VALUE=DATE:20250326
DTEND;VALUE=DATE:20250327
DTSTAMP:20260423T105030
CREATED:20241001T140218Z
LAST-MODIFIED:20241001T140218Z
UID:4512-1742947200-1743033599@murzarella.de
SUMMARY:Lachnacht -Ausschnitte-
DESCRIPTION:
URL:https://www.reservix.de/tickets-2-germersheimer-lachnacht-mit-boris-stijelja-murzarella-max-beier-und-roberto-capitoni-in-germersheim-stadthalle-germersheim-am-26-3-2025/e2303713
LOCATION:Stadthalle\, 76726 Germersheim
ATTACH;FMTTYPE=image/jpeg:https://murzarella.de/wp-content/uploads/2017/08/Murzarella-Dudu-II.jpg
END:VEVENT
BEGIN:VEVENT
DTSTART;VALUE=DATE:20250328
DTEND;VALUE=DATE:20250329
DTSTAMP:20260423T105030
CREATED:20240625T133132Z
LAST-MODIFIED:20250113T145738Z
UID:4458-1743120000-1743206399@murzarella.de
SUMMARY:Show „Bauchgesänge … ab in die zweite Runde“
DESCRIPTION:
URL:https://www.theaterimpariserhof.de/events/murzarella-bauchgesaenge-ab-in-die-zweite-runde-2/
LOCATION:Theater im Pariser Hof\, 65183 Wiesbaden
ATTACH;FMTTYPE=image/jpeg:https://murzarella.de/wp-content/uploads/2022/11/Pressebild-Murzarella-Bauchgesaenge-…-ab-in-die-zweite-Runde-rechteckig-webaufloesung.jpg
END:VEVENT
BEGIN:VEVENT
DTSTART;VALUE=DATE:20250329
DTEND;VALUE=DATE:20250330
DTSTAMP:20260423T105030
CREATED:20241107T134809Z
LAST-MODIFIED:20241107T134809Z
UID:4543-1743206400-1743292799@murzarella.de
SUMMARY:Show „Bauchgesänge und andere Ungereimtheiten“
DESCRIPTION:
URL:https://www.reservix.de/tickets-murzarella-music-puppet-comedy-bauchgesaenge-und-andere-ungereimtheiten-in-schloss-holte-stukenbrock-aula-am-gymnasium-schloss-holte-stukenbrock-am-29-3-2025/e2315748
LOCATION:Aula am Gymnasium Schloß Holte-Stukenbrock\, 33758 Schloß Holte-Stukenbrock
ATTACH;FMTTYPE=image/jpeg:https://murzarella.de/wp-content/uploads/2017/08/Murzarella-Dudu-II.jpg
END:VEVENT
BEGIN:VEVENT
DTSTART;VALUE=DATE:20250330
DTEND;VALUE=DATE:20250331
DTSTAMP:20260423T105030
CREATED:20240306T130302Z
LAST-MODIFIED:20240306T130302Z
UID:4313-1743292800-1743379199@murzarella.de
SUMMARY:Show „Bauchgesänge … ab in die zweite Runde“
DESCRIPTION:
URL:https://hofgarten-kabarett.de/veranstaltung/show-2-bauchgesaenge-ab-in-die-zweite-runde/
LOCATION:Hofgarten Kabarett\, 63739 Aschaffenburg
ATTACH;FMTTYPE=image/jpeg:https://murzarella.de/wp-content/uploads/2022/11/Pressebild-Murzarella-Bauchgesaenge-…-ab-in-die-zweite-Runde-rechteckig-webaufloesung.jpg
END:VEVENT
END:VCALENDAR