BEGIN:VCALENDAR
VERSION:2.0
PRODID:-//Murzarella - ECPv6.15.20//NONSGML v1.0//EN
CALSCALE:GREGORIAN
METHOD:PUBLISH
X-WR-CALNAME:Murzarella
X-ORIGINAL-URL:https://murzarella.de
X-WR-CALDESC:Veranstaltungen für Murzarella
REFRESH-INTERVAL;VALUE=DURATION:PT1H
X-Robots-Tag:noindex
X-PUBLISHED-TTL:PT1H
BEGIN:VTIMEZONE
TZID:Europe/Berlin
BEGIN:DAYLIGHT
TZOFFSETFROM:+0100
TZOFFSETTO:+0200
TZNAME:CEST
DTSTART:20240331T010000
END:DAYLIGHT
BEGIN:STANDARD
TZOFFSETFROM:+0200
TZOFFSETTO:+0100
TZNAME:CET
DTSTART:20241027T010000
END:STANDARD
BEGIN:DAYLIGHT
TZOFFSETFROM:+0100
TZOFFSETTO:+0200
TZNAME:CEST
DTSTART:20250330T010000
END:DAYLIGHT
BEGIN:STANDARD
TZOFFSETFROM:+0200
TZOFFSETTO:+0100
TZNAME:CET
DTSTART:20251026T010000
END:STANDARD
BEGIN:DAYLIGHT
TZOFFSETFROM:+0100
TZOFFSETTO:+0200
TZNAME:CEST
DTSTART:20260329T010000
END:DAYLIGHT
BEGIN:STANDARD
TZOFFSETFROM:+0200
TZOFFSETTO:+0100
TZNAME:CET
DTSTART:20261025T010000
END:STANDARD
END:VTIMEZONE
BEGIN:VEVENT
DTSTART;VALUE=DATE:20250501
DTEND;VALUE=DATE:20250502
DTSTAMP:20260423T065115
CREATED:20240204T003029Z
LAST-MODIFIED:20240204T003029Z
UID:4289-1746057600-1746143999@murzarella.de
SUMMARY:Show „Bauchgesänge … ab in die zweite Runde“
DESCRIPTION:
URL:https://www.adticket.de/Murzarellas-Music-Puppet-Show/Deidesheim-Boulevardtheater-Deidesheim-Stadthalle/01-05-2025_17-00.html
LOCATION:Boulevardtheater Deidesheim\, 67146 Deidesheim
ATTACH;FMTTYPE=image/jpeg:https://murzarella.de/wp-content/uploads/2022/11/Pressebild-Murzarella-Bauchgesaenge-…-ab-in-die-zweite-Runde-rechteckig-webaufloesung.jpg
END:VEVENT
BEGIN:VEVENT
DTSTART;VALUE=DATE:20250502
DTEND;VALUE=DATE:20250503
DTSTAMP:20260423T065115
CREATED:20240509T160958Z
LAST-MODIFIED:20240509T160958Z
UID:4412-1746144000-1746230399@murzarella.de
SUMMARY:Show „Bauchgesänge... ab in die zweite Runde"
DESCRIPTION:
URL:https://www.showspielhaus.de/gesamtprogramm/
LOCATION:Showspielhaus 65719 Hofheim
ATTACH;FMTTYPE=image/jpeg:https://murzarella.de/wp-content/uploads/2022/11/Pressebild-Murzarella-Bauchgesaenge-…-ab-in-die-zweite-Runde-rechteckig-webaufloesung.jpg
END:VEVENT
BEGIN:VEVENT
DTSTART;VALUE=DATE:20250503
DTEND;VALUE=DATE:20250504
DTSTAMP:20260423T065115
CREATED:20241129T001155Z
LAST-MODIFIED:20241129T001155Z
UID:4588-1746230400-1746316799@murzarella.de
SUMMARY:Show „Bauchgesänge … ab in die zweite Runde“
DESCRIPTION:
URL:https://www.reservix.de/tickets-murzarella-murzarellas-music-puppet-comedy-bauchgesaenge-ab-in-die-zweite-runde-in-koeln-senftoepfchen-theater-am-3-5-2025/e2342413
LOCATION:Senftöpfchen\, 50667 Köln
ATTACH;FMTTYPE=image/jpeg:https://murzarella.de/wp-content/uploads/2022/11/Pressebild-Murzarella-Bauchgesaenge-…-ab-in-die-zweite-Runde-rechteckig-webaufloesung.jpg
END:VEVENT
BEGIN:VEVENT
DTSTART;VALUE=DATE:20250507
DTEND;VALUE=DATE:20250508
DTSTAMP:20260423T065115
CREATED:20240625T134407Z
LAST-MODIFIED:20240625T134407Z
UID:4463-1746576000-1746662399@murzarella.de
SUMMARY:Show „Bauchgesänge … ab in die zweite Runde“
DESCRIPTION:
URL:https://www.reservix.de/tickets-bauchgesaenge-ab-in-die-zweite-runde-in-eislingen-stadthalle-eislingen-am-7-5-2025/e2241441
LOCATION:Stadthalle\, 73054 Eislingen
ATTACH;FMTTYPE=image/jpeg:https://murzarella.de/wp-content/uploads/2022/11/Pressebild-Murzarella-Bauchgesaenge-…-ab-in-die-zweite-Runde-rechteckig-webaufloesung.jpg
END:VEVENT
BEGIN:VEVENT
DTSTART;VALUE=DATE:20250509
DTEND;VALUE=DATE:20250510
DTSTAMP:20260423T065115
CREATED:20241107T135749Z
LAST-MODIFIED:20241107T135749Z
UID:4550-1746748800-1746835199@murzarella.de
SUMMARY:Show „Bauchgesänge … ab in die zweite Runde“
DESCRIPTION:
URL:https://www.reservix.de/tickets-murzarellas-music-puppet-comedy-bauchgesaenge-ab-in-die-zweite-runde-in-gaggenau-klag-buehne-am-9-5-2025/e2331947
LOCATION:Klag-Bühne\, 76571 Gaggenau
ATTACH;FMTTYPE=image/jpeg:https://murzarella.de/wp-content/uploads/2022/11/Pressebild-Murzarella-Bauchgesaenge-…-ab-in-die-zweite-Runde-rechteckig-webaufloesung.jpg
END:VEVENT
BEGIN:VEVENT
DTSTART;VALUE=DATE:20250511
DTEND;VALUE=DATE:20250512
DTSTAMP:20260423T065115
CREATED:20250103T013642Z
LAST-MODIFIED:20250103T013642Z
UID:4611-1746921600-1747007999@murzarella.de
SUMMARY:Show „Bauchgesänge und andere Ungereimtheiten“
DESCRIPTION:
URL:https://www.ruk-ev.de/veranstaltungen/
LOCATION:Altes Mausoleum\, 63075 Offenbach am Main
ATTACH;FMTTYPE=image/jpeg:https://murzarella.de/wp-content/uploads/2017/08/Murzarella-Dudu-II.jpg
END:VEVENT
BEGIN:VEVENT
DTSTART;VALUE=DATE:20250515
DTEND;VALUE=DATE:20250516
DTSTAMP:20260423T065115
CREATED:20241107T143205Z
LAST-MODIFIED:20250307T002005Z
UID:4559-1747267200-1747353599@murzarella.de
SUMMARY:Lachnacht - Ausschnitte
DESCRIPTION:
URL:https://www.reservix.de/tickets-11-offenburger-lachnacht-in-offenburg-offenburg-reithalle-am-15-5-2025/e2227337
LOCATION:Reithalle im Kulturforum\, 77654 Offenburg
ATTACH;FMTTYPE=image/jpeg:https://murzarella.de/wp-content/uploads/2022/11/Pressebild-Murzarella-Bauchgesaenge-…-ab-in-die-zweite-Runde-rechteckig-webaufloesung.jpg
END:VEVENT
BEGIN:VEVENT
DTSTART;VALUE=DATE:20250516
DTEND;VALUE=DATE:20250517
DTSTAMP:20260423T065115
CREATED:20250103T013144Z
LAST-MODIFIED:20250103T013144Z
UID:4608-1747353600-1747439999@murzarella.de
SUMMARY:Show „Bauchgesänge und andere Ungereimtheiten“
DESCRIPTION:
URL:https://folktreff-bonndorf.de/events/2025-05-16-murzarella/
LOCATION:Foyer der Stadthalle\, 79848 Bonndorf
ATTACH;FMTTYPE=image/jpeg:https://murzarella.de/wp-content/uploads/2017/08/Murzarella-Dudu-II.jpg
END:VEVENT
BEGIN:VEVENT
DTSTART;VALUE=DATE:20250523
DTEND;VALUE=DATE:20250524
DTSTAMP:20260423T065115
CREATED:20241107T234035Z
LAST-MODIFIED:20241107T234035Z
UID:4564-1747958400-1748044799@murzarella.de
SUMMARY:Show „Bauchgesänge … ab in die zweite Runde“
DESCRIPTION:
URL:https://glasperlenspiel.de/
LOCATION:Das Glasperlenspiel\, 71679 Asperg
ATTACH;FMTTYPE=image/jpeg:https://murzarella.de/wp-content/uploads/2022/11/Pressebild-Murzarella-Bauchgesaenge-…-ab-in-die-zweite-Runde-rechteckig-webaufloesung.jpg
END:VEVENT
BEGIN:VEVENT
DTSTART;VALUE=DATE:20250525
DTEND;VALUE=DATE:20250526
DTSTAMP:20260423T065115
CREATED:20241001T140639Z
LAST-MODIFIED:20241001T140639Z
UID:4515-1748131200-1748217599@murzarella.de
SUMMARY:Lachnacht -Ausschnitte-
DESCRIPTION:
URL:https://koenig-albert-theater.de/spielplan/veranstaltung/13287
LOCATION:König Albert Theater\, 08645 Bad Elster
ATTACH;FMTTYPE=image/jpeg:https://murzarella.de/wp-content/uploads/2017/08/Murzarella-Dudu-II.jpg
END:VEVENT
END:VCALENDAR