BEGIN:VCALENDAR
VERSION:2.0
PRODID:-//Murzarella - ECPv6.15.17.1//NONSGML v1.0//EN
CALSCALE:GREGORIAN
METHOD:PUBLISH
X-WR-CALNAME:Murzarella
X-ORIGINAL-URL:https://murzarella.de
X-WR-CALDESC:Veranstaltungen für Murzarella
REFRESH-INTERVAL;VALUE=DURATION:PT1H
X-Robots-Tag:noindex
X-PUBLISHED-TTL:PT1H
BEGIN:VTIMEZONE
TZID:Europe/Berlin
BEGIN:DAYLIGHT
TZOFFSETFROM:+0100
TZOFFSETTO:+0200
TZNAME:CEST
DTSTART:20240331T010000
END:DAYLIGHT
BEGIN:STANDARD
TZOFFSETFROM:+0200
TZOFFSETTO:+0100
TZNAME:CET
DTSTART:20241027T010000
END:STANDARD
BEGIN:DAYLIGHT
TZOFFSETFROM:+0100
TZOFFSETTO:+0200
TZNAME:CEST
DTSTART:20250330T010000
END:DAYLIGHT
BEGIN:STANDARD
TZOFFSETFROM:+0200
TZOFFSETTO:+0100
TZNAME:CET
DTSTART:20251026T010000
END:STANDARD
BEGIN:DAYLIGHT
TZOFFSETFROM:+0100
TZOFFSETTO:+0200
TZNAME:CEST
DTSTART:20260329T010000
END:DAYLIGHT
BEGIN:STANDARD
TZOFFSETFROM:+0200
TZOFFSETTO:+0100
TZNAME:CET
DTSTART:20261025T010000
END:STANDARD
END:VTIMEZONE
BEGIN:VEVENT
DTSTART;VALUE=DATE:20251001
DTEND;VALUE=DATE:20251002
DTSTAMP:20260422T214457
CREATED:20250307T000629Z
LAST-MODIFIED:20250505T210115Z
UID:4682-1759276800-1759363199@murzarella.de
SUMMARY:Candlelight Songs - Chris de Burg-Tribute! Achtung! Mal ganz was anderes. Mal ohne Puppen\, mit Hennes Bender und Helmut Sanftenschneider. Einmalig und nur einmal!
DESCRIPTION:
URL:https://www.reservix.de/tickets-candlelight-songs-chris-de-burgh-tribute-in-dortmund-cabaret-queue-am-1-10-2025/e2382378
LOCATION:Cabaret Queue\, 44263 Dortmund
ATTACH;FMTTYPE=image/jpeg:https://murzarella.de/wp-content/uploads/2025/03/ChrisdeBurghTribute_Cover-bearb_Quadrat.jpg
END:VEVENT
BEGIN:VEVENT
DTSTART;VALUE=DATE:20251002
DTEND;VALUE=DATE:20251003
DTSTAMP:20260422T214457
CREATED:20240509T162356Z
LAST-MODIFIED:20250128T014212Z
UID:4420-1759363200-1759449599@murzarella.de
SUMMARY:Bauchgesänge... "Best of"
DESCRIPTION:
URL:https://www.reservix.de/tickets-murzarella-music-puppet-comedy-best-of-in-hannover-die-kleinkunstbuehne-hannover-am-2-10-2025/e2257249
LOCATION:Die Kleinkunstbühne\, 30655 Hannover
ATTACH;FMTTYPE=image/jpeg:https://murzarella.de/wp-content/uploads/2024/10/Montage-Kopfgrafik-10-2024-1.jpg
END:VEVENT
BEGIN:VEVENT
DTSTART;VALUE=DATE:20251003
DTEND;VALUE=DATE:20251004
DTSTAMP:20260422T214457
CREATED:20250306T235722Z
LAST-MODIFIED:20250306T235722Z
UID:4680-1759449600-1759535999@murzarella.de
SUMMARY:Show „Bauchgesänge … ab in die zweite Runde“
DESCRIPTION:
URL:https://www.eventim.de/event/murzarella-sabine-murza-murzarellas-music-puppet-show-bauchgesaenge-ab-in-die-zweite-runde-kleinkunstbuehne-springe-19256787/?srsltid=AfmBOorbPE6Yg2fIJtykzkPedR-TyarRb9XatuZeQitstIxQyGXyJ4Qt
LOCATION:Die KleinkunstBühne\, 31832 Springe
ATTACH;FMTTYPE=image/jpeg:https://murzarella.de/wp-content/uploads/2022/11/Pressebild-Murzarella-Bauchgesaenge-…-ab-in-die-zweite-Runde-rechteckig-webaufloesung.jpg
END:VEVENT
BEGIN:VEVENT
DTSTART;VALUE=DATE:20251004
DTEND;VALUE=DATE:20251005
DTSTAMP:20260422T214457
CREATED:20250218T010154Z
LAST-MODIFIED:20250218T010154Z
UID:4662-1759536000-1759622399@murzarella.de
SUMMARY:Show „Bauchgesänge und andere Ungereimtheiten“
DESCRIPTION:
URL:https://www.lindencult.de/tickets/
LOCATION:LindenCult\, 35781 Weilburg
ATTACH;FMTTYPE=image/jpeg:https://murzarella.de/wp-content/uploads/2017/08/Murzarella-Dudu-II.jpg
END:VEVENT
BEGIN:VEVENT
DTSTART;VALUE=DATE:20251010
DTEND;VALUE=DATE:20251011
DTSTAMP:20260422T214457
CREATED:20231231T023322Z
LAST-MODIFIED:20240324T222920Z
UID:4220-1760054400-1760140799@murzarella.de
SUMMARY:Show „Bauchgesänge und andere Ungereimtheiten“
DESCRIPTION:
URL:https://www.reservix.de/tickets-murzarellas-music-puppet-show-bauchgesaenge-und-andere-ungereimtheiten-in-kressbronn-am-bodensee-festhalle-am-10-10-2025/e2183744
LOCATION:Festhalle\, 88079 Kressbronn am Bodensee
ATTACH;FMTTYPE=image/jpeg:https://murzarella.de/wp-content/uploads/2017/08/Murzarella-Dudu-II.jpg
END:VEVENT
BEGIN:VEVENT
DTSTART;VALUE=DATE:20251011
DTEND;VALUE=DATE:20251012
DTSTAMP:20260422T214457
CREATED:20241001T134845Z
LAST-MODIFIED:20250721T112955Z
UID:4507-1760140800-1760227199@murzarella.de
SUMMARY:Stockach lacht (Mixed Show) – Ausschnitte
DESCRIPTION:
URL:https://www.stockach.de/fileadmin/Dateien/Bilder/Kulturamt/Kleinkunst/2023-2024/WEB_17475_KulturamtSto_KleinkunstBrosch_2024-25.pdf
LOCATION:Jahnhalle\, 78333 Stockach.
ATTACH;FMTTYPE=image/jpeg:https://murzarella.de/wp-content/uploads/2017/08/Murzarella-Dudu-II.jpg
END:VEVENT
BEGIN:VEVENT
DTSTART;VALUE=DATE:20251017
DTEND;VALUE=DATE:20251018
DTSTAMP:20260422T214457
CREATED:20241113T214039Z
LAST-MODIFIED:20250403T233841Z
UID:4572-1760659200-1760745599@murzarella.de
SUMMARY:Show „Bauchgesänge und andere Ungereimtheiten“
DESCRIPTION:
URL:https://www.reservix.de/tickets-murzarella-bauchgesaenge-und-andere-ungereimtheiten-in-goettingen-apex-am-17-10-2025/e2370147
LOCATION:Apex\, 37073 Göttingen
ATTACH;FMTTYPE=image/jpeg:https://murzarella.de/wp-content/uploads/2017/08/Murzarella-Dudu-II.jpg
END:VEVENT
BEGIN:VEVENT
DTSTART;VALUE=DATE:20251018
DTEND;VALUE=DATE:20251019
DTSTAMP:20260422T214457
CREATED:20250526T225619Z
LAST-MODIFIED:20250526T225619Z
UID:4772-1760745600-1760831999@murzarella.de
SUMMARY:Show „Bauchgesänge … ab in die zweite Runde“
DESCRIPTION:
URL:https://www.reservix.de/tickets-murzarella-murzarellas-music-puppet-comedy-bauchgesaenge-ab-in-die-zweite-runde-in-koeln-senftoepfchen-theater-am-18-10-2025/e2404257
LOCATION:Senftöpfchen\, 50667 Köln
ATTACH;FMTTYPE=image/jpeg:https://murzarella.de/wp-content/uploads/2022/11/Pressebild-Murzarella-Bauchgesaenge-…-ab-in-die-zweite-Runde-rechteckig-webaufloesung.jpg
END:VEVENT
BEGIN:VEVENT
DTSTART;VALUE=DATE:20251019
DTEND;VALUE=DATE:20251020
DTSTAMP:20260422T214457
CREATED:20250218T010744Z
LAST-MODIFIED:20250218T010744Z
UID:4665-1760832000-1760918399@murzarella.de
SUMMARY:Show „Bauchgesänge … ab in die zweite Runde“
DESCRIPTION:
URL:https://www.zauberkasten.de/karten-mehr/
LOCATION:Theater Zauberkasten\, 44805 Bochum-Gerthe
ATTACH;FMTTYPE=image/jpeg:https://murzarella.de/wp-content/uploads/2022/11/Pressebild-Murzarella-Bauchgesaenge-…-ab-in-die-zweite-Runde-rechteckig-webaufloesung.jpg
END:VEVENT
BEGIN:VEVENT
DTSTART;VALUE=DATE:20251024
DTEND;VALUE=DATE:20251025
DTSTAMP:20260422T214457
CREATED:20250213T120825Z
LAST-MODIFIED:20250721T112828Z
UID:4651-1761264000-1761350399@murzarella.de
SUMMARY:Show „Bauchgesänge – Best of“
DESCRIPTION:
URL:https://rantastic.com/event/2331940-murzarellas-music-puppet-comedy-bauchgesaenge-best-of/?from=23521
LOCATION:Rantastic\, 76532 Baden-Baden
ATTACH;FMTTYPE=image/jpeg:https://murzarella.de/wp-content/uploads/2024/10/Montage-Kopfgrafik-10-2024-1.jpg
END:VEVENT
BEGIN:VEVENT
DTSTART;VALUE=DATE:20251025
DTEND;VALUE=DATE:20251026
DTSTAMP:20260422T214457
CREATED:20250218T210819Z
LAST-MODIFIED:20250218T210819Z
UID:4674-1761350400-1761436799@murzarella.de
SUMMARY:Show „Bauchgesänge und andere Ungereimtheiten“
DESCRIPTION:
URL:https://stadt-germersheim.reservix.de/p/reservix/event/2380048
LOCATION:Konzertsaal im Kulturzentrum Hufeisen\, 76726 Germersheim
ATTACH;FMTTYPE=image/jpeg:https://murzarella.de/wp-content/uploads/2017/08/Murzarella-Dudu-II.jpg
END:VEVENT
BEGIN:VEVENT
DTSTART;VALUE=DATE:20251029
DTEND;VALUE=DATE:20251030
DTSTAMP:20260422T214457
CREATED:20251025T231834Z
LAST-MODIFIED:20251025T231834Z
UID:4855-1761696000-1761782399@murzarella.de
SUMMARY:Dei Länd\, mei Länd -Ausschnitte-
DESCRIPTION:
URL:javascript:return null;
LOCATION:Das Sandkorn\, 76133 Karlsruhe
ATTACH;FMTTYPE=image/jpeg:https://murzarella.de/wp-content/uploads/2024/10/Montage-Kopfgrafik-10-2024-1.jpg
END:VEVENT
END:VCALENDAR