BEGIN:VCALENDAR
VERSION:2.0
PRODID:-//Murzarella - ECPv6.15.17.1//NONSGML v1.0//EN
CALSCALE:GREGORIAN
METHOD:PUBLISH
X-WR-CALNAME:Murzarella
X-ORIGINAL-URL:https://murzarella.de
X-WR-CALDESC:Veranstaltungen für Murzarella
REFRESH-INTERVAL;VALUE=DURATION:PT1H
X-Robots-Tag:noindex
X-PUBLISHED-TTL:PT1H
BEGIN:VTIMEZONE
TZID:Europe/Berlin
BEGIN:DAYLIGHT
TZOFFSETFROM:+0100
TZOFFSETTO:+0200
TZNAME:CEST
DTSTART:20240331T010000
END:DAYLIGHT
BEGIN:STANDARD
TZOFFSETFROM:+0200
TZOFFSETTO:+0100
TZNAME:CET
DTSTART:20241027T010000
END:STANDARD
BEGIN:DAYLIGHT
TZOFFSETFROM:+0100
TZOFFSETTO:+0200
TZNAME:CEST
DTSTART:20250330T010000
END:DAYLIGHT
BEGIN:STANDARD
TZOFFSETFROM:+0200
TZOFFSETTO:+0100
TZNAME:CET
DTSTART:20251026T010000
END:STANDARD
BEGIN:DAYLIGHT
TZOFFSETFROM:+0100
TZOFFSETTO:+0200
TZNAME:CEST
DTSTART:20260329T010000
END:DAYLIGHT
BEGIN:STANDARD
TZOFFSETFROM:+0200
TZOFFSETTO:+0100
TZNAME:CET
DTSTART:20261025T010000
END:STANDARD
END:VTIMEZONE
BEGIN:VEVENT
DTSTART;VALUE=DATE:20251203
DTEND;VALUE=DATE:20251204
DTSTAMP:20260422T181143
CREATED:20250218T210449Z
LAST-MODIFIED:20251202T233241Z
UID:4670-1764720000-1764806399@murzarella.de
SUMMARY:Show „Bauchgesänge und andere Ungereimtheiten“
DESCRIPTION:
URL:https://www.eventbrite.de/e/2000-murzarella-music-puppet-show-tickets-921038630337
LOCATION:Walzwerk\, 50259 Pulheim
ATTACH;FMTTYPE=image/jpeg:https://murzarella.de/wp-content/uploads/2017/08/Murzarella-Dudu-II.jpg
END:VEVENT
BEGIN:VEVENT
DTSTART;VALUE=DATE:20251205
DTEND;VALUE=DATE:20251206
DTSTAMP:20260422T181143
CREATED:20250103T011128Z
LAST-MODIFIED:20251202T232954Z
UID:4600-1764892800-1764979199@murzarella.de
SUMMARY:Show „Bauchgesänge und andere Ungereimtheiten“
DESCRIPTION:
URL:https://www.kulturheimatmunster.de/kultur-und-heimatverein-munster-e-v/jahresprogramm-2025/
LOCATION:NEU: Stadtbücherei Munster\, 29633 Munster
ATTACH;FMTTYPE=image/jpeg:https://murzarella.de/wp-content/uploads/2017/08/Murzarella-Dudu-II.jpg
END:VEVENT
BEGIN:VEVENT
DTSTART;VALUE=DATE:20251206
DTEND;VALUE=DATE:20251207
DTSTAMP:20260422T181143
CREATED:20241116T185204Z
LAST-MODIFIED:20241116T185204Z
UID:4575-1764979200-1765065599@murzarella.de
SUMMARY:Show „Bauchgesänge … ab in die zweite Runde“
DESCRIPTION:
URL:https://www.reservix.de/tickets-31-festival-der-kleinkunst-murzarella-bauchgesaengeab-in-die-zweite-runde-in-wilhelmshaven-pumpwerk-am-6-12-2025/e2335917
LOCATION:Kulturzentrum Pumpwerk\, 26382  Wilhelmshaven
ATTACH;FMTTYPE=image/jpeg:https://murzarella.de/wp-content/uploads/2022/11/Pressebild-Murzarella-Bauchgesaenge-…-ab-in-die-zweite-Runde-rechteckig-webaufloesung.jpg
END:VEVENT
BEGIN:VEVENT
DTSTART;VALUE=DATE:20251211
DTEND;VALUE=DATE:20251212
DTSTAMP:20260422T181143
CREATED:20250131T011741Z
LAST-MODIFIED:20250131T011741Z
UID:4636-1765411200-1765497599@murzarella.de
SUMMARY:Show „Bauchgesänge … ab in die zweite Runde“
DESCRIPTION:
URL:https://www.hoftheater.org/buehne/programm.html
LOCATION:Hoftheater\, 88255 Baienfurt
ATTACH;FMTTYPE=image/jpeg:https://murzarella.de/wp-content/uploads/2022/11/Pressebild-Murzarella-Bauchgesaenge-…-ab-in-die-zweite-Runde-rechteckig-webaufloesung.jpg
END:VEVENT
BEGIN:VEVENT
DTSTART;VALUE=DATE:20251214
DTEND;VALUE=DATE:20251215
DTSTAMP:20260422T181143
CREATED:20250212T010639Z
LAST-MODIFIED:20250721T112541Z
UID:4649-1765670400-1765756799@murzarella.de
SUMMARY:Show „Bauchgesänge – Best of“
DESCRIPTION:
URL:https://www.reservix.de/tickets-murzarella-bauchgesaenge-best-of-in-weinheim-alte-druckerei-am-14-12-2025/e2371613
LOCATION:Kulturbühne Alte Druckerei\, 69469 Weinheim
ATTACH;FMTTYPE=image/jpeg:https://murzarella.de/wp-content/uploads/2024/10/Montage-Kopfgrafik-10-2024-1.jpg
END:VEVENT
END:VCALENDAR