BEGIN:VCALENDAR
VERSION:2.0
PRODID:-//Murzarella - ECPv6.15.17.1//NONSGML v1.0//EN
CALSCALE:GREGORIAN
METHOD:PUBLISH
X-ORIGINAL-URL:https://murzarella.de
X-WR-CALDESC:Veranstaltungen für Murzarella
REFRESH-INTERVAL;VALUE=DURATION:PT1H
X-Robots-Tag:noindex
X-PUBLISHED-TTL:PT1H
BEGIN:VTIMEZONE
TZID:Europe/Berlin
BEGIN:DAYLIGHT
TZOFFSETFROM:+0100
TZOFFSETTO:+0200
TZNAME:CEST
DTSTART:20250330T010000
END:DAYLIGHT
BEGIN:STANDARD
TZOFFSETFROM:+0200
TZOFFSETTO:+0100
TZNAME:CET
DTSTART:20251026T010000
END:STANDARD
BEGIN:DAYLIGHT
TZOFFSETFROM:+0100
TZOFFSETTO:+0200
TZNAME:CEST
DTSTART:20260329T010000
END:DAYLIGHT
BEGIN:STANDARD
TZOFFSETFROM:+0200
TZOFFSETTO:+0100
TZNAME:CET
DTSTART:20261025T010000
END:STANDARD
BEGIN:DAYLIGHT
TZOFFSETFROM:+0100
TZOFFSETTO:+0200
TZNAME:CEST
DTSTART:20270328T010000
END:DAYLIGHT
BEGIN:STANDARD
TZOFFSETFROM:+0200
TZOFFSETTO:+0100
TZNAME:CET
DTSTART:20271031T010000
END:STANDARD
END:VTIMEZONE
BEGIN:VEVENT
DTSTART;VALUE=DATE:20260108
DTEND;VALUE=DATE:20260109
DTSTAMP:20260422T161428
CREATED:20250111T142103Z
LAST-MODIFIED:20250111T142154Z
UID:4615-1767830400-1767916799@murzarella.de
SUMMARY:Show „Bauchgesänge … ab in die zweite Runde“
DESCRIPTION:
URL:https://wuehlmaeuse.de/veranstaltung/murzarella-puppet-bauchgesaenge/ticket/45129/
LOCATION:Theater „Die Wühlmäuse“\, 14052 Berlin
ATTACH;FMTTYPE=image/jpeg:https://murzarella.de/wp-content/uploads/2022/11/Pressebild-Murzarella-Bauchgesaenge-…-ab-in-die-zweite-Runde-rechteckig-webaufloesung.jpg
END:VEVENT
BEGIN:VEVENT
DTSTART;VALUE=DATE:20260110
DTEND;VALUE=DATE:20260111
DTSTAMP:20260422T161428
CREATED:20260104T170314Z
LAST-MODIFIED:20260104T170314Z
UID:4937-1768003200-1768089599@murzarella.de
SUMMARY:Gala Prunksitzung – Mixed Show – Ausschnitte
DESCRIPTION:
URL:https://www.vfg-georgensgmünd.de/
LOCATION:Turnhalle Dr. Mehler Schule\, 91126 Georgensgmünd
ATTACH;FMTTYPE=image/jpeg:https://murzarella.de/wp-content/uploads/2022/11/Pressebild-Murzarella-Bauchgesaenge-…-ab-in-die-zweite-Runde-rechteckig-webaufloesung.jpg
END:VEVENT
BEGIN:VEVENT
DTSTART;VALUE=DATE:20260115
DTEND;VALUE=DATE:20260116
DTSTAMP:20260422T161428
CREATED:20250314T182912Z
LAST-MODIFIED:20250314T182956Z
UID:4695-1768435200-1768521599@murzarella.de
SUMMARY:Show „Bauchgesänge … ab in die zweite Runde“
DESCRIPTION:
URL:https://www.westticket.de/event/murzarellas-music-puppet-show-hansa-theater-hoerde-19874344/?affiliate=5WT
LOCATION:Hansa Theater Hörde\, 44263 Dortmund
ATTACH;FMTTYPE=image/jpeg:https://murzarella.de/wp-content/uploads/2022/11/Pressebild-Murzarella-Bauchgesaenge-…-ab-in-die-zweite-Runde-rechteckig-webaufloesung.jpg
END:VEVENT
BEGIN:VEVENT
DTSTART;VALUE=DATE:20260117
DTEND;VALUE=DATE:20260118
DTSTAMP:20260422T161428
CREATED:20251128T145019Z
LAST-MODIFIED:20251128T145019Z
UID:4925-1768608000-1768694399@murzarella.de
SUMMARY:Schüttorfer Winterzauber - Die beliebte Varieté Show -Ausschnitte-
DESCRIPTION:
URL:https://www.reservix.de/tickets-11-schuettorfer-winterzauber-die-beliebte-variete-show-in-schuettorf-theater-der-obergrafschaft-am-17-1-2026/e2466969
LOCATION:Theater der Obergrafschaft\, 48465 Schüttorf
ATTACH;FMTTYPE=image/jpeg:https://murzarella.de/wp-content/uploads/2022/11/Pressebild-Murzarella-Bauchgesaenge-…-ab-in-die-zweite-Runde-rechteckig-webaufloesung.jpg
END:VEVENT
BEGIN:VEVENT
DTSTART;VALUE=DATE:20260123
DTEND;VALUE=DATE:20260124
DTSTAMP:20260422T161428
CREATED:20250607T001217Z
LAST-MODIFIED:20250607T001217Z
UID:4788-1769126400-1769212799@murzarella.de
SUMMARY:Show „Bauchgesänge … ab in die zweite Runde“
DESCRIPTION:
URL:https://www.risches.de/kleinkunst/
LOCATION:Risches Kleinkunstbühne\, 57489 Drolshagen
ATTACH;FMTTYPE=image/jpeg:https://murzarella.de/wp-content/uploads/2022/11/Pressebild-Murzarella-Bauchgesaenge-…-ab-in-die-zweite-Runde-rechteckig-webaufloesung.jpg
END:VEVENT
BEGIN:VEVENT
DTSTART;VALUE=DATE:20260125
DTEND;VALUE=DATE:20260126
DTSTAMP:20260422T161428
CREATED:20250723T124106Z
LAST-MODIFIED:20251202T233745Z
UID:4821-1769299200-1769385599@murzarella.de
SUMMARY:Show „Bauchgesänge und andere Ungereimtheiten“
DESCRIPTION:
URL:https://www.kath-kirche-hannover.de/service/veranstaltungen/details/murzarellas-music-puppet-show/
LOCATION:Gemeindesaal St. Adalbert\, 30419 Hannover
ATTACH;FMTTYPE=image/jpeg:https://murzarella.de/wp-content/uploads/2017/08/Murzarella-Dudu-II.jpg
END:VEVENT
BEGIN:VEVENT
DTSTART;VALUE=DATE:20260127
DTEND;VALUE=DATE:20260128
DTSTAMP:20260422T161428
CREATED:20251129T132306Z
LAST-MODIFIED:20251129T132306Z
UID:4929-1769472000-1769558399@murzarella.de
SUMMARY:Frauenkracher -Ausschnitte-
DESCRIPTION:
URL:https://www.eventim.de/event/frauenkracher-die-comedy-mixed-show-kulturhaus-luedenscheid-20391683/?srsltid=AfmBOopfaqlmbaQMKtNCtalT3K-Nayql99t1czVk5KG9t3EjpsNhgJnm
LOCATION:Kulturhaus\, 58511 Lüdenscheid
ATTACH;FMTTYPE=image/jpeg:https://murzarella.de/wp-content/uploads/2022/11/Pressebild-Murzarella-Bauchgesaenge-…-ab-in-die-zweite-Runde-rechteckig-webaufloesung.jpg
END:VEVENT
BEGIN:VEVENT
DTSTART;VALUE=DATE:20260129
DTEND;VALUE=DATE:20260130
DTSTAMP:20260422T161428
CREATED:20251128T141512Z
LAST-MODIFIED:20251128T141512Z
UID:4911-1769644800-1769731199@murzarella.de
SUMMARY:Show „Bauchgesänge … ab in die zweite Runde“
DESCRIPTION:
URL:https://www.gmuender-vhs.de/programm/regionales-bildungszentrum-vhs-vor-ort/iggingen/kurs/Kabarett-Bauchgesaenge-ab-in-die-2te-Runde-Murzarella-Music-Puppet-Comedy/Y204750
LOCATION:Schwäbisch Gmünder Volkshochschule e. V. \, 73525 Schwäbisch Gmünd
ATTACH;FMTTYPE=image/jpeg:https://murzarella.de/wp-content/uploads/2022/11/Pressebild-Murzarella-Bauchgesaenge-…-ab-in-die-zweite-Runde-rechteckig-webaufloesung.jpg
END:VEVENT
BEGIN:VEVENT
DTSTART;VALUE=DATE:20260130
DTEND;VALUE=DATE:20260131
DTSTAMP:20260422T161428
CREATED:20250225T122114Z
LAST-MODIFIED:20250925T152637Z
UID:4678-1769731200-1769817599@murzarella.de
SUMMARY:Show „Bauchgesänge … ab in die zweite Runde“
DESCRIPTION:
URL:https://www.unterhaus-mainz.de/programm/murzarellas-music-puppet-comedy/
LOCATION:Unterhaus\, 55116 Mainz
ATTACH;FMTTYPE=image/jpeg:https://murzarella.de/wp-content/uploads/2022/11/Pressebild-Murzarella-Bauchgesaenge-…-ab-in-die-zweite-Runde-rechteckig-webaufloesung.jpg
END:VEVENT
BEGIN:VEVENT
DTSTART;VALUE=DATE:20260131
DTEND;VALUE=DATE:20260201
DTSTAMP:20260422T161428
CREATED:20251025T231608Z
LAST-MODIFIED:20251025T231608Z
UID:4853-1769817600-1769903999@murzarella.de
SUMMARY:Show „Bauchgesänge – Best of“
DESCRIPTION:
URL:https://www.reservix.de/tickets-bauchgesaenge-best-of-music-puppet-comedy-mit-murzarella-in-bad-nauheim-theater-am-park-am-31-1-2026/e2426216
LOCATION:Theater am Park\, 61231 Bad Nauheim
ATTACH;FMTTYPE=image/jpeg:https://murzarella.de/wp-content/uploads/2025/09/Pressebild-Murzarella-Bauchgesaenge-…-Best-of-Quadrat-webaufloesung.jpg
END:VEVENT
END:VCALENDAR