BEGIN:VCALENDAR
VERSION:2.0
PRODID:-//Murzarella - ECPv6.15.17.1//NONSGML v1.0//EN
CALSCALE:GREGORIAN
METHOD:PUBLISH
X-WR-CALNAME:Murzarella
X-ORIGINAL-URL:https://murzarella.de
X-WR-CALDESC:Veranstaltungen für Murzarella
REFRESH-INTERVAL;VALUE=DURATION:PT1H
X-Robots-Tag:noindex
X-PUBLISHED-TTL:PT1H
BEGIN:VTIMEZONE
TZID:Europe/Berlin
BEGIN:DAYLIGHT
TZOFFSETFROM:+0100
TZOFFSETTO:+0200
TZNAME:CEST
DTSTART:20250330T010000
END:DAYLIGHT
BEGIN:STANDARD
TZOFFSETFROM:+0200
TZOFFSETTO:+0100
TZNAME:CET
DTSTART:20251026T010000
END:STANDARD
BEGIN:DAYLIGHT
TZOFFSETFROM:+0100
TZOFFSETTO:+0200
TZNAME:CEST
DTSTART:20260329T010000
END:DAYLIGHT
BEGIN:STANDARD
TZOFFSETFROM:+0200
TZOFFSETTO:+0100
TZNAME:CET
DTSTART:20261025T010000
END:STANDARD
BEGIN:DAYLIGHT
TZOFFSETFROM:+0100
TZOFFSETTO:+0200
TZNAME:CEST
DTSTART:20270328T010000
END:DAYLIGHT
BEGIN:STANDARD
TZOFFSETFROM:+0200
TZOFFSETTO:+0100
TZNAME:CET
DTSTART:20271031T010000
END:STANDARD
END:VTIMEZONE
BEGIN:VEVENT
DTSTART;VALUE=DATE:20260201
DTEND;VALUE=DATE:20260202
DTSTAMP:20260422T143206
CREATED:20250409T153729Z
LAST-MODIFIED:20250409T153729Z
UID:4734-1769904000-1769990399@murzarella.de
SUMMARY:Show „Bauchgesänge … ab in die zweite Runde“
DESCRIPTION:
URL:https://www.px-de-dom.com
LOCATION:PX de Dom (Jakobuskirche)\, 68307 Mannheim
ATTACH;FMTTYPE=image/jpeg:https://murzarella.de/wp-content/uploads/2022/11/Pressebild-Murzarella-Bauchgesaenge-…-ab-in-die-zweite-Runde-rechteckig-webaufloesung.jpg
END:VEVENT
BEGIN:VEVENT
DTSTART;VALUE=DATE:20260206
DTEND;VALUE=DATE:20260207
DTSTAMP:20260422T143206
CREATED:20250508T165908Z
LAST-MODIFIED:20250508T165908Z
UID:4755-1770336000-1770422399@murzarella.de
SUMMARY:Comedy Event -Mixed Show- Ausschnitte
DESCRIPTION:
URL:https://www.reservix.de/tickets-comedy-event-mit-helge-thun-murzarella-quichotte-und-jens-ohle-in-leonberg-stadthalle-am-6-2-2026/e2396616
LOCATION:Stadthalle\, 71229 Leonberg
ATTACH;FMTTYPE=image/jpeg:https://murzarella.de/wp-content/uploads/2022/11/Pressebild-Murzarella-Bauchgesaenge-…-ab-in-die-zweite-Runde-rechteckig-webaufloesung.jpg
END:VEVENT
BEGIN:VEVENT
DTSTART;VALUE=DATE:20260207
DTEND;VALUE=DATE:20260208
DTSTAMP:20260422T143206
CREATED:20250722T121712Z
LAST-MODIFIED:20250722T121712Z
UID:4814-1770422400-1770508799@murzarella.de
SUMMARY:Show „Bauchgesänge und andere Ungereimtheiten“
DESCRIPTION:
URL:https://www.mitteldeutsches-theater.de/produktionen/murzarella-murzarellas-music-puppet-show-bauchgesaenge-und-andere-ungereimtheiten.html?ID_Vorstellung=634&m=2 https://www.eventim.de/event/murzarella-marienkirche-20484596/
LOCATION:Mitteldeutsches Theater\, 06844 Dessau-Roßlau
ATTACH;FMTTYPE=image/jpeg:https://murzarella.de/wp-content/uploads/2017/08/Murzarella-Dudu-II.jpg
END:VEVENT
BEGIN:VEVENT
DTSTART;VALUE=DATE:20260208
DTEND;VALUE=DATE:20260209
DTSTAMP:20260422T143206
CREATED:20250218T004147Z
LAST-MODIFIED:20250218T004147Z
UID:4657-1770508800-1770595199@murzarella.de
SUMMARY:Show „Bauchgesänge … ab in die zweite Runde“
DESCRIPTION:
URL:https://www.eventim.de/event/murzarellas-music-puppet-show-bauchgesaenge-ab-in-die-zweite-runde-gutmann-am-dutzendteich-19729980/?srsltid=AfmBOootpRy6vIOI0XDSAqM4CYF0T6vctS97UykLyyX4JkpHuSbXYlJi
LOCATION:Gutmann am Dutzendteich „Volksbühne Wanner“\, 90478 Nürnberg
ATTACH;FMTTYPE=image/jpeg:https://murzarella.de/wp-content/uploads/2022/11/Pressebild-Murzarella-Bauchgesaenge-…-ab-in-die-zweite-Runde-rechteckig-webaufloesung.jpg
END:VEVENT
BEGIN:VEVENT
DTSTART;VALUE=DATE:20260212
DTEND;VALUE=DATE:20260213
DTSTAMP:20260422T143206
CREATED:20260114T212317Z
LAST-MODIFIED:20260114T212432Z
UID:4955-1770854400-1770940799@murzarella.de
SUMMARY:Show „Bauchgesänge und andere Ungereimtheiten“
DESCRIPTION:
URL:https://tickets.postbauer-heng.de/Murzarella/
LOCATION:Deutschordensschloss\, 92353 Postbauer-Heng
ATTACH;FMTTYPE=image/jpeg:https://murzarella.de/wp-content/uploads/2017/08/Murzarella-Dudu-II.jpg
END:VEVENT
BEGIN:VEVENT
DTSTART;VALUE=DATE:20260219
DTEND;VALUE=DATE:20260220
DTSTAMP:20260422T143206
CREATED:20250429T220719Z
LAST-MODIFIED:20250429T220719Z
UID:4738-1771459200-1771545599@murzarella.de
SUMMARY:Show „Bauchgesänge und andere Ungereimtheiten“
DESCRIPTION:
URL:https://werkhaus-krefeld.de/werkhaus-ev/vorverkauf/
LOCATION:Südbahnhof\, 47805 Krefeld
ATTACH;FMTTYPE=image/jpeg:https://murzarella.de/wp-content/uploads/2017/08/Murzarella-Dudu-II.jpg
END:VEVENT
BEGIN:VEVENT
DTSTART;VALUE=DATE:20260220
DTEND;VALUE=DATE:20260221
DTSTAMP:20260422T143206
CREATED:20250330T003023Z
LAST-MODIFIED:20250508T161008Z
UID:4702-1771545600-1771631999@murzarella.de
SUMMARY:Show „Bauchgesänge … ab in die zweite Runde“
DESCRIPTION:
URL:https://www.eventim.de/event/murzarellas-music-puppet-show-bauchgesaenge-ab-in-die-zweite-runde-universum-buende-20101491/?srsltid=AfmBOoqtRv86pm3NL5VEDpWcU0b_m2AlqPG9tB_SnntakPeRRUg-NyVx
LOCATION:Universum\, 32257 Bünde
ATTACH;FMTTYPE=image/jpeg:https://murzarella.de/wp-content/uploads/2022/11/Pressebild-Murzarella-Bauchgesaenge-…-ab-in-die-zweite-Runde-rechteckig-webaufloesung.jpg
END:VEVENT
BEGIN:VEVENT
DTSTART;VALUE=DATE:20260221
DTEND;VALUE=DATE:20260222
DTSTAMP:20260422T143206
CREATED:20250508T225919Z
LAST-MODIFIED:20250508T225919Z
UID:4760-1771632000-1771718399@murzarella.de
SUMMARY:Show „Bauchgesänge und andere Ungereimtheiten“
DESCRIPTION:
URL:https://www.uedem.de/freizeit-tourismus/kulturkiste-uedem-ev
LOCATION:Bürgerhaus\, 47589 Uedem
ATTACH;FMTTYPE=image/jpeg:https://murzarella.de/wp-content/uploads/2017/08/Murzarella-Dudu-II.jpg
END:VEVENT
BEGIN:VEVENT
DTSTART;VALUE=DATE:20260223
DTEND;VALUE=DATE:20260224
DTSTAMP:20260422T143206
CREATED:20250526T230705Z
LAST-MODIFIED:20260104T180929Z
UID:4777-1771804800-1771891199@murzarella.de
SUMMARY:Show "Bauchgesänge - Best of“
DESCRIPTION:
URL:https://www.eventim.de/event/murzarella-desimos-spezial-club-im-apollokino-20003635/?srsltid=AfmBOorT8CFXW7bGyHk7jPYOG0U8FfawkbmCLDfIA0NponXNeW6R5wAc
LOCATION:Spezialclub im Apollo\, 30451 Hannover
ATTACH;FMTTYPE=image/jpeg:https://murzarella.de/wp-content/uploads/2025/09/Pressebild-Murzarella-Bauchgesaenge-…-Best-of-Quadrat-webaufloesung.jpg
END:VEVENT
BEGIN:VEVENT
DTSTART;VALUE=DATE:20260227
DTEND;VALUE=DATE:20260228
DTSTAMP:20260422T143206
CREATED:20250309T005519Z
LAST-MODIFIED:20251202T234148Z
UID:4693-1772150400-1772236799@murzarella.de
SUMMARY:Show „Bauchgesänge … ab in die zweite Runde“
DESCRIPTION:
URL:https://theaterhaus.reservix.de/p/reservix/event/2456271
LOCATION:Theaterhaus\, 70469 Stuttgart
ATTACH;FMTTYPE=image/jpeg:https://murzarella.de/wp-content/uploads/2022/11/Pressebild-Murzarella-Bauchgesaenge-…-ab-in-die-zweite-Runde-rechteckig-webaufloesung.jpg
END:VEVENT
BEGIN:VEVENT
DTSTART;VALUE=DATE:20260228
DTEND;VALUE=DATE:20260301
DTSTAMP:20260422T143206
CREATED:20250607T001506Z
LAST-MODIFIED:20250607T001506Z
UID:4792-1772236800-1772323199@murzarella.de
SUMMARY:Show „Bauchgesänge … ab in die zweite Runde“
DESCRIPTION:
URL:https://www.kkfdornhan.de/vorverkauf/
LOCATION:Farrenstall\, 72175 Dornhan
ATTACH;FMTTYPE=image/jpeg:https://murzarella.de/wp-content/uploads/2022/11/Pressebild-Murzarella-Bauchgesaenge-…-ab-in-die-zweite-Runde-rechteckig-webaufloesung.jpg
END:VEVENT
END:VCALENDAR