BEGIN:VCALENDAR
VERSION:2.0
PRODID:-//Murzarella - ECPv6.15.17.1//NONSGML v1.0//EN
CALSCALE:GREGORIAN
METHOD:PUBLISH
X-ORIGINAL-URL:https://murzarella.de
X-WR-CALDESC:Veranstaltungen für Murzarella
REFRESH-INTERVAL;VALUE=DURATION:PT1H
X-Robots-Tag:noindex
X-PUBLISHED-TTL:PT1H
BEGIN:VTIMEZONE
TZID:Europe/Berlin
BEGIN:DAYLIGHT
TZOFFSETFROM:+0100
TZOFFSETTO:+0200
TZNAME:CEST
DTSTART:20250330T010000
END:DAYLIGHT
BEGIN:STANDARD
TZOFFSETFROM:+0200
TZOFFSETTO:+0100
TZNAME:CET
DTSTART:20251026T010000
END:STANDARD
BEGIN:DAYLIGHT
TZOFFSETFROM:+0100
TZOFFSETTO:+0200
TZNAME:CEST
DTSTART:20260329T010000
END:DAYLIGHT
BEGIN:STANDARD
TZOFFSETFROM:+0200
TZOFFSETTO:+0100
TZNAME:CET
DTSTART:20261025T010000
END:STANDARD
BEGIN:DAYLIGHT
TZOFFSETFROM:+0100
TZOFFSETTO:+0200
TZNAME:CEST
DTSTART:20270328T010000
END:DAYLIGHT
BEGIN:STANDARD
TZOFFSETFROM:+0200
TZOFFSETTO:+0100
TZNAME:CET
DTSTART:20271031T010000
END:STANDARD
END:VTIMEZONE
BEGIN:VEVENT
DTSTART;VALUE=DATE:20260305
DTEND;VALUE=DATE:20260306
DTSTAMP:20260422T124936
CREATED:20250526T230223Z
LAST-MODIFIED:20250526T230223Z
UID:4774-1772668800-1772755199@murzarella.de
SUMMARY:Show „Bauchgesänge … ab in die zweite Runde“
DESCRIPTION:
URL:https://www.eventim.de/event/murzarella-haus-13-20270097/?srsltid=AfmBOoqaQ2nLThi2u2k_8ylI90F9HIrgHFP_r6B4eq28yHLW5w0eiIfm
LOCATION:Stadttheater Elmshorn\, 25336 Elmshorn
ATTACH;FMTTYPE=image/jpeg:https://murzarella.de/wp-content/uploads/2022/11/Pressebild-Murzarella-Bauchgesaenge-…-ab-in-die-zweite-Runde-rechteckig-webaufloesung.jpg
END:VEVENT
BEGIN:VEVENT
DTSTART;VALUE=DATE:20260306
DTEND;VALUE=DATE:20260307
DTSTAMP:20260422T124936
CREATED:20251120T195018Z
LAST-MODIFIED:20251120T195018Z
UID:4907-1772755200-1772841599@murzarella.de
SUMMARY:Show „Bauchgesänge und andere Ungereimtheiten“
DESCRIPTION:
URL:https://www.grossesmeer.de/veranstaltungskalender/veranstaltungstipp
LOCATION:Haus am Meer\, 26624 Südbrookmerland
ATTACH;FMTTYPE=image/jpeg:https://murzarella.de/wp-content/uploads/2017/08/Murzarella-Dudu-II.jpg
END:VEVENT
BEGIN:VEVENT
DTSTART;VALUE=DATE:20260307
DTEND;VALUE=DATE:20260308
DTSTAMP:20260422T124936
CREATED:20251108T011918Z
LAST-MODIFIED:20251108T011918Z
UID:4876-1772841600-1772927999@murzarella.de
SUMMARY:Show „Bauchgesänge … ab in die zweite Runde“
DESCRIPTION:
URL:https://windmuehle-heimsen.de
LOCATION:Windmühle Heimsen\, 32469 Petershagen
ATTACH;FMTTYPE=image/jpeg:https://murzarella.de/wp-content/uploads/2022/11/Pressebild-Murzarella-Bauchgesaenge-…-ab-in-die-zweite-Runde-rechteckig-webaufloesung.jpg
END:VEVENT
BEGIN:VEVENT
DTSTART;VALUE=DATE:20260308
DTEND;VALUE=DATE:20260309
DTSTAMP:20260422T124936
CREATED:20251108T011620Z
LAST-MODIFIED:20251108T011620Z
UID:4874-1772928000-1773014399@murzarella.de
SUMMARY:Show „Bauchgesänge … ab in die zweite Runde“
DESCRIPTION:
URL:https://www.kabarett-flin.de/spielplan-und-tickets
LOCATION:Kabarett Flin\, 40629 Düsseldorf
ATTACH;FMTTYPE=image/jpeg:https://murzarella.de/wp-content/uploads/2022/11/Pressebild-Murzarella-Bauchgesaenge-…-ab-in-die-zweite-Runde-rechteckig-webaufloesung.jpg
END:VEVENT
BEGIN:VEVENT
DTSTART;VALUE=DATE:20260312
DTEND;VALUE=DATE:20260313
DTSTAMP:20260422T124936
CREATED:20250508T161815Z
LAST-MODIFIED:20250508T161815Z
UID:4748-1773273600-1773359999@murzarella.de
SUMMARY:Show „Bauchgesänge und andere Ungereimtheiten“
DESCRIPTION:
URL:https://www.reservix.de/tickets-murzarella-bauchgesaenge-und-andere-ungereimtheiten-in-leonberg-stadthalle-am-12-3-2026/e2403651
LOCATION:Stadthalle\, 71229 Leonberg
ATTACH;FMTTYPE=image/jpeg:https://murzarella.de/wp-content/uploads/2017/08/Murzarella-Dudu-II.jpg
END:VEVENT
BEGIN:VEVENT
DTSTART;VALUE=DATE:20260313
DTEND;VALUE=DATE:20260314
DTSTAMP:20260422T124936
CREATED:20251112T135331Z
LAST-MODIFIED:20251112T135331Z
UID:4898-1773360000-1773446399@murzarella.de
SUMMARY:Show „Bauchgesänge und andere Ungereimtheiten“
DESCRIPTION:
URL:https://www.fwv-stupferich.de
LOCATION:Stupfericher Gemeindezentrum\, 76228 Karlsruhe
ATTACH;FMTTYPE=image/jpeg:https://murzarella.de/wp-content/uploads/2017/08/Murzarella-Dudu-II.jpg
END:VEVENT
BEGIN:VEVENT
DTSTART;VALUE=DATE:20260314
DTEND;VALUE=DATE:20260315
DTSTAMP:20260422T124936
CREATED:20251112T135734Z
LAST-MODIFIED:20251112T135734Z
UID:4901-1773446400-1773532799@murzarella.de
SUMMARY:Show „Bauchgesänge – Best of“
DESCRIPTION:
URL:https://www.reservix.de/tickets-murzarella-bauchgesaenge-best-of-in-riegel-am-kaiserstuhl-theater-kumedi-am-14-3-2026/e2436162
LOCATION:Theater Kumedi\, 79359 Riegel am Kaiserstuhl
ATTACH;FMTTYPE=image/jpeg:https://murzarella.de/wp-content/uploads/2025/09/Pressebild-Murzarella-Bauchgesaenge-…-Best-of-Quadrat-webaufloesung.jpg
END:VEVENT
BEGIN:VEVENT
DTSTART;VALUE=DATE:20260319
DTEND;VALUE=DATE:20260320
DTSTAMP:20260422T124936
CREATED:20250409T153051Z
LAST-MODIFIED:20250923T124148Z
UID:4732-1773878400-1773964799@murzarella.de
SUMMARY:Show „Bauchgesänge … ab in die zweite Runde“
DESCRIPTION:
URL:https://stratmanns.de/murzarella-bauchgesaenge-ab-in-die-zweite-runde-tickets-1437.html
LOCATION:Stratmanns\, 45127 Essen
ATTACH;FMTTYPE=image/jpeg:https://murzarella.de/wp-content/uploads/2022/11/Pressebild-Murzarella-Bauchgesaenge-…-ab-in-die-zweite-Runde-rechteckig-webaufloesung.jpg
END:VEVENT
BEGIN:VEVENT
DTSTART;VALUE=DATE:20260320
DTEND;VALUE=DATE:20260321
DTSTAMP:20260422T124936
CREATED:20251108T003733Z
LAST-MODIFIED:20260314T141354Z
UID:4860-1773964800-1774051199@murzarella.de
SUMMARY:Show „Bauchgesänge … ab in die zweite Runde“ (ausverkauft)
DESCRIPTION:
URL:https://www.reservix.de/tickets-murzarella-bauchgesaengeab-in-die-zweite-runde-in-wiesbaden-velvets-theater-am-20-3-2026/e2443400
LOCATION:Velvets Theater\, 65183 Wiesbaden
ATTACH;FMTTYPE=image/jpeg:https://murzarella.de/wp-content/uploads/2022/11/Pressebild-Murzarella-Bauchgesaenge-…-ab-in-die-zweite-Runde-rechteckig-webaufloesung.jpg
END:VEVENT
BEGIN:VEVENT
DTSTART;VALUE=DATE:20260321
DTEND;VALUE=DATE:20260322
DTSTAMP:20260422T124936
CREATED:20250519T215850Z
LAST-MODIFIED:20260314T142239Z
UID:4769-1774051200-1774137599@murzarella.de
SUMMARY:Show „Bauchgesänge – Best of“ (ausverkauft)
DESCRIPTION:
URL:https://www.kulturkreis-lahr.de/inhalt/programm
LOCATION:Stiftsschaffneikeller\, 77933 Lahr
ATTACH;FMTTYPE=image/jpeg:https://murzarella.de/wp-content/uploads/2025/09/Pressebild-Murzarella-Bauchgesaenge-…-Best-of-Quadrat-webaufloesung.jpg
END:VEVENT
BEGIN:VEVENT
DTSTART;VALUE=DATE:20260327
DTEND;VALUE=DATE:20260328
DTSTAMP:20260422T124936
CREATED:20250722T224727Z
LAST-MODIFIED:20260126T152722Z
UID:4818-1774569600-1774655999@murzarella.de
SUMMARY:Show „Bauchgesänge und andere Ungereimtheiten“
DESCRIPTION:
URL:https://www.mayen.de/rathaus-buergerservice/verwaltung/pressemitteilungen/pressemitteilungen-2025/juli/meisterinnenhafte-gesangs-und-schauspielkunst-trifft-geballten-humor-und-mayen-vorverkauf-gestartet/
LOCATION:Bürgerhaus Hausen\, 56727 Mayen
ATTACH;FMTTYPE=image/jpeg:https://murzarella.de/wp-content/uploads/2017/08/Murzarella-Dudu-II.jpg
END:VEVENT
BEGIN:VEVENT
DTSTART;VALUE=DATE:20260328
DTEND;VALUE=DATE:20260329
DTSTAMP:20260422T124936
CREATED:20250907T011111Z
LAST-MODIFIED:20250907T011111Z
UID:4835-1774656000-1774742399@murzarella.de
SUMMARY:Show „Bauchgesänge … ab in die zweite Runde“
DESCRIPTION:
URL:https://niebuhrg.de/shop/murzarella/
LOCATION:Theater an der Niebuhrg\, 46049 Oberhausen
ATTACH;FMTTYPE=image/jpeg:https://murzarella.de/wp-content/uploads/2022/11/Pressebild-Murzarella-Bauchgesaenge-…-ab-in-die-zweite-Runde-rechteckig-webaufloesung.jpg
END:VEVENT
BEGIN:VEVENT
DTSTART;VALUE=DATE:20260329
DTEND;VALUE=DATE:20260330
DTSTAMP:20260422T124936
CREATED:20250815T133813Z
LAST-MODIFIED:20250815T133813Z
UID:4832-1774742400-1774828799@murzarella.de
SUMMARY:Show „Bauchgesänge … ab in die zweite Runde“
DESCRIPTION:
URL:https://www.zauberkasten.de/karten-mehr/
LOCATION:Theater Zauberkasten\, 44805 Bochum-Gerthe
ATTACH;FMTTYPE=image/jpeg:https://murzarella.de/wp-content/uploads/2022/11/Pressebild-Murzarella-Bauchgesaenge-…-ab-in-die-zweite-Runde-rechteckig-webaufloesung.jpg
END:VEVENT
END:VCALENDAR