BEGIN:VCALENDAR
VERSION:2.0
PRODID:-//Murzarella - ECPv6.15.17.1//NONSGML v1.0//EN
CALSCALE:GREGORIAN
METHOD:PUBLISH
X-ORIGINAL-URL:https://murzarella.de
X-WR-CALDESC:Veranstaltungen für Murzarella
REFRESH-INTERVAL;VALUE=DURATION:PT1H
X-Robots-Tag:noindex
X-PUBLISHED-TTL:PT1H
BEGIN:VTIMEZONE
TZID:Europe/Berlin
BEGIN:DAYLIGHT
TZOFFSETFROM:+0100
TZOFFSETTO:+0200
TZNAME:CEST
DTSTART:20250330T010000
END:DAYLIGHT
BEGIN:STANDARD
TZOFFSETFROM:+0200
TZOFFSETTO:+0100
TZNAME:CET
DTSTART:20251026T010000
END:STANDARD
BEGIN:DAYLIGHT
TZOFFSETFROM:+0100
TZOFFSETTO:+0200
TZNAME:CEST
DTSTART:20260329T010000
END:DAYLIGHT
BEGIN:STANDARD
TZOFFSETFROM:+0200
TZOFFSETTO:+0100
TZNAME:CET
DTSTART:20261025T010000
END:STANDARD
BEGIN:DAYLIGHT
TZOFFSETFROM:+0100
TZOFFSETTO:+0200
TZNAME:CEST
DTSTART:20270328T010000
END:DAYLIGHT
BEGIN:STANDARD
TZOFFSETFROM:+0200
TZOFFSETTO:+0100
TZNAME:CET
DTSTART:20271031T010000
END:STANDARD
END:VTIMEZONE
BEGIN:VEVENT
DTSTART;VALUE=DATE:20261101
DTEND;VALUE=DATE:20261102
DTSTAMP:20260421T004908
CREATED:20251112T131416Z
LAST-MODIFIED:20251112T131416Z
UID:4880-1793491200-1793577599@murzarella.de
SUMMARY:Show „Bauchgesänge … ab in die zweite Runde“
DESCRIPTION:
URL:https://das-sandkorn.reservix.de/tickets-gastspiel-murzarella-bauchgesaenge-ab-in-die-zweite-runde-in-karlsruhe-das-sandkorn-fabrik-am-1-11-2026/e2471060
LOCATION:Das Sandkorn\, 76133 Karlsruhe
ATTACH;FMTTYPE=image/jpeg:https://murzarella.de/wp-content/uploads/2022/11/Pressebild-Murzarella-Bauchgesaenge-…-ab-in-die-zweite-Runde-rechteckig-webaufloesung.jpg
END:VEVENT
BEGIN:VEVENT
DTSTART;VALUE=DATE:20261106
DTEND;VALUE=DATE:20261107
DTSTAMP:20260421T004908
CREATED:20260114T224418Z
LAST-MODIFIED:20260114T224418Z
UID:5029-1793923200-1794009599@murzarella.de
SUMMARY:Show „Bauchgesänge … ab in die zweite Runde“
DESCRIPTION:
URL:https://www.ztix.de/kulturamt-reinheim/events/bauchgesaenge-ab-in-die-zweite-runde-I90LBj
LOCATION:Kulturzentrum Hofgut Reinheim\, 64354 Reinheim
ATTACH;FMTTYPE=image/jpeg:https://murzarella.de/wp-content/uploads/2022/11/Pressebild-Murzarella-Bauchgesaenge-…-ab-in-die-zweite-Runde-rechteckig-webaufloesung.jpg
END:VEVENT
BEGIN:VEVENT
DTSTART;VALUE=DATE:20261107
DTEND;VALUE=DATE:20261108
DTSTAMP:20260421T004908
CREATED:20260114T224603Z
LAST-MODIFIED:20260114T224616Z
UID:5033-1794009600-1794095999@murzarella.de
SUMMARY:Show „Bauchgesänge … ab in die zweite Runde“
DESCRIPTION:
URL:https://www.ztix.de/kulturamt-reinheim/events/bauchgesaenge-ab-in-die-zweite-runde-LAfRdP
LOCATION:Kulturzentrum Hofgut Reinheim\, 64354 Reinheim
ATTACH;FMTTYPE=image/jpeg:https://murzarella.de/wp-content/uploads/2022/11/Pressebild-Murzarella-Bauchgesaenge-…-ab-in-die-zweite-Runde-rechteckig-webaufloesung.jpg
END:VEVENT
BEGIN:VEVENT
DTSTART;VALUE=DATE:20261108
DTEND;VALUE=DATE:20261109
DTSTAMP:20260421T004908
CREATED:20260114T225033Z
LAST-MODIFIED:20260114T225033Z
UID:5036-1794096000-1794182399@murzarella.de
SUMMARY:Show „Bauchgesänge und andere Ungereimtheiten“
DESCRIPTION:
URL:https://www.kulturgemeinde-finnentrop.de/
LOCATION:Festhalle\, 57413 Finnentrop
ATTACH;FMTTYPE=image/jpeg:https://murzarella.de/wp-content/uploads/2017/08/Murzarella-Dudu-II.jpg
END:VEVENT
BEGIN:VEVENT
DTSTART;VALUE=DATE:20261112
DTEND;VALUE=DATE:20261113
DTSTAMP:20260421T004908
CREATED:20251108T005543Z
LAST-MODIFIED:20251108T010108Z
UID:4868-1794441600-1794527999@murzarella.de
SUMMARY:Show „Bauchgesänge … ab in die zweite Runde“
DESCRIPTION:
URL:https://stadtbuecherei-gladbeck.de/angebote/veranstaltungen-veranstaltungskalender/
LOCATION:Stadtbücherei\, 45964 Gladbeck
ATTACH;FMTTYPE=image/jpeg:https://murzarella.de/wp-content/uploads/2022/11/Pressebild-Murzarella-Bauchgesaenge-…-ab-in-die-zweite-Runde-rechteckig-webaufloesung.jpg
END:VEVENT
BEGIN:VEVENT
DTSTART;VALUE=DATE:20261113
DTEND;VALUE=DATE:20261114
DTSTAMP:20260421T004908
CREATED:20251018T142405Z
LAST-MODIFIED:20251018T142538Z
UID:4849-1794528000-1794614399@murzarella.de
SUMMARY:Show „Bauchgesänge … ab in die zweite Runde“
DESCRIPTION:
URL:https://www.apex-goe.de
LOCATION:Apex\, 37073 Göttingen
ATTACH;FMTTYPE=image/jpeg:https://murzarella.de/wp-content/uploads/2022/11/Pressebild-Murzarella-Bauchgesaenge-…-ab-in-die-zweite-Runde-rechteckig-webaufloesung.jpg
END:VEVENT
BEGIN:VEVENT
DTSTART;VALUE=DATE:20261114
DTEND;VALUE=DATE:20261115
DTSTAMP:20260421T004908
CREATED:20260114T215036Z
LAST-MODIFIED:20260114T215036Z
UID:4968-1794614400-1794700799@murzarella.de
SUMMARY:Show „Bauchgesänge – Best of“
DESCRIPTION:
URL:https://pumpwerk.reservix.de/p/reservix/event/2497487
LOCATION:Pumpwerk Wilhelmshaven
ATTACH;FMTTYPE=image/jpeg:https://murzarella.de/wp-content/uploads/2025/09/Pressebild-Murzarella-Bauchgesaenge-…-Best-of-Quadrat-webaufloesung.jpg
END:VEVENT
BEGIN:VEVENT
DTSTART;VALUE=DATE:20261115
DTEND;VALUE=DATE:20261116
DTSTAMP:20260421T004908
CREATED:20260114T215303Z
LAST-MODIFIED:20260114T215303Z
UID:4975-1794700800-1794787199@murzarella.de
SUMMARY:Show „Bauchgesänge – Best of“
DESCRIPTION:
URL:https://www.hansa-theater-hoerde.de/termine
LOCATION:Hansa Theater Hörde\, 44263 Dortmund
ATTACH;FMTTYPE=image/jpeg:https://murzarella.de/wp-content/uploads/2025/09/Pressebild-Murzarella-Bauchgesaenge-…-Best-of-Quadrat-webaufloesung.jpg
END:VEVENT
BEGIN:VEVENT
DTSTART;VALUE=DATE:20261120
DTEND;VALUE=DATE:20261121
DTSTAMP:20260421T004908
CREATED:20260114T222841Z
LAST-MODIFIED:20260114T222841Z
UID:5014-1795132800-1795219199@murzarella.de
SUMMARY:Show „Bauchgesänge – Best of“
DESCRIPTION:
URL:https://rantastic.com/live-programm/
LOCATION:Rantastic\, 76532 Baden-Baden
ATTACH;FMTTYPE=image/jpeg:https://murzarella.de/wp-content/uploads/2025/09/Pressebild-Murzarella-Bauchgesaenge-…-Best-of-Quadrat-webaufloesung.jpg
END:VEVENT
BEGIN:VEVENT
DTSTART;VALUE=DATE:20261121
DTEND;VALUE=DATE:20261122
DTSTAMP:20260421T004908
CREATED:20260114T225554Z
LAST-MODIFIED:20260114T225609Z
UID:5040-1795219200-1795305599@murzarella.de
SUMMARY:Kabarettwettbewerb „Amici Artium“ (Ausschnitte im Rahmenprogramm)
DESCRIPTION:
URL:https://wfh-ottobrunn.de/
LOCATION:Wolf-Ferrari-Haus\, 85521 Ottobrunn
ATTACH;FMTTYPE=image/jpeg:https://murzarella.de/wp-content/uploads/2022/11/Pressebild-Murzarella-Bauchgesaenge-…-ab-in-die-zweite-Runde-rechteckig-webaufloesung.jpg
END:VEVENT
BEGIN:VEVENT
DTSTART;VALUE=DATE:20261122
DTEND;VALUE=DATE:20261123
DTSTAMP:20260421T004908
CREATED:20260114T215638Z
LAST-MODIFIED:20260114T215638Z
UID:4978-1795305600-1795391999@murzarella.de
SUMMARY:Show „Bauchgesänge – Best of“
DESCRIPTION:
URL:https://www.glasperlenspiel.de/kartenbestellung
LOCATION:Das Glasperlenspiel\, 71679 Asperg
ATTACH;FMTTYPE=image/jpeg:https://murzarella.de/wp-content/uploads/2025/09/Pressebild-Murzarella-Bauchgesaenge-…-Best-of-Quadrat-webaufloesung.jpg
END:VEVENT
BEGIN:VEVENT
DTSTART;VALUE=DATE:20261126
DTEND;VALUE=DATE:20261127
DTSTAMP:20260421T004908
CREATED:20251018T143012Z
LAST-MODIFIED:20260228T003457Z
UID:4851-1795651200-1795737599@murzarella.de
SUMMARY:Show „Bauchgesänge … Best of“
DESCRIPTION:
URL:https://www.senftoepfchen-theater.de/programm/termin/2530151-music-puppet-comedy-best-of-koelnpremiere
LOCATION:Senftöpfchen\, 50667 Köln
ATTACH;FMTTYPE=image/jpeg:https://murzarella.de/wp-content/uploads/2025/09/Pressebild-Murzarella-Bauchgesaenge-…-Best-of-Quadrat-webaufloesung.jpg
END:VEVENT
BEGIN:VEVENT
DTSTART;VALUE=DATE:20261127
DTEND;VALUE=DATE:20261128
DTSTAMP:20260421T004908
CREATED:20260114T220930Z
LAST-MODIFIED:20260114T220930Z
UID:4994-1795737600-1795823999@murzarella.de
SUMMARY:Show „Bauchgesänge … ab in die zweite Runde“
DESCRIPTION:
URL:https://www.palue-mannheim.de/programm-tickets
LOCATION:Theater Palü\, 68239 Mannheim
ATTACH;FMTTYPE=image/jpeg:https://murzarella.de/wp-content/uploads/2022/11/Pressebild-Murzarella-Bauchgesaenge-…-ab-in-die-zweite-Runde-rechteckig-webaufloesung.jpg
END:VEVENT
BEGIN:VEVENT
DTSTART;VALUE=DATE:20261128
DTEND;VALUE=DATE:20261129
DTSTAMP:20260421T004908
CREATED:20250330T220027Z
LAST-MODIFIED:20260104T182003Z
UID:4707-1795824000-1795910399@murzarella.de
SUMMARY:Show „Bauchgesänge – Best of“
DESCRIPTION:
URL:https://hofgarten-kabarett.de
LOCATION:Hofgarten Kabarett\, 63739 Aschaffenburg
ATTACH;FMTTYPE=image/jpeg:https://murzarella.de/wp-content/uploads/2025/09/Pressebild-Murzarella-Bauchgesaenge-…-Best-of-Quadrat-webaufloesung.jpg
END:VEVENT
END:VCALENDAR